BEGIN:VCALENDAR
VERSION:2.0
PRODID:-//Konsertti- ja kongressitalo Mikaeli - Suomen kiinnostavin tapahtumatalo - ECPv6.10.1.1//NONSGML v1.0//EN
CALSCALE:GREGORIAN
METHOD:PUBLISH
X-ORIGINAL-URL:https://mikaeli.fi
X-WR-CALDESC:Events for Konsertti- ja kongressitalo Mikaeli - Suomen kiinnostavin tapahtumatalo
REFRESH-INTERVAL;VALUE=DURATION:PT1H
X-Robots-Tag:noindex
X-PUBLISHED-TTL:PT1H
BEGIN:VTIMEZONE
TZID:Europe/Helsinki
BEGIN:DAYLIGHT
TZOFFSETFROM:+0200
TZOFFSETTO:+0300
TZNAME:EEST
DTSTART:20230326T010000
END:DAYLIGHT
BEGIN:STANDARD
TZOFFSETFROM:+0300
TZOFFSETTO:+0200
TZNAME:EET
DTSTART:20231029T010000
END:STANDARD
END:VTIMEZONE
BEGIN:VEVENT
DTSTART;TZID=Europe/Helsinki:20230922T190000
DTEND;TZID=Europe/Helsinki:20230922T190000
DTSTAMP:20260419T163104
CREATED:20230612T113701Z
LAST-MODIFIED:20230825T120250Z
UID:3398-1695409200-1695409200@mikaeli.fi
SUMMARY:Mikkelin kaupunginorkesteri: SAIMAA SINFONIETTA – REINILÄISITTÄIN
DESCRIPTION:Erkki Lasonpalo\, kapellimestari\nJózsef Balog\, piano \nAntonín Dvořák: Legendat op.59\, nro 1-4\nRichard Strauss: Burleski pianolle ja orkesterille\nRobert Schumann: Sinfonia nro 3 Es-duuri “Reiniläinen” \nSaimaa Sinfonietan syyskauden ensimmäinen konsertti on romantiikan klassikoita pullollaan. Kapellimestari Erkki Lasonpalon johdolla päästään nauttimaan 1800-luvun musiikista kukkeimmillaan. \nRichard Strauss kamppaili nuorena miehenä pianolle ja orkesterille säveltämänsä teoksen\, Scherzo d-mollissa\, kanssa. Teos todettiin teknisesti liian haastavaksi ja monimutkaiseksi\, ja Strauss ohjasi tarmonsa muualle. Esiteltyään teoksen pianovirtuoosi Eugen d’Albertille\, tämä ehdotti siihen muutoksia ja muokkauksen jälkeen teos sai myös uuden nimen\, Burleski. Ajan myötä sävellyksestä tuli Straussin suosituimpia sävellyksiä\, joka kuului myös hänen omiin suosikkeihinsa tuotannossaan. Unkarilaisen huippupianistin József Balogin taituruus pääsee loistamaan tämän teknisesti haastavan\, mutta hurmaavan teoksen parissa. \nRobert Schumannin Sinfonia nro. 3 ”Reiniläinen” sai innoituksensa säveltäjän Reininmaalle tekemän matkan jälkeen. Alueen luonto ja erityisesti Kölnin katedraali tekivät vaikutuksen romantikkosäveltäjään ja niinpä Schumann sävelsi varsin lyhyessä ajassa uuden sinfoniansa suuren inspiraation vallassa. Viisiosainen teos on romanttista orkesterisointia vaikuttavimmillaan ja värikkäimmillään\, jossa on myös Beethovenin vaikutus vahvasti kuultavissa. \nTunnelmallisen ohjelman täydentää Antonín Dvořákin Legendat -sarjan neljä ensimmäistä osaa\, joissa liikutaan syvällisen mietiskelevissä tunnelmissa rikkaan orkestroinnin sävyttämänä. \nLIPUT (Mikaelin konsertti): 30 € / 27 € / 12 €\nHINTA S-ETUKORTILLA: 27 € / 25 € / 10 € \nTapahtumasta ja sen lipunmyynnistä vastaa Mikkelin kaupunginorkesteri\, yhteystiedot täältä. \nJärjestäjä: Mikkelin kaupunginorkesteri \n 
URL:https://mikaeli.fi/event/mikkelin-kaupunginorkesteri-saimaa-sinfonietta-reinilaisittain/
CATEGORIES:Musiikki,Tapahtuma
END:VEVENT
END:VCALENDAR