BEGIN:VCALENDAR
VERSION:2.0
PRODID:-//Konsertti- ja kongressitalo Mikaeli - Suomen kiinnostavin tapahtumatalo - ECPv6.10.1.1//NONSGML v1.0//EN
CALSCALE:GREGORIAN
METHOD:PUBLISH
X-WR-CALNAME:Konsertti- ja kongressitalo Mikaeli - Suomen kiinnostavin tapahtumatalo
X-ORIGINAL-URL:https://mikaeli.fi
X-WR-CALDESC:Events for Konsertti- ja kongressitalo Mikaeli - Suomen kiinnostavin tapahtumatalo
REFRESH-INTERVAL;VALUE=DURATION:PT1H
X-Robots-Tag:noindex
X-PUBLISHED-TTL:PT1H
BEGIN:VTIMEZONE
TZID:Europe/Helsinki
BEGIN:DAYLIGHT
TZOFFSETFROM:+0200
TZOFFSETTO:+0300
TZNAME:EEST
DTSTART:20230326T010000
END:DAYLIGHT
BEGIN:STANDARD
TZOFFSETFROM:+0300
TZOFFSETTO:+0200
TZNAME:EET
DTSTART:20231029T010000
END:STANDARD
END:VTIMEZONE
BEGIN:VEVENT
DTSTART;TZID=Europe/Helsinki:20230928T180000
DTEND;TZID=Europe/Helsinki:20230928T180000
DTSTAMP:20260419T145957
CREATED:20230612T114454Z
LAST-MODIFIED:20230825T120537Z
UID:3402-1695924000-1695924000@mikaeli.fi
SUMMARY:Mikkelin kaupunginorkesteri: PEER GYNT
DESCRIPTION:Erkki Lasonpalo\, kapellimestari\nLilja Haatainen\, viulu \nGiuseppe Verdi: La forza del destino -alkusoitto\nMax Bruch: Skottilainen fantasia viululle ja orkesterille op. 46\nEdvard Grieg: Peer Gynt sarjat nro 1 & 2 \nSyksyn keskellä Mikkelissä on tarjolla upea spektaakkeli\, kun kaupunginorkesteri yhdistää voimansa Sinfoniaorkesteri Vivon kanssa päätä huimaavan ohjelman parissa. \nVuonna 1874 norjalainen näytelmäkirjailija Henrik Ibsen tilasi maanmieheltään\, säveltäjä Edvard Griegiltä musiikin Peer Gynt -näytelmäänsä. Loppu on historiaa: sävellys sisältää tunnetuimpia melodioita klassisen musiikin maailmassa. Säveltäjä muokkasi myöhemmin näyttämömusiikin pohjalta kaksi orkesterisarjaa\, jotka ovat saaneet sittemmin huiman suosion. Tarjolla on hurjaa dramatiikkaa\, mutta myös elegistä lyyrisyyttä\, siis kansallisromantiikkaa parhaimmillaan. \nViulisti Lilja Haatainen on hämmästyttänyt musiikkimaailmaa viime vuosina. Vasta 12-vuotiaalla viulun huippulahjakkuudella on jo useampi viulukilpailuvoitto ja esiintymisiä ammattiorkesterien solistina niin kotimaassa kuin ulkomaillakin. Nyt Haatainen tarttuu Max Bruchin skotlantilaisista kansanlauluista ammentavaan Skottilaiseen fantasiaan viululle ja orkesterille. \nLisätään alkupalaksi vielä Giuseppe Verdin alkusoitto La forza del destino -oopperasta\, niin luvassa on takuulla ikimuistoinen konsertti-ilta. Vivon taiteellinen johtaja ja Mikkelin kaupunginorkesterin pääkapellimestari Erkki Lasonpalo luotsaa joukkojaan tässä dramaattisessa ohjelmassa. \nLIPUT: 30 € / 27 € / 12 €\nTapahtumasta ja sen lipunmyynnistä vastaa Mikkelin kaupunginorkesteri\, yhteystiedot täältä. \nJärjestäjä: Mikkelin kaupunginorkesteri yhteistyössä Sinfoniaorkesteri Vivon kanssa \n 
URL:https://mikaeli.fi/event/mikkelin-kaupunginorkesteri-peer-gynt/
CATEGORIES:Musiikki,Tapahtuma
END:VEVENT
END:VCALENDAR