BEGIN:VCALENDAR
VERSION:2.0
PRODID:-//Konsertti- ja kongressitalo Mikaeli - Suomen kiinnostavin tapahtumatalo - ECPv6.10.1.1//NONSGML v1.0//EN
CALSCALE:GREGORIAN
METHOD:PUBLISH
X-WR-CALNAME:Konsertti- ja kongressitalo Mikaeli - Suomen kiinnostavin tapahtumatalo
X-ORIGINAL-URL:https://mikaeli.fi
X-WR-CALDESC:Events for Konsertti- ja kongressitalo Mikaeli - Suomen kiinnostavin tapahtumatalo
REFRESH-INTERVAL;VALUE=DURATION:PT1H
X-Robots-Tag:noindex
X-PUBLISHED-TTL:PT1H
BEGIN:VTIMEZONE
TZID:Europe/Helsinki
BEGIN:DAYLIGHT
TZOFFSETFROM:+0200
TZOFFSETTO:+0300
TZNAME:EEST
DTSTART:20230326T010000
END:DAYLIGHT
BEGIN:STANDARD
TZOFFSETFROM:+0300
TZOFFSETTO:+0200
TZNAME:EET
DTSTART:20231029T010000
END:STANDARD
END:VTIMEZONE
BEGIN:VEVENT
DTSTART;TZID=Europe/Helsinki:20230930T190000
DTEND;TZID=Europe/Helsinki:20230930T190000
DTSTAMP:20260419T145957
CREATED:20230428T090529Z
LAST-MODIFIED:20230428T093055Z
UID:3211-1696100400-1696100400@mikaeli.fi
SUMMARY:Suvi Teräsniska – Särkyneiden sydänten tie
DESCRIPTION:SUVI TERÄSNISKA LÄHTEE SYKSYLLÄKATTAVALLE KONSERTTISALIKIERTUEELLE \nViime syksynä loppuunmyydyllä Ihmisen poika -kiertueellaan hurmannut\, upea SuviTeräsniska lähtee syksyllä kattavalle konserttisalikiertueelle. Särkyneiden sydänten tie nimellä kulkeva kiertue alkaa 29. syyskuuta Varkaudesta ja päättyy 5. Marraskuuta Säkylään. Liput kiertueen konsertteihin ovat nyt myynnissä. Katso tarkemmat paikkakuntakohtaiset konsertti- ja lipunmyyntitiedot osoitteesta: warnermusiclive.fi/suviterasniska \n-Olen laulanut rakkaudesta ja ihmissuhteista läpi urani. Nyt halusin tehdä illan\, jonka aikana hoidetaan särkyneitä sydämiä ja lauletaan tarinoita rakastamisen vaikeudesta. Esitän konsertissa omia tuttuja biisejä vuosien varrelta. Lisäksi kuullaan julkaisemattomia lauluja tulevalta albumilta. Mausteena pari minulle tärkeää lainabiisiä oman elämäni soundtrackilta. Lämpimästi tervetuloa konserttiin\, Suvi kuvailee tulevaa kiertuetta. \nLiput alk. 39\,50€ \nKesto noin 2h sisältäen väliajan \nKatso tarkemmat paikkakuntakohtaiset konsertti- ja lipunmyyntitiedot osoitteesta:\nwww.warnermusiclive.fi/suviterasniska \nJärj. Warner Music Live
URL:https://mikaeli.fi/event/suvi-terasniska-sarkyneiden-sydanten-tie/
CATEGORIES:Musiikki,Tapahtuma
END:VEVENT
END:VCALENDAR