BEGIN:VCALENDAR
VERSION:2.0
PRODID:-//Konsertti- ja kongressitalo Mikaeli - Suomen kiinnostavin tapahtumatalo - ECPv6.10.1.1//NONSGML v1.0//EN
CALSCALE:GREGORIAN
METHOD:PUBLISH
X-WR-CALNAME:Konsertti- ja kongressitalo Mikaeli - Suomen kiinnostavin tapahtumatalo
X-ORIGINAL-URL:https://mikaeli.fi
X-WR-CALDESC:Events for Konsertti- ja kongressitalo Mikaeli - Suomen kiinnostavin tapahtumatalo
REFRESH-INTERVAL;VALUE=DURATION:PT1H
X-Robots-Tag:noindex
X-PUBLISHED-TTL:PT1H
BEGIN:VTIMEZONE
TZID:Europe/Helsinki
BEGIN:DAYLIGHT
TZOFFSETFROM:+0200
TZOFFSETTO:+0300
TZNAME:EEST
DTSTART:20230326T010000
END:DAYLIGHT
BEGIN:STANDARD
TZOFFSETFROM:+0300
TZOFFSETTO:+0200
TZNAME:EET
DTSTART:20231029T010000
END:STANDARD
END:VTIMEZONE
BEGIN:VEVENT
DTSTART;TZID=Europe/Helsinki:20231006T190000
DTEND;TZID=Europe/Helsinki:20231006T190000
DTSTAMP:20260419T151107
CREATED:20230825T113302Z
LAST-MODIFIED:20230828T074943Z
UID:3544-1696618800-1696618800@mikaeli.fi
SUMMARY:Rakuunasoittokunta – Päämajakaupungin kaikuja
DESCRIPTION:Konsertti on ylikapellimestari Pasi-Heikki Mikkolan jäähyväiskonsertti hänen siirtyessään reserviin ensi vuoden alussa. Konsertissa kuullaan Mikkolan säveltämiä marsseja ja sovittamia viihdesävelmiä. Solistiksi saapuu laulaja Milana Misic\, joka laulaa äitinsä Laila Kinnusen tunnetuimpia lauluja. \nKonsertin kesto noin 2\,5 tuntia\, sisältää väliajan. \nLiput 20\,00 € \nTulossa myyntiin ma 28.8. klo 9!
URL:https://mikaeli.fi/event/rakuunasoittokunta-paamajakaupungin-kaikuja/
CATEGORIES:Musiikki,Tapahtuma
END:VEVENT
END:VCALENDAR