BEGIN:VCALENDAR
VERSION:2.0
PRODID:-//Konsertti- ja kongressitalo Mikaeli - Suomen kiinnostavin tapahtumatalo - ECPv6.10.1.1//NONSGML v1.0//EN
CALSCALE:GREGORIAN
METHOD:PUBLISH
X-ORIGINAL-URL:https://mikaeli.fi
X-WR-CALDESC:Events for Konsertti- ja kongressitalo Mikaeli - Suomen kiinnostavin tapahtumatalo
REFRESH-INTERVAL;VALUE=DURATION:PT1H
X-Robots-Tag:noindex
X-PUBLISHED-TTL:PT1H
BEGIN:VTIMEZONE
TZID:Europe/Helsinki
BEGIN:DAYLIGHT
TZOFFSETFROM:+0200
TZOFFSETTO:+0300
TZNAME:EEST
DTSTART:20230326T010000
END:DAYLIGHT
BEGIN:STANDARD
TZOFFSETFROM:+0300
TZOFFSETTO:+0200
TZNAME:EET
DTSTART:20231029T010000
END:STANDARD
END:VTIMEZONE
BEGIN:VEVENT
DTSTART;TZID=Europe/Helsinki:20231007T150000
DTEND;TZID=Europe/Helsinki:20231007T170000
DTSTAMP:20260419T151144
CREATED:20230223T103028Z
LAST-MODIFIED:20231006T150559Z
UID:2956-1696690800-1696698000@mikaeli.fi
SUMMARY:Jokeri pokeri Box - DeLuxe SHOW
DESCRIPTION:Lasten ja aikuisten legendaarinen kestosuosikki ja TV:stä tuttu maailmanmestari-taikuri Simo Aalto juhlii kuluvana vuonna 45-vuotista uraansa esiintyvänä taiteilijana. Simo ja avustaja-vaimonsa Kirsti juhlivat merkkipaalua syksyllä 2023 alkavalla mittavalla kuudentoista paikkakunnan Jokeri Pokeri Box DeLuxe-kiertueella. \nKiertue starttaa Simon syntymäkaupungista Oulusta syyskuun puolessa välissä. Tällä kiertueella on ensimmäistä kertaa koskaan mukana Special Guest Star ja tämän viitan harteilleen on saanut Simon oma tytär\, vatsastapuhuja Sari Aalto. Sari muistetaan vuoden 2017 Talent Suomi -ohjelman kakkossijastaan sekä lukemattomista videoistaan TikTok -palveluun\, jossa hänellä on käsittämättömät yli 5 miljoonaa seuraajaa! Sari tuo tietysti mukanaan Simpanssi-Anssin\, joka on hurmannut  lapset ja aikuiset keikoilla ympäri Suomen \nUudessa iloisessa showssa on ihmeteltävää koko perheelle. Simo tarjoilee maailman parhaita taikatemppuja ryyditettynä hyväntuulisella lavashowlla. Kolmikon mukaansatempaava esiintyminen takaa\, että taikapölyn vaikutus säilyy pitkään\, mieli virkistyy ja arjen pyöritys unohtuu. Sanalla sanoen luvassa on laadukasta estradiviihdettä! \nSimon omin sanoin: ”Pitkän urani aikana on jo yksi sukupolvi\, ysärilapset\, kasvanut aikuisiksi ja he tulevat nyt omien lastensa kanssa katsomaan lapsuutensa idolia. Siksi haluan tarjota iloa ja ihmetystä kaikenikäisille.” \nPeruslippu 19\,50€\nRyhmälippu min 10hlöä 16\,00€ / lippu \nNarikka on tähän tapahtumaan ilmainen!
URL:https://mikaeli.fi/event/jokeri-pokeri-box-deluxe-show/
CATEGORIES:Lapset ja nuoret,Tapahtuma,Viihde
END:VEVENT
END:VCALENDAR