BEGIN:VCALENDAR
VERSION:2.0
PRODID:-//Konsertti- ja kongressitalo Mikaeli - Suomen kiinnostavin tapahtumatalo - ECPv6.10.1.1//NONSGML v1.0//EN
CALSCALE:GREGORIAN
METHOD:PUBLISH
X-ORIGINAL-URL:https://mikaeli.fi
X-WR-CALDESC:Events for Konsertti- ja kongressitalo Mikaeli - Suomen kiinnostavin tapahtumatalo
REFRESH-INTERVAL;VALUE=DURATION:PT1H
X-Robots-Tag:noindex
X-PUBLISHED-TTL:PT1H
BEGIN:VTIMEZONE
TZID:Europe/Helsinki
BEGIN:DAYLIGHT
TZOFFSETFROM:+0200
TZOFFSETTO:+0300
TZNAME:EEST
DTSTART:20230326T010000
END:DAYLIGHT
BEGIN:STANDARD
TZOFFSETFROM:+0300
TZOFFSETTO:+0200
TZNAME:EET
DTSTART:20231029T010000
END:STANDARD
END:VTIMEZONE
BEGIN:VEVENT
DTSTART;TZID=Europe/Helsinki:20231019T190000
DTEND;TZID=Europe/Helsinki:20231019T190000
DTSTAMP:20260419T145954
CREATED:20230822T103937Z
LAST-MODIFIED:20230926T130936Z
UID:3523-1697742000-1697742000@mikaeli.fi
SUMMARY:YONA – Tähtii ei voi omistaa / Peruuntuu
DESCRIPTION:Valitettavasti Yona – Tähtii ei voi omistaa -konsertti joudutaan perumaan. Konsertti oli tarkoitus järjestää Mikaelissa 19.10.2023.\nLiput on mahdollista palauttaa Lippu.fi sivujen kautta: https://web.lippu.fi/palautus/ \nPalautus on mahdollista 21.10.2023 asti. \nPahoittelemme konsertin peruuntumisesta aiheutunutta harmia. \n  \nYona lähtee konserttisalikiertueelle lokakuussa \nKotimaisen taidepopin supertähti Yona suuntaa yhtyeineen Suomea halkovalle konserttisalikiertueelle lokakuussa. Yhdeksän kaupungin Tähtii ei voi omistaa -kiertueen liput tulevat myyntiin perjantaina 18.8. klo 10:00. Kiertue kantaa pian julkaistavan uuden kappaleen nimeä. \nMittavan ja taiteellisesti kunnianhimoisen uran tehnyt Yona (oik. Johanna Rasmus) valmistelee parhaillaan yhdeksättä studioalbumiaan. Yona tunnetaan ennakkoluulottomasta tavastaan yhdistellä eri musiikkityylejä ja hänen kappaleilleen on ominaista vahva tunnelataus ja elokuvallisuus. \nYonan ilmaisuvoimaisessa yhtyeessä soittavat Juhani Grönroos (kitara)\, Juho Kanervo (sello)\, Antti Kujanpää (koskettimet)\, Tuomas Timonen (rummut)\, Antti Kivimäki (basso)\, Paavo Malmberg (ääni) sekä Jaakko Peltonen (valot). \nKriitikoiden ylistämä\, Tapiola Sinfoniettan kanssa tehty\, viimeisin albumijulkaisu Uni johon herään palkittiin viime vuonna sekä Kriitikoiden valinta -Emmalla että Teosto-palkinnolla. Albumi oli lisäksi ehdolla arvostetun Pohjoismaiden neuvoston musiikkipalkinnon saajaksi ja esitettiin kokonaisuudessaan loppuunmyydyissä konserteissa ympäri Suomen. Viime vuonna Yona ihastutti myös uusimmalla Vain elämää -kaudella. \nLiput 42\,00 € \nJärjestäjä Loud’n Live Promotions Oy \n 
URL:https://mikaeli.fi/event/yona-tahtii-ei-voi-omistaa/
CATEGORIES:Musiikki,Tapahtuma
END:VEVENT
END:VCALENDAR