BEGIN:VCALENDAR
VERSION:2.0
PRODID:-//Konsertti- ja kongressitalo Mikaeli - Suomen kiinnostavin tapahtumatalo - ECPv6.10.1.1//NONSGML v1.0//EN
CALSCALE:GREGORIAN
METHOD:PUBLISH
X-ORIGINAL-URL:https://mikaeli.fi
X-WR-CALDESC:Events for Konsertti- ja kongressitalo Mikaeli - Suomen kiinnostavin tapahtumatalo
REFRESH-INTERVAL;VALUE=DURATION:PT1H
X-Robots-Tag:noindex
X-PUBLISHED-TTL:PT1H
BEGIN:VTIMEZONE
TZID:Europe/Helsinki
BEGIN:DAYLIGHT
TZOFFSETFROM:+0200
TZOFFSETTO:+0300
TZNAME:EEST
DTSTART:20230326T010000
END:DAYLIGHT
BEGIN:STANDARD
TZOFFSETFROM:+0300
TZOFFSETTO:+0200
TZNAME:EET
DTSTART:20231029T010000
END:STANDARD
END:VTIMEZONE
BEGIN:VEVENT
DTSTART;TZID=Europe/Helsinki:20231023T190000
DTEND;TZID=Europe/Helsinki:20231023T190000
DTSTAMP:20260419T145954
CREATED:20230406T075116Z
LAST-MODIFIED:20230406T075518Z
UID:3160-1698087600-1698087600@mikaeli.fi
SUMMARY:The Ukrainian Ballet of Peace - JOUTSENLAMPI
DESCRIPTION:The Ukrainian Ballet of Peace – JOUTSENLAMPI \nHUIKEAN YLEISÖ- JA ARVOSTELUMENESTYKSEN VIIME SYKSYNÄ SAAVUTTANUT UKRAINALAINEN BALETTIPRODUKTIO PALAA SUOMEEN LOKAKUUSSA 2023! \nYleisön toivomuksesta ja viime syksyisen menestyksen siivittämänä klassinen Joutsenlampi-baletti palaa Suomeen lokakuussa 2023. Paikkakuntia on tällä kertaa kymmenen\, esityksiä yksitoista. \nSuomalaisilla on tilaisuus nauttia huipputason baletista Lappeenrannassa 13. päivä\, Kotkassa 14. päivä\, Helsingissä 15. päivä\, Hyvinkäällä 16. päivä\, Turussa 17. päivä\, Hämeenlinnassa 18. päivä\, Jyväskylässä 19. päivä\, Oulussa 20. päivä\, Rovaniemellä 21. päivä (2 esitystä) ja Mikkelissä 22. päivä lokakuuta 2023. \nBalettiryhmän esitykset viimevuoden joulukuussa 2022 olivat niin yleisö- kuin arvostelumenestyksiäkin. ”Ukrainan kansallisbaletti tanssi sodan polvilleen vahvalla Joutsenlammellaan.” (TS 20.12.2022) \n“Odotamme innolla toista Suomen kiertuetta. Joulukuun kiertueella suomalaisilta saamamme vastaanotto oli niin lämmin ja sydämellinen\, että on suuri ilo palata takaisin Suomeen. Ukrainan sota on luonnollisesti vaikeuttanut toimintaamme\, mutta olemme kiitollisia\, että kiertue voidaan ja halutaan jo toistamiseen järjestää Suomessa. Tulemme maahanne tanssimaan vapauden ja rauhan puolesta. Tulemme tuomaan toivoa paremmasta tulevaisuudesta. Haluamme esityksellämme mahdollistaa sen\, mistä unelmoimme”\, sanoo ryhmän balettitanssija Irena Muradova. \nBalettiryhmä on kiertänyt kansainvälisillä kiertueilla ympäri Yhdysvaltoja ja Kanadaa\, Eurooppaa ja Aasiaa sekä tehnyt menestyksekkäitä kiertueita kotimaassaan Ukrainassa. Joutsenlampi on toteutettu baletin parhaita perinteitä kunnioittaen ja sen mestareiden kuten Natalia Makarovan\, Rudolf Nurejevin ja Mihail Baryshnikovin viitoittamalla tiellä. \nOdette-Odilen pääroolin Suomen kiertueella tanssii prima ballerina Iryna Khandazhevskaya\, joka on kerännyt ylistäviä arvosteluja ympäri maailman. Joutsenlampi-baletin miespääosassa nähdään kansainvälisen tanssikilpailun Ateenassa vuonna 2018 voittanut Aleksey Knyazkov. Baletin lavastukset on räätälöity Ukrainan taitavimpien tekijöiden toimesta ja näyttävistä asusteista vastaavat Odessan ja Kiev National Theatres of Opera and Balletin pukumestarit. \nJoutsenlampi on Venäjän keisarikunnassa vuonna 1840 syntyneen säveltäjä Pjotr Tšaikovskin säveltämistä kolmesta baletista – Joutsenlampi\, Prinsessa Ruusunen ja Pähkinänsärkijä – ensimmäinen. Huhtikuussa 1876 valmistunut Joutsenlampi on yksi kaikkien aikojen tunnetuimmista ja arvostetuimmista baleteista. Nykypäivänä nähtyjen Joutsenlampi-esitysten koreografia perustuu useimmiten pääbalettimestari Marius Petipan ja balettimestari Lev Ivanovin tekemään nelinäytöksiseen versioon vuodelta 1895. Joutsenlammen Suomen ensi-ilta 17. tammikuuta 1922 oli koko Suomalaisen Oopperan baletin ensimmäinen balettiesitys. \n”Taide kuuluu sivistyneen yhteiskunnan ytimeen. Sen merkitys korostuu erityisesti silloin\, kun ihmiset ja yhteisöt kohtaavat vaikeuksia. Taide kurottaa kohti tulevaa\, se auttaa näkemään toisin\, se herättää kuvittelukyvyn ja auttaa näkemään valoa siellä\, missä on pimeää. Taide tuo lohtua\, sillä toisin näkeminen tuo esiin vaihtoehtoisia tapoja kokea mielekkyyttä ja merkityksellisyyttä elämässä.” (Turun Sanomat / professori Eeva Anttila\, 28.4.2020) \n“The images produced by artists historicize war’s sick seductiveness while concentrating the mind on past\, present\, and\, ineluctably\, future calamity.” (The New Yorker / Peter Schjeldahl\, 14.3.2022) \nEsitykset klo 19.00. Ovet 1h ennen esitystä. Esityksissä on väliaika. Tapahtuman kesto noin 2\,5h. \nLippujen hinnat:\nRivit 1 – 10:  89\,90 €\nRivit  11 – 21: 79\,90 €\nParvi 69\,90 € \nJärjestäjä Tiger Production Oy
URL:https://mikaeli.fi/event/3160/
CATEGORIES:Tapahtuma,Viihde
END:VEVENT
END:VCALENDAR