BEGIN:VCALENDAR
VERSION:2.0
PRODID:-//Konsertti- ja kongressitalo Mikaeli - Suomen kiinnostavin tapahtumatalo - ECPv6.10.1.1//NONSGML v1.0//EN
CALSCALE:GREGORIAN
METHOD:PUBLISH
X-WR-CALNAME:Konsertti- ja kongressitalo Mikaeli - Suomen kiinnostavin tapahtumatalo
X-ORIGINAL-URL:https://mikaeli.fi
X-WR-CALDESC:Events for Konsertti- ja kongressitalo Mikaeli - Suomen kiinnostavin tapahtumatalo
REFRESH-INTERVAL;VALUE=DURATION:PT1H
X-Robots-Tag:noindex
X-PUBLISHED-TTL:PT1H
BEGIN:VTIMEZONE
TZID:Europe/Helsinki
BEGIN:DAYLIGHT
TZOFFSETFROM:+0200
TZOFFSETTO:+0300
TZNAME:EEST
DTSTART:20230326T010000
END:DAYLIGHT
BEGIN:STANDARD
TZOFFSETFROM:+0300
TZOFFSETTO:+0200
TZNAME:EET
DTSTART:20231029T010000
END:STANDARD
END:VTIMEZONE
BEGIN:VEVENT
DTSTART;TZID=Europe/Helsinki:20231027T190000
DTEND;TZID=Europe/Helsinki:20231027T190000
DTSTAMP:20260419T145958
CREATED:20230602T090024Z
LAST-MODIFIED:20231023T115116Z
UID:3344-1698433200-1698433200@mikaeli.fi
SUMMARY:Jarkko Ahola - Klassikko-konserttisalikiertue
DESCRIPTION:JARKKO AHOLA KONSERTTISALIKIERTUEELLE KLASSIKKOBIISIEN KANSSA \nLoppuvuodesta Nokia Arenan yhdessä Waltteri Torikan kanssa valtaava rocktenori Jarkko Ahola lähtee syyskuussa yhdeksän konserttia sisältävälle Klassikko-konserttisalikiertueelle. Lauantaina 30. syyskuuta Hyvinkääsalista käynnistyvä kiertue vierailee Kuopiossa\, Porissa\, Helsingissä\, Turussa\, Mikkelissä\, Lahdessa\, Oulussa ja Jyväskylässä. \n– Klassikko. Sana\, joka herättää kunnioitusta. Unohdettu klassikko. Ehkä vielä enemmän. Luottobändini kanssa palaamme syksyllä konserttisaleihin ja teemme kunniaa valikoiduille kappaleille. Kuten aina\, lisäämme mukaan ripauksen itsestämme ja tartumme hetkeen\, mikä tekee jokaisesta illasta erityisen\, Jarkko Ahola kertoo. \nJarkko Ahola tuli tunnetuksi Teräsbetonin laulaja-basistina ja biisinkirjoittajana. Hänen ensimmäinen sooloalbuminsa Ave Maria – Joulun klassikot (2012) on myynyt tuplaplatinaa. Sitä seuranneet levyt Suojelusenkeli – Joulun klassikot 2 (2014) ja Romanssi (2016) ovat ylittäneet platina- ja kultarajan. Rocktenorin omia biisejä sisältävä albumi Mä tuun suo luo (2018) ja pääosin cover-kappaleita sisältänyt Metallisydän menivät molemmat virallisen albumilistan kärkipäähän\, sijoille 2 ja 6. \nKesto: noin 2h-2\,5h (sis. väliajan) \nLiput:\nPeruslippu 38\,50 €\nShow & Dinner 84\,50 € \nSHOW & DINNER- PAKETTI:\nRuokailu klo 17.30 alkaen\nEsitys klo 19 \nMenu\nBufeesta \nAlkuruoat\nRaikkaita salaatteja\nMarinoitua punasipulia\nPaahdettua tomaattia\nGrillattua artisokkaa\nSitruunamaustettuja oliiveja\nLeipäkrutonkeja\nPaahdettuja siemeniä ja pähkinöitä\nKatkarapuja\nSavulohta ja Dijon- kastiketta \nPääruokana\nGrillikanaa Arrabiatta\nPossunposkia BBQ\nPaahdettuja perunoita ja kauden kasviksia \nJälkiruoka\nKirsikka- vaniljakakkua\nKahvi\nTee \nLisätietoa:\nRyhmämyyntitiedustelut:\ninfo@mikaeli.fi\njuha.heikkila@mikaeli.fi  \nRavintolan tiedustelut:\nHenrik Rajamäki\n0440 213 014\nhenrik@serviini.fi \nSeuraa Jarkko Aholaa somessa:\nFacebook\nInstagram\nYouTube\nwww.jahola.com\nwww.warnermusic.fi/jarkkoahola \nJärjestäjä Warner Music Live
URL:https://mikaeli.fi/event/jarkko-ahola-klassikko-konserttisalikiertue/
CATEGORIES:Musiikki,Tapahtuma
END:VEVENT
END:VCALENDAR