BEGIN:VCALENDAR
VERSION:2.0
PRODID:-//Konsertti- ja kongressitalo Mikaeli - Suomen kiinnostavin tapahtumatalo - ECPv6.10.1.1//NONSGML v1.0//EN
CALSCALE:GREGORIAN
METHOD:PUBLISH
X-ORIGINAL-URL:https://mikaeli.fi
X-WR-CALDESC:Events for Konsertti- ja kongressitalo Mikaeli - Suomen kiinnostavin tapahtumatalo
REFRESH-INTERVAL;VALUE=DURATION:PT1H
X-Robots-Tag:noindex
X-PUBLISHED-TTL:PT1H
BEGIN:VTIMEZONE
TZID:Europe/Helsinki
BEGIN:DAYLIGHT
TZOFFSETFROM:+0200
TZOFFSETTO:+0300
TZNAME:EEST
DTSTART:20230326T010000
END:DAYLIGHT
BEGIN:STANDARD
TZOFFSETFROM:+0300
TZOFFSETTO:+0200
TZNAME:EET
DTSTART:20231029T010000
END:STANDARD
END:VTIMEZONE
BEGIN:VEVENT
DTSTART;TZID=Europe/Helsinki:20231028T190000
DTEND;TZID=Europe/Helsinki:20231028T190000
DTSTAMP:20260419T145955
CREATED:20221229T112452Z
LAST-MODIFIED:20231019T092112Z
UID:2780-1698519600-1698519600@mikaeli.fi
SUMMARY:Anna Eriksson - Tikaritaivas
DESCRIPTION:Anna Eriksson uskomaton Tikaritaivas-konsertti yhdistää Erikssonin ja pianisti Mikko Mäkisen yhteistyön ainutlaatuisella tavalla. \nKonsertti perustuu Anna Erikssonin uran tunnetuimpiin lauluihin ja sekä taiteilijan voimakkaisiin tulkintoihin maailman klassikoista. \nhttps://www.facebook.com/annaerikssonmusic \nKesto n. 1 h 20 min\, ei väliaikaa \nLiput:\nPeruslippu 36\,50 €\nRyhmälippu min 10hlöä 35\,00€ / lippu \n 
URL:https://mikaeli.fi/event/anna-eriksson-tikaritaivas/
CATEGORIES:Musiikki,Tapahtuma
END:VEVENT
END:VCALENDAR