BEGIN:VCALENDAR
VERSION:2.0
PRODID:-//Konsertti- ja kongressitalo Mikaeli - Suomen kiinnostavin tapahtumatalo - ECPv6.10.1.1//NONSGML v1.0//EN
CALSCALE:GREGORIAN
METHOD:PUBLISH
X-WR-CALNAME:Konsertti- ja kongressitalo Mikaeli - Suomen kiinnostavin tapahtumatalo
X-ORIGINAL-URL:https://mikaeli.fi
X-WR-CALDESC:Events for Konsertti- ja kongressitalo Mikaeli - Suomen kiinnostavin tapahtumatalo
REFRESH-INTERVAL;VALUE=DURATION:PT1H
X-Robots-Tag:noindex
X-PUBLISHED-TTL:PT1H
BEGIN:VTIMEZONE
TZID:Europe/Helsinki
BEGIN:DAYLIGHT
TZOFFSETFROM:+0200
TZOFFSETTO:+0300
TZNAME:EEST
DTSTART:20210328T010000
END:DAYLIGHT
BEGIN:STANDARD
TZOFFSETFROM:+0300
TZOFFSETTO:+0200
TZNAME:EET
DTSTART:20211031T010000
END:STANDARD
END:VTIMEZONE
BEGIN:VEVENT
DTSTART;TZID=Europe/Helsinki:20210619T190000
DTEND;TZID=Europe/Helsinki:20210619T190000
DTSTAMP:20260424T033902
CREATED:20210607T072236Z
LAST-MODIFIED:20210614T114825Z
UID:95-1624129200-1624129200@mikaeli.fi
SUMMARY:Juice Originals feat. Riku Nieminen
DESCRIPTION:Juice Originals koostuu Juice Leskisen eri yhtyeissä vaikuttaneista soittajista solistinaan Juice-elokuvan päätähti Riku Nieminen. Orkesteria johtaa Anssi Tikanmäki. Lavalla nähdään Tikanmäen ja Niemisen lisäksi Safka Pekkonen\, Juuso Nordlund\, Ila Loueranta\, Jari Yliaho sekä Eljas ja Eemil Tikanmäki. \nUnohtumattomat esiintymiset Juice-elokuvan ensi-iltajuhlissa tehnyt ainutlaatuinen kokoonpano nousi konserttisalien lavoille syksyllä 2019. Nyt kiertue saa lukuisista yleisön toiveista johtuen jatkoa syksyllä 2020. \nTunteiden eri skaaloilla liikkuva ilta tarjoaa laajan kattauksen legendaarisia kappaleita muun muassa “Viidestoista yö”\, “Syksyn sävel”\, ”Kaksoiselämää”\, “Luonas kai olla saan”\, ”Musta aurinko nousee”\, ”Rakkauden ammattilainen” alkuperäisten soittajien ja ilmiömäisen solistin Riku Niemisen esittämänä! \nKesto n. 2h 15min (sis. väliajan)\nLiput alk. 42\,50€ (sis. käsittelykulun) \nJärj. ProPromotion Oy\nwww.juiceoriginals.fi \nLisätietoja tapahtumien siirroista ja peruutuksista täältä.
URL:https://mikaeli.fi/event/juice-originals-feat-riku-nieminen/
CATEGORIES:Viihde
END:VEVENT
BEGIN:VEVENT
DTSTART;TZID=Europe/Helsinki:20210614T080000
DTEND;TZID=Europe/Helsinki:20210614T170000
DTSTAMP:20260424T033902
CREATED:20210614T055312Z
LAST-MODIFIED:20210614T055312Z
UID:250-1623657600-1623690000@mikaeli.fi
SUMMARY:Veripalvelun verenluovutustilaisuus
DESCRIPTION:Verenluovutustilaisuus Mikaelin 1. kerroksessa klo 12.30-17.30. \nLue ohjeet verenluovutustilaisuuteen sekä varaa aikasi täältä. \nTervetuloa!
URL:https://mikaeli.fi/event/veripalvelun-verenluovutustilaisuus-2/
CATEGORIES:Tapahtuma
END:VEVENT
BEGIN:VEVENT
DTSTART;TZID=Europe/Helsinki:20210614T080000
DTEND;TZID=Europe/Helsinki:20210614T170000
DTSTAMP:20260424T033902
CREATED:20210614T055050Z
LAST-MODIFIED:20210614T055050Z
UID:246-1623657600-1623690000@mikaeli.fi
SUMMARY:Veripalvelun verenluovutustilaisuus
DESCRIPTION:Verenluovutustilaisuus Mikaelin 1. kerroksessa klo 12.30-17.30. \nLue ohjeet verenluovutustilaisuuteen sekä varaa aikasi täältä. \nTervetuloa!
URL:https://mikaeli.fi/event/veripalvelun-verenluovutustilaisuus/
CATEGORIES:Tapahtuma
END:VEVENT
BEGIN:VEVENT
DTSTART;TZID=Europe/Helsinki:20210611T080000
DTEND;TZID=Europe/Helsinki:20210611T170000
DTSTAMP:20260424T033902
CREATED:20210611T064522Z
LAST-MODIFIED:20210611T064522Z
UID:171-1623398400-1623430800@mikaeli.fi
SUMMARY:JARKKO TAMMINEN – KUULEEKO MIKKELI? -IMITAATIOSHOW (TAPAHTUMA SIIRRETTY)
DESCRIPTION:
URL:https://mikaeli.fi/event/jarkko-tamminen-kuuleeko-mikkeli-imitaatioshow-tapahtuma-siirretty/
CATEGORIES:Tapahtuma,Viihde
END:VEVENT
END:VCALENDAR