BEGIN:VCALENDAR
VERSION:2.0
PRODID:-//Konsertti- ja kongressitalo Mikaeli - Suomen kiinnostavin tapahtumatalo - ECPv6.10.1.1//NONSGML v1.0//EN
CALSCALE:GREGORIAN
METHOD:PUBLISH
X-WR-CALNAME:Konsertti- ja kongressitalo Mikaeli - Suomen kiinnostavin tapahtumatalo
X-ORIGINAL-URL:https://mikaeli.fi
X-WR-CALDESC:Events for Konsertti- ja kongressitalo Mikaeli - Suomen kiinnostavin tapahtumatalo
REFRESH-INTERVAL;VALUE=DURATION:PT1H
X-Robots-Tag:noindex
X-PUBLISHED-TTL:PT1H
BEGIN:VTIMEZONE
TZID:Europe/Helsinki
BEGIN:DAYLIGHT
TZOFFSETFROM:+0200
TZOFFSETTO:+0300
TZNAME:EEST
DTSTART:20210328T010000
END:DAYLIGHT
BEGIN:STANDARD
TZOFFSETFROM:+0300
TZOFFSETTO:+0200
TZNAME:EET
DTSTART:20211031T010000
END:STANDARD
END:VTIMEZONE
BEGIN:VEVENT
DTSTART;TZID=Europe/Helsinki:20211016T160000
DTEND;TZID=Europe/Helsinki:20211016T170000
DTSTAMP:20260424T011207
CREATED:20210820T132939Z
LAST-MODIFIED:20211015T133954Z
UID:920-1634400000-1634403600@mikaeli.fi
SUMMARY:LASTEN ELOKUVAMUSIIKIN KONSERTTI
DESCRIPTION:Rauno Tikkanen\, kapellimestari \nLasten elokuvamusiikin konsertti on Esittävän taiteen kollektiivi Kaukasuksen ja Mikkelin kaupunginorkesterin yhteistyössä syntynyt taianomainen ja mukaansatempaava konsertti koko perheelle! Konsertissa kuullaan kappaleita eri vuosikymmeniltä aina Pinocchiosta Frozeniin ja Star Warsiin. Ikimuistoista elokuvamusiikkia esittämässä Aki Hietala\, Johanna Kuuva\, Aapo Oranen\, Erika Spoof\, Sini Spoof ja Minttu Tamski. Konsertin juontaa näyttelijä Joonas Kääriäinen. \nKonsertissa soivat rakastettujen lasten elokuvaklassikoiden kuuluisimmat sävellykset Tuukka Lehtosen sovituksina. Puhallinsektiolla ja komppiryhmällä vahvistettua kaupunginorkesteria konsertissa johtaa kuopiolainen kapellimestari-klarinetisti Rauno Tikkanen. Moniäänisyyttä\, ekologisuutta ja rakkautta keskeisinä arvoinaan pitävä Kaukasus-osuuskunta on tuottanut Mikkelissä esityksiä ja tapahtumia jo reilun kymmenen vuoden ajan. \nLIPUT: 10 €\nPERHELIPPU: 35 €\nLipunmyynnistä vastaa orkesterin toimisto\, yhteystiedot löydät täältä. \nKonsertin kesto noin 1\,5 tuntia (sis. väliajan) \nJärj. Mikkelin kaupunginorkesteri
URL:https://mikaeli.fi/event/lasten-elokuvamusiikin-konsertti/
CATEGORIES:Lapset ja nuoret,Musiikki
END:VEVENT
BEGIN:VEVENT
DTSTART;TZID=Europe/Helsinki:20211009T190000
DTEND;TZID=Europe/Helsinki:20211009T190000
DTSTAMP:20260424T011207
CREATED:20210621T095301Z
LAST-MODIFIED:20210621T095438Z
UID:339-1633806000-1633806000@mikaeli.fi
SUMMARY:Sinitaivas -kiertue (PERUTTU)
DESCRIPTION:Jo kertaalleen siirretty Sinitaivas-kiertue joudutaan perumaan kokonaan.\nAlun perin syksylle 2020 suunnitellun ja lokakuulle 2021 siirretyn Sinitaivas-kiertueen tähtinä piti esiintyä Kyösti Mäkimattila\, Markku Aro\, Eija Kantola\, Kari Hirvonen sekä tuore Tangokuningas ja -kuningatar. Vuoden 2021 Tangomarkkinoita ei kuitenkaan järjestetä\, joten tänä vuonna ei saada uutta Tangokuningasta eikä -kuningatarta. \nLisätietoja tapahtumien siirroista ja peruutuksista täältä.
URL:https://mikaeli.fi/event/sinitaivas-kiertue-peruttu/
CATEGORIES:Musiikki,Tapahtuma
END:VEVENT
BEGIN:VEVENT
DTSTART;TZID=Europe/Helsinki:20211006T123000
DTEND;TZID=Europe/Helsinki:20211006T173000
DTSTAMP:20260424T011207
CREATED:20210621T093335Z
LAST-MODIFIED:20210621T102325Z
UID:330-1633523400-1633541400@mikaeli.fi
SUMMARY:Veripalvelun verenluovutustilaisuus
DESCRIPTION:Verenluovutustilaisuus Mikaelin 1. kerroksessa klo 12.30-17.30. \nLue ohjeet verenluovutustilaisuuteen sekä varaa aikasi täältä. \nTervetuloa!
URL:https://mikaeli.fi/event/veripalvelun-verenluovutustilaisuus-7/
CATEGORIES:Tapahtuma
ATTACH;FMTTYPE=image/jpeg:https://mikaeli.fi/wp-content/uploads/2021/06/veripalvelut_tippa.jpg
END:VEVENT
BEGIN:VEVENT
DTSTART;TZID=Europe/Helsinki:20210926T140000
DTEND;TZID=Europe/Helsinki:20210926T170000
DTSTAMP:20260424T011207
CREATED:20210729T131616Z
LAST-MODIFIED:20210729T131616Z
UID:646-1632664800-1632675600@mikaeli.fi
SUMMARY:Tarja Pyhähuhdan taiteilijajuhla
DESCRIPTION:Tarja Pyhähuhdan taiteilijajuhla: \nParrasvaloissa- elämänkerran julkistaminen\nKirjailijat Teuvo Riikonen ja Reijo Honkonen \nMaan Syli – elokuvan ensi-ilta\nMatti-Veikko Kuusi\, piano\nYrjö Pulkkinen\, sello\nKalervo Saastamoinen\, klarinetti \nRakkaudesta suomalaisen musiikin – konsertti\nJoonas Orrain\, baritoni\nJoel Papinoja\, piano \nTilaisuuden juontaa Ari Tähkäpää \nPeruslippu 27\,50 €\nEläkeläiset 25\,50 €\nLapset alle 7 v. 17\,50 €
URL:https://mikaeli.fi/event/tarja-pyhahuhdan-taiteilijajuhla/
CATEGORIES:Tapahtuma
END:VEVENT
BEGIN:VEVENT
DTSTART;TZID=Europe/Helsinki:20210916T190000
DTEND;TZID=Europe/Helsinki:20210916T190000
DTSTAMP:20260424T011207
CREATED:20210820T132657Z
LAST-MODIFIED:20211015T134002Z
UID:916-1631818800-1631818800@mikaeli.fi
SUMMARY:JOUSISINFONIA
DESCRIPTION:Emilia Hoving\, kapellimestari\nJohannes Piirto\, piano\nYhteistyössä Savonlinnan orkesterin kanssa \nSavonlinna-kvartetin ja Mikkelin kaupunginorkesterin yhteistyökonserttia saapuu johtamaan kiitetty ja Kritiikin kannuksilla palkittu kapellimestarilupaus Emilia Hoving. Solistina soittaa aiemminkin Klami-solistina esiintynyt Johannes Piirto. Ohjelmassa on Uuno Klamin harvoin kuultu Pianokonsertto nro 2. Teos vietti hiljattain 70-vuotispäiviään\, Uuno Klami taas 120-vuotispäiviään\, joten unohduksiin painuneen teoksen soidessa kelpaa juhlia. Virolaisen\, maansa lyhytaikaisena kulttuuriministerinäkin tunnetun Lepo Sumeran Musica profana soi vahvaa\, kolkkojen kaikujen ja voimakkaan rytmisen poljennon tunnelmaa ja kuvia. Päätösnumerona riemastuttaa Mendelssohnin jousiorkesterille kirjoittamista sinfonioista nro 8. Tämän lapsineron 13-vuotiaana kirjoittama teos soi reipasta ja ulkoilmahenkistä tunnelmaa\, mutta on jo vahva näyte kypsästä säveltäjän käsityötaidosta. \nLepo Sumera: Musica profana\nUuno Klami: Konsertto pianolle ja jousiorkesterille nro 2 op. 41\nFelix Mendelssohn: Sinfonia nro 8 D-duuri \nLIPUT: 24\,50 € / 22\,50 € / 8 €\nLipunmyynnistä vastaa orkesterin toimisto\, yhteystiedot löydät täältä. \nJärj. Mikkelin kaupunginorkesteri
URL:https://mikaeli.fi/event/jousisinfonia/
CATEGORIES:Musiikki
END:VEVENT
BEGIN:VEVENT
DTSTART;TZID=Europe/Helsinki:20210915T123000
DTEND;TZID=Europe/Helsinki:20210915T173000
DTSTAMP:20260424T011207
CREATED:20210621T091835Z
LAST-MODIFIED:20210621T091835Z
UID:321-1631709000-1631727000@mikaeli.fi
SUMMARY:Veripalvelun verenluovutustilaisuus
DESCRIPTION:Verenluovutustilaisuus Mikaelin 1. kerroksessa klo 12.30-17.30. \nLue ohjeet verenluovutustilaisuuteen sekä varaa aikasi täältä. \nTervetuloa!
URL:https://mikaeli.fi/event/veripalvelun-verenluovutustilaisuus-6/
CATEGORIES:Tapahtuma
ATTACH;FMTTYPE=image/jpeg:https://mikaeli.fi/wp-content/uploads/2021/06/veripalvelut_tippa.jpg
END:VEVENT
BEGIN:VEVENT
DTSTART;TZID=Europe/Helsinki:20210909T190000
DTEND;TZID=Europe/Helsinki:20210909T190000
DTSTAMP:20260424T011207
CREATED:20210820T132408Z
LAST-MODIFIED:20211015T134008Z
UID:910-1631214000-1631214000@mikaeli.fi
SUMMARY:LEMMINKÄINEN
DESCRIPTION:Erkki Lasonpalo\, kapellimestari\nTuomas Lehto\, sello \nMikkelin ja Kuopion kaupunginorkesterien yhteistyökonsertissa on ohjelmassa Edward Elgarin sellokonsertto pääkapellimestari Erkki Lasonpalon johdolla. Solistina soittaa Radion sinfoniaorkesterin 1. soolosellisti Tuomas Lehto. Teoksen nosti aikoinaan maailman maineeseen sellotaiteilija Jacqueline du Pré. Konserton varhaiset vaiheet olivat alkujaan katastrofaaliset\, mutta sittemmin teos on saavuttanut aseman konserttokirjallisuuden yhtenä merkittävimmistä teoksista. \nJälkimmäisenä numerona kuullaan Jean Sibeliuksen Lemminkäinen\, jonka Kalevala-kuvaelmat ovat vakiinnuttaneet paikkansa kansalliseepoksemme soivana kuvastona. Tuonelan joutsen ja Lemminkäisen paluu ovat olleet orkesterien suuressa suosiossa kantaesityksestään saakka. Sibelius itse piti kahta jälkimmäistä osaa esityskiellossa\, ja kokonaisuudessaan teos esitettiin vasta vuonna 1935\, melkein 40 vuotta valmistumisensa jälkeen. Lopullinen versio\, jossa 2. ja 3. osan paikat vaihdettiin keskenään\, esitettiin vasta vuonna 1954. Kuopion ja Mikkelin kaupunginorkesterien muodostaman suurkokoonpanon esittämänä kuullaan koko sinfoninen runoelma sisältäen myös esityskiellosta vapautuneet osat. \nEdward Elgar: Sellokonsertto e-molli op. 85\nJean Sibelius: Lemminkäinen op. 22 \nLIPUT: 27\,50 € / 25\,50 € / 10 €\nLipunmyynnistä vastaa orkesterin toimisto\, yhteystiedot löydät täältä. \nJärj. Mikkelin kaupunginorkesteri
URL:https://mikaeli.fi/event/lemminkainen/
CATEGORIES:Musiikki
END:VEVENT
BEGIN:VEVENT
DTSTART;TZID=Europe/Helsinki:20210905T150000
DTEND;TZID=Europe/Helsinki:20210905T160000
DTSTAMP:20260424T011207
CREATED:20210621T080421Z
LAST-MODIFIED:20210806T125902Z
UID:292-1630854000-1630857600@mikaeli.fi
SUMMARY:Hevisaurus
DESCRIPTION:Tapahtuma on siirretty\, edelliset ajankohdat 11.10.2020\, 6.2.2021 ja 11.4.2021. Jo ostetut liput käyvät sellaisenaan uuteen ajankohtaan. \nViiden dinosauruksen muodostama lasten suosikkiyhtye Hevisaurus syntyi vuonna 2009 ajatuksesta tehdä laadukasta hevimusiikkia lapsille ja lapsenmielisille. Räyhäkäs lastenheviyhtye on julkaissut kotimaassa seitsemän studioalbumia\, joita on myyty 178 000. Hevisaurus on voittanut parhaan lastenmusiikin Emman kahdesti. \nEsityksen kesto n.60 min \nLIPUT: \nPeruslippu 26\,50 € \nPerheliput:\n97 € (2 aikuista + 2 lasta)\n107\,50 € (2 aikuista + 3 lasta) \nMartti Talvela -sali \nLisätietoja tapahtumien siirroista ja peruutuksista täältä.
URL:https://mikaeli.fi/event/hevisaurus-tapahtuma-siirtynyt/
CATEGORIES:Lapset ja nuoret,Musiikki,Tapahtuma
END:VEVENT
BEGIN:VEVENT
DTSTART;TZID=Europe/Helsinki:20210902T190000
DTEND;TZID=Europe/Helsinki:20210902T190000
DTSTAMP:20260424T011207
CREATED:20210820T132118Z
LAST-MODIFIED:20211015T134014Z
UID:907-1630609200-1630609200@mikaeli.fi
SUMMARY:SAIMAA SINFONIETTA – NOKKAHUILUGURU
DESCRIPTION:Erkki Lasonpalo\, kapellimestari\nEero Saunamäki\, nokkahuilu \nMikkelin ja Lappeenrannan kaupunginorkesterien eli Saimaa Sinfoniettan syyskausi alkaa juhlallisesti kantaesityksen merkeissä. Solistiksi saapuu nokkahuiluguru Eero Saunamäki ja ohjelmassa on Kalevi Aholta tilattu nokkahuilukonsertto. Tuotteliaan\, pitkälti yli 30 konserttoa säveltäneen Ahon teokselta on lupa odottaa laaja-alaista tunnelmien\, vauhtien ja sävyjen kirjoa. \nJohdattelevina tahteina kuunnellaan Richard Wagnerin Parsifal-alkusoitto Iain Farringtonin sovituksena. Paljon intohimoja niin puolesta kuin vastaankin herättävä Wagnerin teos oli tarkoitettu alkujaan esitettäväksi ainoastaan Wagner-pyhättö Bayreuthissa ja sen esittäminen muualla oli pitkään kielletty. \nKonsertin päättää komeasti Mozartin sinfonia nro 41\, lisänimeltään ”Jupiter”\, jonka viimeinen osa tunnetaan nerokkaasta kontrapunktistaan. Jupiter jäi Mozartin viimeiseksi sinfoniaksi. Sitä kuuntelemalla aukeaa laaja näkymä länsimaisen taidemusiikin korkeimmalta huipulta\, ja teos onkin suurenmoinen osoitus välineensä parissa täydelliseksi kypsyneen taiteilijan työstä. \nRichard Wagner: Alkusoitto oopperasta Parsifal\, sov. Iain Farrington\nKalevi Aho: Konsertto nokkahuilulle ja orkesterille (kantaesitys)\nW. A. Mozart: Sinfonia nro 41 C-duuri KV 551 ”Jupiter” \nLIPUT: 27\,50 € / 25\,50 € / 10 €\nHINTA S-ETUKORTILLA: 25 € / 23 € / 8 €\nLipunmyynnistä vastaa orkesterin toimisto\, yhteystiedot löydät täältä. \nJärj. Mikkelin kaupunginorkesteri
URL:https://mikaeli.fi/event/saimaa-sinfonietta-nokkahuiluguru/
CATEGORIES:Musiikki
END:VEVENT
BEGIN:VEVENT
DTSTART;TZID=Europe/Helsinki:20210825T123000
DTEND;TZID=Europe/Helsinki:20210825T173000
DTSTAMP:20260424T011207
CREATED:20210621T074001Z
LAST-MODIFIED:20210621T074001Z
UID:281-1629894600-1629912600@mikaeli.fi
SUMMARY:Veripalvelun verenluovutustilaisuus
DESCRIPTION:Verenluovutustilaisuus Mikaelin 1. kerroksessa klo 12.30-17.30. \nLue ohjeet verenluovutustilaisuuteen sekä varaa aikasi täältä. \nTervetuloa!
URL:https://mikaeli.fi/event/veripalvelun-verenluovutustilaisuus-5/
CATEGORIES:Tapahtuma
ATTACH;FMTTYPE=image/jpeg:https://mikaeli.fi/wp-content/uploads/2021/06/veripalvelut_tippa.jpg
END:VEVENT
BEGIN:VEVENT
DTSTART;TZID=Europe/Helsinki:20210811T123000
DTEND;TZID=Europe/Helsinki:20210811T173000
DTSTAMP:20260424T011207
CREATED:20210621T073909Z
LAST-MODIFIED:20210621T073909Z
UID:279-1628685000-1628703000@mikaeli.fi
SUMMARY:Veripalvelun verenluovutustilaisuus
DESCRIPTION:Verenluovutustilaisuus Mikaelin 1. kerroksessa klo 12.30-17.30. \nLue ohjeet verenluovutustilaisuuteen sekä varaa aikasi täältä. \nTervetuloa!
URL:https://mikaeli.fi/event/veripalvelun-verenluovutustilaisuus-4/
CATEGORIES:Tapahtuma
ATTACH;FMTTYPE=image/jpeg:https://mikaeli.fi/wp-content/uploads/2021/06/veripalvelut_tippa.jpg
END:VEVENT
BEGIN:VEVENT
DTSTART;TZID=Europe/Helsinki:20210701T123000
DTEND;TZID=Europe/Helsinki:20210701T173000
DTSTAMP:20260424T011207
CREATED:20210621T072703Z
LAST-MODIFIED:20210621T073725Z
UID:272-1625142600-1625160600@mikaeli.fi
SUMMARY:Veripalvelun verenluovutustilaisuus
DESCRIPTION:Verenluovutustilaisuus Mikaelin 1. kerroksessa klo 12.30-17.30. \nLue ohjeet verenluovutustilaisuuteen sekä varaa aikasi täältä. \nTervetuloa!
URL:https://mikaeli.fi/event/veripalvelun-verenluovutustilaisuus-3/
CATEGORIES:Tapahtuma
ATTACH;FMTTYPE=image/jpeg:https://mikaeli.fi/wp-content/uploads/2021/06/veripalvelut_tippa.jpg
END:VEVENT
BEGIN:VEVENT
DTSTART;TZID=Europe/Helsinki:20210619T190000
DTEND;TZID=Europe/Helsinki:20210619T190000
DTSTAMP:20260424T011207
CREATED:20210607T072236Z
LAST-MODIFIED:20210614T114825Z
UID:95-1624129200-1624129200@mikaeli.fi
SUMMARY:Juice Originals feat. Riku Nieminen
DESCRIPTION:Juice Originals koostuu Juice Leskisen eri yhtyeissä vaikuttaneista soittajista solistinaan Juice-elokuvan päätähti Riku Nieminen. Orkesteria johtaa Anssi Tikanmäki. Lavalla nähdään Tikanmäen ja Niemisen lisäksi Safka Pekkonen\, Juuso Nordlund\, Ila Loueranta\, Jari Yliaho sekä Eljas ja Eemil Tikanmäki. \nUnohtumattomat esiintymiset Juice-elokuvan ensi-iltajuhlissa tehnyt ainutlaatuinen kokoonpano nousi konserttisalien lavoille syksyllä 2019. Nyt kiertue saa lukuisista yleisön toiveista johtuen jatkoa syksyllä 2020. \nTunteiden eri skaaloilla liikkuva ilta tarjoaa laajan kattauksen legendaarisia kappaleita muun muassa “Viidestoista yö”\, “Syksyn sävel”\, ”Kaksoiselämää”\, “Luonas kai olla saan”\, ”Musta aurinko nousee”\, ”Rakkauden ammattilainen” alkuperäisten soittajien ja ilmiömäisen solistin Riku Niemisen esittämänä! \nKesto n. 2h 15min (sis. väliajan)\nLiput alk. 42\,50€ (sis. käsittelykulun) \nJärj. ProPromotion Oy\nwww.juiceoriginals.fi \nLisätietoja tapahtumien siirroista ja peruutuksista täältä.
URL:https://mikaeli.fi/event/juice-originals-feat-riku-nieminen/
CATEGORIES:Viihde
END:VEVENT
BEGIN:VEVENT
DTSTART;TZID=Europe/Helsinki:20210614T080000
DTEND;TZID=Europe/Helsinki:20210614T170000
DTSTAMP:20260424T011207
CREATED:20210614T055312Z
LAST-MODIFIED:20210614T055312Z
UID:250-1623657600-1623690000@mikaeli.fi
SUMMARY:Veripalvelun verenluovutustilaisuus
DESCRIPTION:Verenluovutustilaisuus Mikaelin 1. kerroksessa klo 12.30-17.30. \nLue ohjeet verenluovutustilaisuuteen sekä varaa aikasi täältä. \nTervetuloa!
URL:https://mikaeli.fi/event/veripalvelun-verenluovutustilaisuus-2/
CATEGORIES:Tapahtuma
END:VEVENT
BEGIN:VEVENT
DTSTART;TZID=Europe/Helsinki:20210614T080000
DTEND;TZID=Europe/Helsinki:20210614T170000
DTSTAMP:20260424T011207
CREATED:20210614T055050Z
LAST-MODIFIED:20210614T055050Z
UID:246-1623657600-1623690000@mikaeli.fi
SUMMARY:Veripalvelun verenluovutustilaisuus
DESCRIPTION:Verenluovutustilaisuus Mikaelin 1. kerroksessa klo 12.30-17.30. \nLue ohjeet verenluovutustilaisuuteen sekä varaa aikasi täältä. \nTervetuloa!
URL:https://mikaeli.fi/event/veripalvelun-verenluovutustilaisuus/
CATEGORIES:Tapahtuma
END:VEVENT
BEGIN:VEVENT
DTSTART;TZID=Europe/Helsinki:20210611T080000
DTEND;TZID=Europe/Helsinki:20210611T170000
DTSTAMP:20260424T011207
CREATED:20210611T064522Z
LAST-MODIFIED:20210611T064522Z
UID:171-1623398400-1623430800@mikaeli.fi
SUMMARY:JARKKO TAMMINEN – KUULEEKO MIKKELI? -IMITAATIOSHOW (TAPAHTUMA SIIRRETTY)
DESCRIPTION:
URL:https://mikaeli.fi/event/jarkko-tamminen-kuuleeko-mikkeli-imitaatioshow-tapahtuma-siirretty/
CATEGORIES:Tapahtuma,Viihde
END:VEVENT
END:VCALENDAR