BEGIN:VCALENDAR
VERSION:2.0
PRODID:-//Konsertti- ja kongressitalo Mikaeli - Suomen kiinnostavin tapahtumatalo - ECPv6.10.1.1//NONSGML v1.0//EN
CALSCALE:GREGORIAN
METHOD:PUBLISH
X-WR-CALNAME:Konsertti- ja kongressitalo Mikaeli - Suomen kiinnostavin tapahtumatalo
X-ORIGINAL-URL:https://mikaeli.fi
X-WR-CALDESC:Events for Konsertti- ja kongressitalo Mikaeli - Suomen kiinnostavin tapahtumatalo
REFRESH-INTERVAL;VALUE=DURATION:PT1H
X-Robots-Tag:noindex
X-PUBLISHED-TTL:PT1H
BEGIN:VTIMEZONE
TZID:Europe/Helsinki
BEGIN:DAYLIGHT
TZOFFSETFROM:+0200
TZOFFSETTO:+0300
TZNAME:EEST
DTSTART:20210328T010000
END:DAYLIGHT
BEGIN:STANDARD
TZOFFSETFROM:+0300
TZOFFSETTO:+0200
TZNAME:EET
DTSTART:20211031T010000
END:STANDARD
END:VTIMEZONE
BEGIN:VEVENT
DTSTART;VALUE=DATE:20211103
DTEND;VALUE=DATE:20211104
DTSTAMP:20260425T133710
CREATED:20211006T090413Z
LAST-MODIFIED:20211011T085756Z
UID:1111-1635897600-1635983999@mikaeli.fi
SUMMARY:Pikku Kakkosen Seikkailukone
DESCRIPTION:Seikkailukone-konsertit riemastuttavat marraskuussa Mikkelissä\nNäytökset ovat klo 11\, klo 15 ja klo 17.30\nKesto noin 40 min\n\nReppu-Heppu ystävineen kutsuu mukaan talvisiin seikkailuihin! \nYlös\, eteen\, oikeaan\, alas\, taakse\, vasempaan! Pikku Kakkosesta tuttu Seikkailukone polkaistaan käyntiin Mikkelissä järjestettävissä konserteissa. Seikkailua kuljettaa mielikuvittelun mestari Reppu-Heppu\, jonka johdolla päästään laulamaan ja leikkimään talvikaupungissa ja ihmettelemään talvihuvipuiston menoa. \nReppu-Hepun kanssa lavalla seikkailee joukko tuttuja Pikku Kakkosesta: Tuomo\, Yasmin\, Jaakko sekä veijarimainen Nalle. Reissumusiikista vastaa Seikkailukoneen oma bändi\, jossa Tuomon kanssa soittavat Isa-Eerika Lehto\, Janne Ali-Vehmas ja Veikko Muikku. \nPitkästä aikaa myös yleisöllä on mahdollisuus osallistua konserttiin paikan päällä ja heittäytyä iloiseen seikkailuun. Klo 15 ja 17.30 konsertit taltioidaan ja nähdään Yle TV2:ssa ja Yle Areenassa uuden vuoden vaihduttua 1.1.2022 ja 8.1.2022. \nYlös\, eteen\, oikeaan\, alas\, taakse\, vasempaan\, seikkailun voit löytää ihan mistä vaan – kuten marraskuussa Mikkelistä! \nLiput 10\,50 €\nHUOM. myös sylivauvoille tulee lunastaa lippu! \nJärj. YLE Pikku Kakkonen
URL:https://mikaeli.fi/event/pikku-kakkosen-seikkailukone/
CATEGORIES:Lapset ja nuoret,Tapahtuma,Viihde
END:VEVENT
BEGIN:VEVENT
DTSTART;TZID=Europe/Helsinki:20211106T140000
DTEND;TZID=Europe/Helsinki:20211106T140000
DTSTAMP:20260425T133710
CREATED:20210622T112611Z
LAST-MODIFIED:20211015T133634Z
UID:386-1636207200-1636207200@mikaeli.fi
SUMMARY:Taipaleenjoki -ooppera
DESCRIPTION:Joulukuun alussa Leningradin Sotilaspiirin komentaja Kirill A. Meretskov oli kääntänyt Karjalan kannaksen suuren hyökkäyksen painopisteen Viipurin suunnasta itäiselle Kannakselle. Suomalaisten kova vastarinta alkuperäisellä hyökkäyslinjalla Kannaksella oli yllättänyt puna-armeijan\, ja hyökkäysvoimat kaksinkertaistettiin\, mutta läpimurtoa ei siitä huolimatta tapahtunut. Suomi säilytti itsenäisyytensä\, mutta jäljelle jäi tragedia. \nTaipaleenjoki-ooppera kertoo inhimillisen tarinan Taipaleen taisteluista kansallisrunoilijamme Yrjö Jylhän silmin ja tunnoin. Jylhä koki rintaman kauheudet niiden kokonaisuudessaan johdettuaan Kempin rykmentin 1 pataljoonan toista komppanjaa. Sodan kokemukset saivat lopulta Jylhän riistämään oman henkensä vuonna 1956. Taipaleenjoki-oopperaa on esitetty viimeksi Ilmajoen Musiikkijuhlilla täysille katsomoille vuosina 2010–2012. \nMartti Talvela -sali \nLiput 47\,50 € (syyskampanja) \nJärj. OperArt Jyrki Anttila OY\nwww.operart.fi
URL:https://mikaeli.fi/event/taipaleenjoki-ooppera/
CATEGORIES:Tapahtuma
END:VEVENT
BEGIN:VEVENT
DTSTART;TZID=Europe/Helsinki:20211107T180000
DTEND;TZID=Europe/Helsinki:20211107T180000
DTSTAMP:20260425T133710
CREATED:20210622T115803Z
LAST-MODIFIED:20211104T132950Z
UID:389-1636308000-1636308000@mikaeli.fi
SUMMARY:Maustetytöt - Vuoden pimein yö 
DESCRIPTION:Tapahtuma on siirretty muutaman viikon aikaisemmaksi (edelliset ajankohdat 3.10.2020 ja 27.11.2021). Huom\, myös tapahtuman nimi muuttunut. Jo ostetut liput käyvät sellaisenaan uuteen ajankohtaan. \nMaustetytöt tekevät joulun alla konserttisalikiertueen\, jonka keikoilla kuullaan kattavasti Maustetyttöjen tähänastista tuotantoa. Konserttisalit luovat intiimin ympäristön Maustetyttöjen surumielisille lauluille ja erityisesti kappaleille\, jotka normaalisti klubeilla ja festivaaleilla jäävät esittämättä. \nVuoden pimein yö -konserttisalikiertueella Maustetyttöjen kappaleita kuullaan kahden setin verran. Viime vuoden Emma Gaalassa Vuoden rock- ja Vuoden yhtye -palkinnoilla palkittu Maustetytöt aloittaa kiertueensa marraskuun ensimmäisenä viikonloppuna Mikkelistä ja päättää rupeamansa joulun alla Oulussa. \nLiput 24\,50 € (sis. käsittelykulut) \nKesto noin 2h (sis. väliajan)
URL:https://mikaeli.fi/event/maustetytot-tapahtuma-siirtynyt/
CATEGORIES:Musiikki,Tapahtuma
END:VEVENT
BEGIN:VEVENT
DTSTART;TZID=Europe/Helsinki:20211111T180000
DTEND;TZID=Europe/Helsinki:20211111T180000
DTSTAMP:20260425T133710
CREATED:20210820T133450Z
LAST-MODIFIED:20211015T133926Z
UID:928-1636653600-1636653600@mikaeli.fi
SUMMARY:ESTRADILLA MUSIIKKIOPISTON SOLISTIT
DESCRIPTION:Jyrki Lasonpalo\, kapellimestari\nMikkelin musiikkiopiston solistit \nPerinteisessä nuorten solistien konsertissa soittavat tulevaisuuden lupaukset Mikkelin musiikkiopistosta. Kaupunginorkesterin ja musiikkiopiston vahvan yhteistyön hedelmistä saamme nauttia varmasti vielä pitkään. Konsertin johtaa tuttuun tapaan Mikkelin kaupunginorkesterin konserttimestari Jyrki Lasonpalo. \nMikkelin musiikkiopisto on ohjannut vuodesta 1960 lähtien alueensa lapsia ja nuoria musiikin harrastamisessa sekä viitoittanut tietä ammattiin tähdänneille oppilaille. Opetusaineita voi tätä nykyä opiskella klassisesta musiikista rytmimusiikkiin. \nLIPUT: 19 € / 17 € / 6 €\nLipunmyynnistä vastaa orkesterin toimisto\, yhteystiedot löydät täältä. \nJärj. Mikkelin kaupunginorkesteri
URL:https://mikaeli.fi/event/estradilla-musiikkiopiston-solistit/
CATEGORIES:Musiikki
END:VEVENT
BEGIN:VEVENT
DTSTART;TZID=Europe/Helsinki:20211112T190000
DTEND;TZID=Europe/Helsinki:20211112T190000
DTSTAMP:20260425T133710
CREATED:20210622T120030Z
LAST-MODIFIED:20210810T154228Z
UID:392-1636743600-1636743600@mikaeli.fi
SUMMARY:Sir Elwoodin hiljaiset värit
DESCRIPTION:Sir Elwoodin hiljaiset värit: Aamupäivän Errol Flynn \nMartti Talvela -sali \nLipun hinnat: \nPeruslippu 42\,00 €\nOpiskelija 33\,50 €\nRyhmät min 10 hlöä 39\,00 € \nJärj. Piikkikasvi Agency Oy
URL:https://mikaeli.fi/event/sit-elwoodin-hiljaiset-varit/
CATEGORIES:Musiikki,Tapahtuma
END:VEVENT
BEGIN:VEVENT
DTSTART;TZID=Europe/Helsinki:20211114T190000
DTEND;TZID=Europe/Helsinki:20211114T190000
DTSTAMP:20260425T133710
CREATED:20210622T120249Z
LAST-MODIFIED:20211108T101717Z
UID:395-1636916400-1636916400@mikaeli.fi
SUMMARY:Jarkko Ahola -Ikävä
DESCRIPTION:JARKKO AHOLA KONSERTTISALIKIERTUEELLE LOKAKUUSSA \nRocktenori Jarkko Ahola lähtee lokakuussa Ikävä-nimiselle konserttisalikiertueelle. Kahdeksan konsertin kiertue käynnistyy Järvenpää-talosta 22. lokakuuta ja päättyy Tampere-talolle 21. marraskuuta. Kiertueen lipunmyynti on käynnistynyt tänään. \n– Mitäpä elämä olisi ilman musiikkia – ja varsinkaan elävää musiikkia? Nyt kun päälle vuosi ollaan menty enemmän tai vähemmän ilman\, on ajatus tulevasta syksyn kiertueesta suorastaan kutkuttavan hieno. Se että kiertue on saanut nimensä joulukuussa julkaistusta versiostani Pave Maijasen – rauha hänen sielulleen – kappaleesta ”Ikävä”\, on keikoille ja konsertteihin mitä suurin IKÄVÄ. Meille musisoijille tuo on melkeinpä elinehto. Toivotaan\, että kesän myötä korona on muisto vain ja nähdään aurinkoisilla keikoilla ja syksyn kiertueella! Jarkko Ahola kommentoi. \nJarkko Ahola tuli aikoinaan tunnetuksi Teräsbetonin laulaja-basistina ja biisinkirjoittajana. Hänen ensimmäinen sooloalbuminsa Ave Maria – Joulun klassikot (2012) on myynyt tuplaplatinaa ja myös sitä seuranneet levyt Suojelusenkeli – Joulun klassikot 2 (2014) ja Romanssi (2016) ovat myyneet platinaa ja kultaa. Rock-tenorin omia biisejä sisältävä albumi Mä tuun suo luo julkaistiin keväällä 2018 ja se nousi suoraan Suomen virallisen listan sijalle 2. Miehen viimeisin\, syksyllä 2019 julkaistu Metallisydän-albumi sisältää sekä suomen- että englanninkielisiä rock-klassikoita. Viime vuosina komeaääninen Ahola on hurmannut myös Elämäni Biisi tv-ohjelman solistina sekä esiintynyt yhdessä Waltteri Torikan kanssa täydelle Hartwall Arenalle kolmena vuotena peräkkäin. \nJarkko Ahola – laulu & kitara\nAntti Hakulinen – koskettimet\nLauri Laine – kitara\nJari Laitinen – basso\nAntti Mäkelä – rummut \nLiput alk. 35\,90 € \nKonsertin kesto noin 2h (sis. väliajan) \nSeuraa Jarkko Aholaa somessa:\nFacebook\nSpotify\nYoutube\nwww.jahola.com\nwww.warnermusiclive.fi/jarkkoahola
URL:https://mikaeli.fi/event/jarkko-ahola-ikava/
CATEGORIES:Musiikki,Tapahtuma
END:VEVENT
BEGIN:VEVENT
DTSTART;TZID=Europe/Helsinki:20211117T123000
DTEND;TZID=Europe/Helsinki:20211117T173000
DTSTAMP:20260425T133710
CREATED:20210622T120414Z
LAST-MODIFIED:20210622T120414Z
UID:400-1637152200-1637170200@mikaeli.fi
SUMMARY:Veripalvelun Verenluovutustilaisuus
DESCRIPTION:Verenluovutustilaisuus Mikaelin 2. kerroksessa klo 12.30-17.30. \nLue ohjeet verenluovutustilaisuuteen sekä varaa aikasi täältä. \nTervetuloa!
URL:https://mikaeli.fi/event/veripalvelun-verenluovutustilaisuus-8/
CATEGORIES:Tapahtuma
ATTACH;FMTTYPE=image/jpeg:https://mikaeli.fi/wp-content/uploads/2021/06/veripalvelut_tippa.jpg
END:VEVENT
BEGIN:VEVENT
DTSTART;TZID=Europe/Helsinki:20211118T190000
DTEND;TZID=Europe/Helsinki:20211118T190000
DTSTAMP:20260425T133710
CREATED:20210820T133726Z
LAST-MODIFIED:20211015T133919Z
UID:932-1637262000-1637262000@mikaeli.fi
SUMMARY:SAIMAA SINFONIETTA – KLARINETTISEIKKAILU
DESCRIPTION:Erkki Lasonpalo\, kapellimestari\nLauri Sallinen\, klarinetti\nAuri Ahola\, tanssi \nMyös syksyn toisessa Saimaa Sinfoniettan konsertissa juhlitaan kantaesityksellä. Eero Hämeenniemeltä tilatun Klarinettiseikkailun solistina esiintyvät tanssija Auri Ahola ja klarinettitaiteilija Lauri Sallinen. Konsertin muuna ohjelmana on Väinö Raition Idylli\, Uuno Klamin 1931 Toivo Haapasen johdolla kantaesitetty lapsisinfonianakin tunnettu Symphonie enfantine sekä Maurice Ravelin oboesoolostaan tunnettu iki-ihana Couperinin hauta. Ravel sävelsi teoksensa maailmansodassa kaatuneille ystävilleen barokkitanssien hengessä. Kauniisti soiva ja korkeaa soitintuntemusta osoittava orkestrointi tarjoilevat herkän ja runollisen valikoiman kaikkein kauneinta musiikkia. \nVäinö Raitio: Idylli\nEero Hämeenniemi: Klarinettiseikkailu\nUuno Klami: Symphonie enfantine\nMaurice Ravel: Le Tombeau de Couperin \nLIPUT: 27\,50 € / 25\,50 € / 10 €\nLipunmyynnistä vastaa orkesterin toimisto\, yhteystiedot löydät täältä. \nJärj. Mikkelin kaupunginorkesteri
URL:https://mikaeli.fi/event/saimaa-sinfonietta-klarinettiseikkailu/
CATEGORIES:Musiikki
END:VEVENT
BEGIN:VEVENT
DTSTART;TZID=Europe/Helsinki:20211119T190000
DTEND;TZID=Europe/Helsinki:20211119T190000
DTSTAMP:20260425T133710
CREATED:20210622T120613Z
LAST-MODIFIED:20210810T154752Z
UID:405-1637348400-1637348400@mikaeli.fi
SUMMARY:Erin 10 vuotta hunningolla -juhlakiertue
DESCRIPTION:ERIN JUHLAKIERTUEELLE SYKSYLLÄ \nIhastuttava Erin lähtee tulevana syksynä mittavalle konserttisalikiertueelle. 10 vuotta hunningolla -juhlakiertue juhlistaa Erinin kymmenvuotista soolouraa. Kiertueella kuullaan kappaleita myös syksyllä julkaistavalta uudelta albumilta.\n\n-Ihanaa päästä keikoille – ja lisäksi vielä juhlimaan kymmenvuotista soolouraa. Ensimmäistä omaa kappaletta tehdessäni en tiennyt löytääkö jengi musaani vai ei. En osannut myöskään ajatella\, että biisien kirjoittamisesta tulee minun juttuni ja minusta laulaja-lauluntekijä. Mutta tässä sitä ollaan! Bändin ja tiimin lisäksi moni keikoillani kävijä on kulkenut matkassa mukana jopa kymmenen vuotta. Rakastan yleisöäni\, sen edessä olen mukavuusalueellani – tajuamme toisiamme ja on sairaan siistiä\, että on löytynyt oma jengi joka tulee keikoille ja joiden kanssa voi kokea asioita\, fiilistellä\, itkeä ja nauraa\,  Erin sanoo. \nErinin uusin single Niinku koko ajan ilmestyi huhtikuussa 2021 ja se nousi suoraan radioiden soittolistoille sekä Spotifyn kuunnelluimpien kappaleiden joukkoon. Niinku koko ajan seuraa toukokuussa 2020 ilmestynyttä paluusingleä Yhtenä sunnuntaina\, josta tuli nopeasti yksi maamme soitetuimmista kappaleista ja myös kaikkien radioiden soitetuin biisi. Kuukausia Spotifyn top 50 -listalla pysytellyt Yhtenä sunnuntaina sai Radiomedian antaman Kuukauden radiobiisi -palkinnon syys- ja lokakuussa 2020\, eli oli noina kuukausia radioiden kautta eniten suomalaisia tavoittanut kappale. \nMartti Talvela -sali \n\n\n\n\n\n\nLiput 39\,50 € (sis.palvelumaksu)
URL:https://mikaeli.fi/event/erin-10v-huningolla-juhlakiertue/
CATEGORIES:Musiikki,Tapahtuma
END:VEVENT
BEGIN:VEVENT
DTSTART;TZID=Europe/Helsinki:20211120T190000
DTEND;TZID=Europe/Helsinki:20211120T190000
DTSTAMP:20260425T133710
CREATED:20210622T120907Z
LAST-MODIFIED:20211015T133411Z
UID:412-1637434800-1637434800@mikaeli.fi
SUMMARY:Behm
DESCRIPTION:BEHMin kaltaisia menestystarinoita on yksi miljoonassa. Draaman kaari viehättää -debyyttialbumillaan ilmiömäiseen suosioon noussut laulaja-lauluntekijä BEHM on yksi musiikkikentän kiehtovimmista tekijöistä 2020-luvulla. Triplaplatinaa lähentelevä vaikuttava debyytti on saanut osakseen poikkeuksellista huomiota ja BEHM on vakiinnuttanut nopeasti paikkansa Suomen suosituimpien tähtien joukossa. \nSyyskuussa 2020 julkaistulta debyyttialbumilta löytyvä\, nyt jo yli nelinkertaista platinaa striimannut ja Musiikkikustantajien Vuoden biisi 2020 -palkinnolla palkittu\, Hei rakas -debyyttisingle nousi historialliseen suosioon niin suoratoistopalveluissa\, kuin radiossakin. Sitä seuranneet singlet ovat kaikki nousseet virallisen singlelistan ykköseksi sekä tiheään radiosoittoon ja BEHMin kappaleet ovatkin soineet yhteensä yli viisi kuukautta radiolistan ykkösenä. Lisäksi BEHM oli ainoana tulokasartistina vuoden 2020 Suomen Spotifyn top10 kuunnelluimman artistin joukossa. \nBEHM on lahjakas lauluntekijä\, joka säveltää ja sanoittaa omat kappaleensa itse ja osallistuu myös vahvasti niiden tuotantoprosessiin – debyyttialbumin kappaleista 2 (Päästä varpaisiin ja Yhtä vaille kaksi) ovat täysin BEHMin omaa käsialaa! Tämän upeaäänisen artistin herkkä tulkinta ja koukuttavat pop-melodiat yhdistettyinä samaistuttaviin tarinoihin koskettavat sukupolvesta toiseen. \nEsityksen kesto n. 60 min. \nPeruslippu 34\,50€ (sis.palvelumaksu) \nBEHM Dinner & Show- lippu 1\, kattaus klo 17:00\n79\,50 eur (sis.palvelumaksu) \nSHOW & DINNER\nVALITTAVANA KATTAUS KLO 17.00 (ENNEN KONSERTTIA) TAI KLO 20.00 (KONSERTIN JÄLKEEN)\nMENU:\nVÄLIMERELLINEN JOULUMENU\nALKURUOKANA\nTALON CAESARSALAATTIA JA KASTIKETTA L\,G\nLEIPÄKRUTONKEJA L\nGRILLATTUJA TAPAS-KASVIKSIA L\,G\nPAAHDETTUA ARTISOKKAA\, HERKKUSIENIÄ BALSAMICO\, GRILLATTUA PAPRIKOITA\, MARINOITUJA OLIIVEJA\nFENKOLI-KATKARAPUCOCTAIL L\,G\nPAPRIKAPAAHDETTUA LOHTA JA LIMEDIPPIÄ L\,G\nYRTTIPAAHDETTUA PORSAAN FILETTÄ JA KAPRIS VINAIGRETTEA JA TRYFFELIÄ L\,G\nPÄÄRUOKANA\nYLIKYPSÄÄ HÄRÄN ENTRECOTE`TA\, TUMMAA MADEIRA-KASTIKETTA L\,G\nROSMARIINIPAAHDETTUJA PERUNOITA JA -KASVIKSIA L\,G\nJÄLKIRUOKANA\nKANELIPANNACOTTAA JA HILLOTTUA KIRSIKKAA L\,G\nSHOW & DINNER -PAKETTIEN MYYNTI PÄÄTTYY 2 PÄIVÄÄ ENNEN KONSERTTIA.\nOikeudet muutoksiin pidätetään.
URL:https://mikaeli.fi/event/behm/
CATEGORIES:Musiikki,Tapahtuma
END:VEVENT
BEGIN:VEVENT
DTSTART;TZID=Europe/Helsinki:20211125T190000
DTEND;TZID=Europe/Helsinki:20211125T190000
DTSTAMP:20260425T133710
CREATED:20210729T093937Z
LAST-MODIFIED:20211103T144106Z
UID:643-1637866800-1637866800@mikaeli.fi
SUMMARY:Rakuunasoittokunnan 100 -vuotisjuhlakonsertti
DESCRIPTION:RAKUUNASOITTOKUNTA 100\nRakuunasoittokunnan 100 -vuotisjuhlakonsertti \nMusiikkimajurit Riku Huhtasalo ja Tomi Väisänen kapellimestarit\nAngelika Klas ja Hannu Lehtonen laulu\nSeppo Hovi tarinat ja juonto \nRakuunasoittokunnan juhlavuosi huipentuu 100-vuotisjuhlakonserttiin. Konsertin juontajana on musiikkineuvos Seppo Hovi ja laulusolisteina Angelika Klas ja Hannu Lehtonen. Konsertissa kuullaan soittokunnan osaamista laajalla rintamalla. Laulusolistien lisäksi soittokunnan omat solistit kapteeni Marko Saikko ja ylikersantti Joonas Hytti esittävät virtuoosisen sooloteoksen kahdelle baritonitorvelle. Juhlavuodelle on myös tilattu palkitulta säveltäjä Jukka-Pekka Lehdolta moderni\, ratsuväestä ja ratsuväen hengestä aiheensa ammentanut puhallinorkesteriteos. Teos on yksi Rakuunasoittokunta 100 -juhlavuoden merkkipaaluista. Tervetuloa juhlimaan kanssamme 100-vuotista taivalta! \nLiput 20\,00€ (sis käsittelykulun)\nKesto 2\,5 tuntia väliaikoineen \nJärj. Puolustusvoimat/Rakuunasoittokunta
URL:https://mikaeli.fi/event/rakuunasoittokunnan-100-vuotisjuhlakonsertti/
CATEGORIES:Musiikki
END:VEVENT
BEGIN:VEVENT
DTSTART;TZID=Europe/Helsinki:20211126T190000
DTEND;TZID=Europe/Helsinki:20211126T190000
DTSTAMP:20260425T133710
CREATED:20210820T134015Z
LAST-MODIFIED:20211015T133913Z
UID:935-1637953200-1637953200@mikaeli.fi
SUMMARY:SAIMAA SINFONIETTA – VIIHTEELLÄ
DESCRIPTION:Vytautas Lukočius\, kapellimestari\nMarjukka Tepponen\, sopraano\nAarne Pelkonen\, baritoni \nValohoitoa marraskuun lopun synkkyyteen tarjoillaan Saimaa Sinfoniettan viihdekonsertissa koko Mikaelin täydeltä. Solisteina kilpaa spottivalojen kanssa loistavat suurta suosiota niin ooppera- kuin viihdelavoillakin saaneet sopraano Marjukka Tepponen ja baritoni Aarne Pelkonen. Mikkelin ja Lappeenrannan kaupunginorkesterit esittävät laajan kattauksen rakastettuja musikaalisävelmiä\, ikonista elokuvamusiikkia ja kansainvälisiä hittejä eri vuosikymmeniltä. Nostalgiaa\, tunteiden vuoristorataa ja hyvää meininkiä luvassa siis koko illan. Koko komeuden johtaa kapellimestari Vytautas Lukočius. \nLIPUT: 27\,50 € / 25\,50 € / 10 €\nLipunmyynnistä vastaa orkesterin toimisto\, yhteystiedot löydät täältä. \nJärj. Mikkelin kaupunginorkesteri
URL:https://mikaeli.fi/event/saimaa-sinfonietta-viihteella/
CATEGORIES:Musiikki
END:VEVENT
BEGIN:VEVENT
DTSTART;TZID=Europe/Helsinki:20211127T190000
DTEND;TZID=Europe/Helsinki:20211127T190000
DTSTAMP:20260425T133710
CREATED:20211011T083008Z
LAST-MODIFIED:20211011T083047Z
UID:1126-1638039600-1638039600@mikaeli.fi
SUMMARY:Kake Randelin – Kaikki hitit!
DESCRIPTION:Kop kop kop\, Tarja\, Silitä ja paijaa\, Nasta pimu\, Jannu huoleton\, Kirje kotiin ja Kielletyt tunteet sekä monet muut hitit ovat kappaleita\, jotka saavat rytmijalan vipattamaan paatuneimmaltakin kuulijalta. Kake oli pop jo 1970-luvulla ja hän on pop yhäkin. \nKake Randelin soi yhä kovalla tahdilla radioissa\, tanssilavoilla ja laivoilla. Nyt teille kaikille tarjoutuu mahdollisuus nähdä hänet myös harvinaisuutena konserttisalissa. Tule hakemaan hyvää mieltä ja tule mukaan nauttimaan vauhdikkaan musiikin tunnelmasta! \nLiput 29\,50 €
URL:https://mikaeli.fi/event/kake-randelin-kaikki-hitit/
CATEGORIES:Musiikki,Tapahtuma
END:VEVENT
END:VCALENDAR