BEGIN:VCALENDAR
VERSION:2.0
PRODID:-//Konsertti- ja kongressitalo Mikaeli - Suomen kiinnostavin tapahtumatalo - ECPv6.10.1.1//NONSGML v1.0//EN
CALSCALE:GREGORIAN
METHOD:PUBLISH
X-ORIGINAL-URL:https://mikaeli.fi
X-WR-CALDESC:Events for Konsertti- ja kongressitalo Mikaeli - Suomen kiinnostavin tapahtumatalo
REFRESH-INTERVAL;VALUE=DURATION:PT1H
X-Robots-Tag:noindex
X-PUBLISHED-TTL:PT1H
BEGIN:VTIMEZONE
TZID:Europe/Helsinki
BEGIN:DAYLIGHT
TZOFFSETFROM:+0200
TZOFFSETTO:+0300
TZNAME:EEST
DTSTART:20220327T010000
END:DAYLIGHT
BEGIN:STANDARD
TZOFFSETFROM:+0300
TZOFFSETTO:+0200
TZNAME:EET
DTSTART:20221030T010000
END:STANDARD
END:VTIMEZONE
BEGIN:VEVENT
DTSTART;TZID=Europe/Helsinki:20220824T190000
DTEND;TZID=Europe/Helsinki:20220824T190000
DTSTAMP:20260424T190056
CREATED:20220711T081542Z
LAST-MODIFIED:20220808T074356Z
UID:1855-1661367600-1661367600@mikaeli.fi
SUMMARY:Helsingin poliisisoittokunta: A tribute to Celine Dion & Frank Sinatra
DESCRIPTION:A tribute to Celine Dion & Frank Sinatra \nHelsingin poliisisoittokunnan solisteina Inga Söder sekä Sami Pitkämö. Säihkyvässä viihdekonsertissa nautitaan upeimmista Celine Dionin helmistä sekä Frank Sinatran svengistä. Koe livekonsertti upeiden solistien ja suuren orkesterin kanssa! Helsingin poliisisoittokuntaa johtaa ylikapellimestari Sami Ruusuvuori. \nLiput palvelumaksuineen: \nPeruslippu 17\,50€\nLapset ( alle 10 v)\, opiskelija\, eläkeläinen 11\,50€ \nTapahtuman järjestää Helsingin poliisisoittokunta
URL:https://mikaeli.fi/event/ita-suomen-poliisilaitos-a-tribute-to-celine-dion-frank-sinatra/
CATEGORIES:Musiikki,Tapahtuma
END:VEVENT
BEGIN:VEVENT
DTSTART;TZID=Europe/Helsinki:20220828T160000
DTEND;TZID=Europe/Helsinki:20220828T190000
DTSTAMP:20260424T190056
CREATED:20211104T111929Z
LAST-MODIFIED:20220818T070723Z
UID:1208-1661702400-1661713200@mikaeli.fi
SUMMARY:Mathias Sandberg Trio / PERUTTU
DESCRIPTION:TAPAHTUMA ON PERUTTU. Liput voi palauttaa osoitteessa web.lippu.fi/palautus 30.9.2022 asti. \n  \nJazzkitaristi ja säveltäjä Mathias Sandberg\, jota amerikkalaisessa musiikkilehdessä Jazziz Magazine on kutsuttu ”yhdeksi Suomen parhaiten varjelluista salaisuuksista”\, kuuluu maamme aktiivisimpiin jazzmuusikoihin. Hän on opiskellut New Yorkin Manhattan School of Musicissa ja Bostonin Berklee College of Musicissa\, ja työskennellyt mm. Georg Riedelin\, Pierre Swärdin\, Peter Asplundin\, Nick Mancinin\, Jukka Eskolan\, Teppo Mäkysen ja Manuel Dunkelin kanssa. Sandberg tekee vuosittain satakunta jazzkonserttia ja on kiertänyt sekä Euroopassa että Yhdysvalloissa. \nThe Doctor \nSandbergin pitkään odotetulla levyllä The Doctor kuullaan hänen omalaatuista ”hard swingin’\, roovy & soulful jazz”-sekoitusta vahvoilla melodioilla\, rytmisesti leikkisää improvisaatiota ja lähes telepaattista yhteissoittoa. Levy on saanut ylistäviä arvosteluja molemmilla puolilla Atlanttia ja sitä on soitettu ahkerasti jazzradiokanavilla Euroopassa\, Yhdysvalloissa\, Etelä-Amerikassa\, Aasiassa ja Australiassa. \nMathias Sandberg Trio\nMathias Sandberg\, kitara\nZacharias Holmkvist\, basso\nStefan Brokvist\, rummut \nLiput 14\,50 € \nKesto 60 min\, ei väliaikaa.
URL:https://mikaeli.fi/event/mathias-sandberg-trio/
CATEGORIES:Musiikki,Tapahtuma
END:VEVENT
END:VCALENDAR