BEGIN:VCALENDAR
VERSION:2.0
PRODID:-//Konsertti- ja kongressitalo Mikaeli - Suomen kiinnostavin tapahtumatalo - ECPv6.10.1.1//NONSGML v1.0//EN
CALSCALE:GREGORIAN
METHOD:PUBLISH
X-ORIGINAL-URL:https://mikaeli.fi
X-WR-CALDESC:Events for Konsertti- ja kongressitalo Mikaeli - Suomen kiinnostavin tapahtumatalo
REFRESH-INTERVAL;VALUE=DURATION:PT1H
X-Robots-Tag:noindex
X-PUBLISHED-TTL:PT1H
BEGIN:VTIMEZONE
TZID:Europe/Helsinki
BEGIN:DAYLIGHT
TZOFFSETFROM:+0200
TZOFFSETTO:+0300
TZNAME:EEST
DTSTART:20220327T010000
END:DAYLIGHT
BEGIN:STANDARD
TZOFFSETFROM:+0300
TZOFFSETTO:+0200
TZNAME:EET
DTSTART:20221030T010000
END:STANDARD
END:VTIMEZONE
BEGIN:VEVENT
DTSTART;TZID=Europe/Helsinki:20221001T160000
DTEND;TZID=Europe/Helsinki:20221001T170000
DTSTAMP:20260424T125713
CREATED:20220531T092633Z
LAST-MODIFIED:20220926T075311Z
UID:1811-1664640000-1664643600@mikaeli.fi
SUMMARY:Meemitalo tour / LOPPUUNMYYTY!
DESCRIPTION:Meemitalo Tour tuo ensimmäistä kertaa huippusuositut vaikuttajat kaupunkiisi hauskan tapahtuman merkeissä. Luvassa interaktiivinen lava-show\, jonka ohjelmassa visailuja ja kisailuja esiintyjien kesken sekä tietysti Meet & Greet. Tule paikan päälle pitämään hauskaa ja tapaamaan Suomen ykkösvaikuttajia! \nEsiintymässä Niko ja Santtu\, Ella & Helmi\, Veetu Vuori ja Mr. Zeus!  \nMeemitalo on Suomen ensimmäinen somettajien yhteinen kommuuni\, johon kuuluu 10 suosittua tubettajaa ja tiktokkaajaa. Meemitalon jäsenillä on somessa yhteensä yli 3 miljoonaa seuraajaa. Niko ja Santtu perustivat Meemitalon vuonna 2020 ja nyt Meemitaloon kuuluvat myös Ella & Helmi\, Weksi\, Veetu Vuori\, Katjanen\, Mr. Zeus\, Nino Ärling ja Arttu Laitinen. \nItse Meemitalo sijaitsee Tampereella ja sieltä löytyvät skeittiparkki\, trampoliini\, vaahtomonttu\, kuvausstudio\, pelihuone sekä muita kuvaustiloja. Meemitalo on jäsenten yhteinen kuvaustila\, jossa monet videot\, haasteet ja Tiktokit kuvataan yhdessä. \nTapahtuman kesto n. 3 tuntia\, sisältäen 1 tunnin show’n ja Meet & Greet -osion. \nLipun hinta 20\,00 € \nEsiintyjien somet: \nNiko ja Santtu\nInstagram: @nikojasanttu\nYoutube: https://www.youtube.com/c/NikojaSanttu\nTikTok: @justapränkbro \nNiko\nInstagram: @nikoreettu \nSanttu\nInstagram: @santtust\nTikTok: @santerivili \nElla ja Helmi\nInstagram: @helmijaella\nYoutube: https://www.youtube.com/c/EllaHelmi\nTikTok: @helmiella \nElla\nInstagram @ellahautajarvi \nHelmi\nInstagram: @helmi.kantola \nVeetu Vuori\nInstagram: @veetuvuori\nYoutube: https://www.youtube.com/channel/UCUF41-sE3-IagcMFZOSl4Pw\nTikTok:  @veetukatja \nMr. Zeus\nInstagram: @mrzeusofficial\nYoutube: https://www.youtube.com/channel/UCATbIeZPgjOu5S3mZHpMFbQ\nTikTok: @mrzeusofficial
URL:https://mikaeli.fi/event/meemitalo-tour/
CATEGORIES:Lapset ja nuoret,Tapahtuma,Viihde
END:VEVENT
BEGIN:VEVENT
DTSTART;TZID=Europe/Helsinki:20221002T180000
DTEND;TZID=Europe/Helsinki:20221002T180000
DTSTAMP:20260424T125713
CREATED:20220221T091809Z
LAST-MODIFIED:20221002T130647Z
UID:1480-1664733600-1664733600@mikaeli.fi
SUMMARY:Värttinä: Oi Dai 30v-juhlakiertue
DESCRIPTION:Värttinän kultaa ja platinaa myynyt Oi Dai –hittilevy täytti 30 vuotta. Nyt on syytä juhlaan ja juhlakiertueeseen.\nIlmassa on nostalgian havinaa ja supikkaiden supsutusta\, sillä laulajariviin (Mari Kaasinen\, Susan Aho ja Karoliina Kantelinen) liittyy nyt neljäntenä myös Värttinä-yhtyeen perustaja ja alkuperäisjäsen\, muusikko Sari Kaasinen. Ja ne kukkamekot\, ne on myös kaivettu naftaliinista. \nJuhlavuoden kunniaksi suomen tunnetuin kansanmusiikkiyhtye päätti kokeilla\, vieläkö Ukko Lumi irtoaisi yhtä nopealla tempolla tai miten sujuisi Marilaulu tai inkeriläinen röntyskälaulu Vot vot ja niin niin. Ja hyvinhän ne sujuvat\, entistä ehompina ja päivitettyinä versioina. Sarin kaksirivinen haitarikin soi aivan kuin 90-luvulla. \nVärttinä on vuonna 1983 Pohjois-Karjalassa\, Rääkkylässä perustettu Suomen tunnetuin kansanmusiikkiyhtye. Yhtyeen perustivat Sari ja Mari Kaasinen yhdessä äitinsä Pirkko Kaasisen kanssa. \nVärttinän musiikin juuret ovat karjalaisessa ja laajemmin suomalais-ugrilaisessa perinteessä\, Kalevalassa ja Kantelettaressa. Yhtyeen soundi syntyi vahvan ja energisen moniäänisen laulutavan ympärille\, johon oman lisänsä toivat kanteleen ja muiden kansansoitinten lisäksi modernimmat soittimet ja ripaus rokkia. Värttinän live-esiintymiset ovat tunteikkaita pyörremyrskyjä – juurihoitoa\, joka ei jätä ketään kylmäksi. \nVärttinän Oi Dai-levy julkaistiin kesän korvalla 1991. Levyn julkaisua ennakoi Marilaulu-single\, josta tuli yhtyeen ensimmäinen radiohitti. Oi Dai-levystä tuli yhtyeen suuri läpimurto\, ja levy toi Värttinän suuren yleisön tietoisuuteen. Oi Dai myi kultaa (25.000 kpl) ja platinaa (50.000 kpl) ja oli radiokanavien soitetuimpia syksyn 1991 ajan. \nVärttinä esiintyi kaikilla suurilla rock-festivaaleilla ja sadoissa konserteissa Suomessa ja pian myös Euroopassa. Yhtyeen kiertueet laajenivat pian Euroopan lisäksi mm. Pohjois-Amerikkaan\, Japaniin\, Australiaan ja Brasiliaan. \nNykyisin Värttinä keikkailee ympäri maailmaa ja iloitsee mahdollisuudesta päästä esittämään hittilevynsä materiaalia suomalaisissa konserttisaleissa ja klubeissa. \nVuoden 2021 aikana Värttinä on saanut ansaitusti paikkansa Musiikkimuseo Famen kunniagalleriassa ja oma tähti Tampereen Walk of Famessa loistaa kirkkaana. \nVärttinä Oi Dai-kokoonpano:\nSusan Aho\, laulu ja harmonikka\nMari Kaasinen\, laulu ja kantele\nKaroliina Kantelinen\, laulu\, huilut ja kantele\nFeaturing Sari Kaasinen\, laulu\, kantele\, kaksirivinen haitari\nMikko Hassinen\, perkussiot\nMatti Laitinen\, kitara ja mandocello\nLassi Logren\, viulu ja jouhikko \nLipun hinta 29\,50 €
URL:https://mikaeli.fi/event/varttina-oi-dai-30v-juhlakiertue/
CATEGORIES:Musiikki,Tapahtuma
END:VEVENT
BEGIN:VEVENT
DTSTART;TZID=Europe/Helsinki:20221006T190000
DTEND;TZID=Europe/Helsinki:20221006T190000
DTSTAMP:20260424T125713
CREATED:20210621T094501Z
LAST-MODIFIED:20220928T124759Z
UID:336-1665082800-1665082800@mikaeli.fi
SUMMARY:Marion Aurinkosilmät -konserttikiertue / PERUTTU
DESCRIPTION:Tapahtuma on peruttu. Liput voi palauttaa osoitteessa web.lippu.fi/palautus 30.10.2022 mennessä.\n\n\n\n\n\n\n\n\n\n\n\n\n\n\n\n\n\n\n\n\n\n\n\n\n\n\n 
URL:https://mikaeli.fi/event/marion-aurinkosilmat-konserttikiertue/
CATEGORIES:Musiikki,Tapahtuma
END:VEVENT
BEGIN:VEVENT
DTSTART;TZID=Europe/Helsinki:20221013T180000
DTEND;TZID=Europe/Helsinki:20221013T180000
DTSTAMP:20260424T125713
CREATED:20220907T091759Z
LAST-MODIFIED:20220922T120149Z
UID:2225-1665684000-1665684000@mikaeli.fi
SUMMARY:LASTENMUSIIKKIKONSERTTI AMMUU!
DESCRIPTION:LASTENMUSIIKKIKONSERTTI Ammuu!\nto 13.10.2022 klo 18\, Mikaeli \nVuonna 2007 perustettu Lastenmusiikkiorkesteri Ammuu! on uuden suomalaisen lastenmusiikin lippulaiva. Yhtyeen akustinen sointi ja upea stemmalaulu\, pedagoginen ote sekä taidokas esiintyminen ovat tehneet vaikutuksen niin Emma-palkintoraatiin\, musiikkikasvatusväkeen kuin kymmeniin tuhansiin lapsiin kautta maan. Tällä kertaa Ammuu! yhdistää voimansa Mikkelin kaupunginorkesterin kanssa\, ja luvassa on kokonaisvaltainen konserttielämys koko perheelle. Konsertissa kuullaan suosikkeja Ammuun! monipuolisesta tuotannosta. Sovitukset kamariorkesterille on tehnyt Esko Elias Grundström. Saa laulaa ja leikkiä mukana! \nLastenmusiikkiorkesteri Ammuu!:\nHanna-Maija Aarnio: Lehmä – kellopeli\, viulu\, laulu\nSara Puljula: Piippolan Saara – lyömäsoittimet\, laulu\nRiikka Helske: Hiiri – kantele\, laulu\nEssi Putkonen: Kissa – viulu\, laulu\nTero Pajunen: Heppa – kitara\, laulu\nHeidi Tamper: Possu – puhallinsoittimet\, laulu \nLIPUT: 10 € (perhelippu samassa taloudessa asuvilta 35 €)\nHINTA S-ETUKORTILLA 8 € (perhelippu 30 €) \nLipunmyynnistä vastaa Mikkelin Kaupunginorkesteri\nYhteystiedot: https://mikkelinkaupunginorkesteri.fi/yhteystiedot/
URL:https://mikaeli.fi/event/lastenmusiikkikonsertti-ammuu/
CATEGORIES:Lapset ja nuoret,Musiikki,Tapahtuma
END:VEVENT
BEGIN:VEVENT
DTSTART;TZID=Europe/Helsinki:20221014T190000
DTEND;TZID=Europe/Helsinki:20221014T190000
DTSTAMP:20260424T125713
CREATED:20211001T111936Z
LAST-MODIFIED:20221007T084144Z
UID:1094-1665774000-1665774000@mikaeli.fi
SUMMARY:Arttu Wiskari – Suomen muotoinen kiertue
DESCRIPTION:Mikkelin Mikaelin 11.2.2022 -konsertti siirtyy\, uusi päivä 14.10.2022. Ostetut liput käyvät uuteen päivään sellaisenaan tai ne voi palauttaa 17.2.2022 mennessä osoitteessa web.lippu.fi/palautus. \nARTTU WISKARI SUOMEN MUOTOISELLE KIERTUEELLE \nLukuisista jättihiteistään tunnettu Arttu Wiskari pääsee viimein kiertueelle vuosi sitten julkaistun Suomen muotoisen pilven alla -albumin tiimoilta.  Tuleva Suomen muotoinen kiertue käynnistyy Järvenpäästä tiistaina helmikuun ensimmäinen päivä ja päättyy Espooseen sunnuntaina 6. maaliskuuta. Kiertue vierailee yhteensä kahdessakymmenessä kaupungissa. Konserttien lipunmyynti on alkanut tänään. \n– Suomen muotoinen kiertue on aiemmin tekemättä jäänyt kymmenvuotisjuhlakiertueeni. En ole koskaan tehnyt konserttisalirundia\, joten siitä tulee spesiaali. Tulemme näkemään kiertueen eteen todella paljon vaivaa. En malta odottaa\, Arttu sanoo. \nArttu Wiskari on tänä syksynä mukana supersuositussa Vain elämää -ohjelmassa\, ja hänen päiväänsä vietetään tänään 1. lokakuuta. Syksyn mittaan luvassa on ohjelman myötä siis lukuisia uusia tulkintoja Arttu Wiskarin kappaleista. \nLiput 37\,50€ \nKonsertin kesto n. 2 tuntia\, sisältäen väliajan. \nJärj. Warner Music Live \n 
URL:https://mikaeli.fi/event/arttu-wiskari-suomen-muotoinen-kiertue/
CATEGORIES:Musiikki,Tapahtuma
END:VEVENT
BEGIN:VEVENT
DTSTART;TZID=Europe/Helsinki:20221015T190000
DTEND;TZID=Europe/Helsinki:20221015T190000
DTSTAMP:20260424T125713
CREATED:20210621T092108Z
LAST-MODIFIED:20221007T084402Z
UID:323-1665860400-1665860400@mikaeli.fi
SUMMARY:Suvi Teräsniska -Ihmisen poika
DESCRIPTION:Tapahtuma on siirtynyt\, edellinen ajankohta 1.10.2021.  Jo ostetut liput käyvät sellaisenaan uuteen ajankohtaan. Mikäli uusi ajankohta ei sovi\, voit hakea palautusta lipuista 10.10.2021 mennessä\, ohjeet palautukseen löydät täältä. \nSUVI TERÄSNISKAN IHMISEN POIKA -KIERTUE SIIRTYY SYKSYLLE 2021 – MUKANA MYÖS UUSIA PAIKKAKUNTIA \nSuvi Teräsniskan toivottu Ihmisen poika -konserttisalikiertue siirtyy syksyyn 2021. Hän julkaisi vuoden 2019 elokuussa oman versionsa Yö-yhtyeen koskettavasta kappaleesta Ihmisen poika. Kappale oli Suvin edesmenneelle ystävälle ja mentorille Olli Lindholmille erityisen rakas. \n–Minulta on kovasti toivottu keikoille Yön kappaleita. Siksi päätin myös surutyönä itselleni tehdä kiertueen\, jolla esitän minulle rakkaita Yön lauluja. Saan samalla itsekin purkaa ikävääni laulamalla ja kertomalla omia tarinoitani Yö-yhtyeen musiikista ja sen merkityksestä elämääni. Kiertueella haluan kunnioittaa itselleni rakkaita ihmisiä Yö-yhtyeen taipaleen varrelta. Matkan varrelle on mahtunut myös paljon hyviä ja iloisia asioita\, joten toivon että konserteissa ei pelkästään vellota surussa vaan voidaan myös nauraa\, Suvi sanoo. \nKoskettavana tulkitsijana tunnetun Suvi Teräsniskan kaikki albumit ovat myyneet vähintään platinaa ja yhteensä hänen levyjään on myyty lähes puoli miljoonaa kappaletta. \nLiput alk. 37\,50 € \nSuvi haluaa olla mukana auttamassa vähävaraisia lapsia ja lapsiperheitä\, joten siksi osa lipputuotoista menee Hope ry:n toiminnan ja erityisesti pienten lasten tukemiseen. \nKonsertin kesto n. 2 tuntia\, sisältäen väliajan. \nJärj. Warner Music Live \n  \nKonserttielämyksen kruunaa herkullinen ruokailuhetki ennen konserttia Gastropub Einossa.\nPöytävaraukset Osuuskauppa Suur-Savon Myyntipalvelusta: p. 010 764 2000 (8\,35 snt/puh + 12\,09 snt/min) tai sähköpostilla sales.suur-savo@sok.fi \nSuosittelemme ruokailuun:\nPaikallisia juustoja (L)\n– Kappelin juustolan juustoja \nPaikallista kalaa (L\,G)\n– Kera kasviksien \nEinon suklaakakkua (L\,G)\n– Suklainen herkku kera pähkinöiden \nMenun hinta 48 € / hlö \nTAI\n\nPuumalan kylmäsavulohta (L\,G)\n– Puumalan kylmäsavulohta & Saimaa leipää \nEinon pihvi (L\,G)\n– Kunnon sisäfilepihvi\, kasviksia \nKinuskia & mustaherukkaa (L\,G)\n– Kinuskikakkua & mustaherukkaa \nMenun hinta 54 € / hlö
URL:https://mikaeli.fi/event/suvi-terasniska-ihmisen-poika/
CATEGORIES:Musiikki,Tapahtuma
END:VEVENT
BEGIN:VEVENT
DTSTART;TZID=Europe/Helsinki:20221016T150000
DTEND;TZID=Europe/Helsinki:20221016T150000
DTSTAMP:20260424T125713
CREATED:20210622T112028Z
LAST-MODIFIED:20221011T122358Z
UID:383-1665932400-1665932400@mikaeli.fi
SUMMARY:JARI SILLANPÄÄ - SUOMI-HITIT
DESCRIPTION:Tapahtuma on siirtynyt\, edelliset ajankohdat 10.4.2021 ja 31.10.2021 sekä kiertueen aiempi nimi Jari Sillanpää 25v juhlakiertue 2021. Jo ostetut liput käyvät uuteen ajankohtaan sellaisenaan.  \nTapahtuma toteutetaan numeroimattomalla katsomolla\, paikkanumerot eivät siis pidä paikkaansa. \n  \nJari Sillanpää – Suomihitit 2022 \nSuomessa tykätään monenlaisista musiikkityyleistä\, niin iskelmästä poppiin kuin humpasta tangoon. Kukapa hyppisikään paremmin tyylistä toiseen kuin monitaituri Jari Sillanpää. \nOmiakin hittejä Jarilla riittäisi useamman konsertin verran\, mutta hän haluaa esittää myös muiden artistien tunnetuksi tekemiä kappaleita. Niitä\, joita hän pikkupoikana kuunteli mummolassa käydessään\, kuten esim Markku Aroa\, Katri Helenaa\, Tapio Rautavaaraa… \nJari Sillanpään 25-vuotista upeaa uraa oli tarkoitus juhlia jo kaksi vuotta sitten\, mutta valitettavasti koronapandemia sotki kaikkien suunnitelmat. \nSuomi-hitit soivat luonnollisesti ympäri Suomen kaikissa konserttisaleissa loka-marraskuussa.\nVarmista itsellesi ihanan nostalginen ilta täynnä mukavaa musiikkia ja loistavaa tunnelmaa. \n”Sytyn aina uudelleen ja uudelleen konserttilavalla yleisön edessä ja ihana päästä laulamaan teille koronapandemian jälkeen huippumuusikoiden kanssa”\, toteaa Jari ja toivottaa kaikki tervetulleiksi nauttimaan musiikista! \nKesto n. 2\,5 tuntia sis. väliajan \nLiput 52\,00 € (sis. käsittelykulut) \nJärj. Bridgehead Production ja Lilja Production \n  \nKonserttielämyksen kruunaa herkullinen ruokailuhetki ennen konserttia Gastropub Einossa. \nPöytävaraukset Osuuskauppa Suur-Savon Myyntipalvelusta: p. 010 764 2000 (8\,35 snt/puh + 12\,09 snt/min) tai sähköpostilla sales.suur-savo@sok.fi \nSuosittelemme ruokailuun: \nPaikallisia juustoja (L)\n– Kappelin juustolan juustoja \nPaikallista kalaa (L\,G)\n– Kera kasviksien \nEinon suklaakakkua (L\,G)\n– Suklainen herkku kera pähkinöiden \nMenun hinta 48 € / hlö \nTAI\n\nPuumalan kylmäsavulohta (L\,G)\n– Puumalan kylmäsavulohta & Saimaa leipää \nEinon pihvi (L\,G)\n– Kunnon sisäfilepihvi\, kasviksia \nKinuskia & mustaherukkaa (L\,G)\n– Kinuskikakkua & mustaherukkaa \nMenun hinta 54 € / hlö
URL:https://mikaeli.fi/event/jari-sillanpaa-25v-juhlakiertue-2021-tapahtuma-siirtynyt/
CATEGORIES:Musiikki,Tapahtuma
END:VEVENT
BEGIN:VEVENT
DTSTART;TZID=Europe/Helsinki:20221021T170000
DTEND;TZID=Europe/Helsinki:20221021T220000
DTSTAMP:20260424T125713
CREATED:20220819T131305Z
LAST-MODIFIED:20220822T063335Z
UID:2017-1666371600-1666389600@mikaeli.fi
SUMMARY:Syysbreikki
DESCRIPTION:Mikkelin Mikaeli järjestää nuorille Mikkelissä Syysbreikki-tapahtuman perjantaina 21.10.2022 Mikaelissa klo 17–22. Tapahtuma järjestetään yhteistyössä Mikkelin nuorisopalveluiden\, Mikkelin nuorisovaltuuston ja Mikkelin kulttuuripalveluiden kanssa. Mikaeli haluaa tapahtumalla tarjota nuorille elämyksiä ja saada talo täyttymään nuorisolla ja nuoruuden energialla. \nMikkelin nuorisovaltuusto on ollut mukana suunnittelemassa tapahtumaa keväästä lähtien. Tapahtumassa on erilaisia aktiviteettejä\, työpajoja ja toimintoja nuorille\, joita paikalliset yhdistykset\, seurat\, järjestöt ja organisaatiot tarjoavat. Paikalla on kulttuuri-/urheilu-/taidetoimijoita sekä muita nuorten kanssa työskenteleviä tahoja\, kuten hyvinvointipalveluja tarjoavia toimijoita ja hankkeita. \nMikaelissa nähdään myös erilaisia esityksiä paikallisilta nuorisoryhmiltä. Luvassa on tanssia\, musiikkia ja teatteria sekä muita ajankohtaisia nuorisoryhmiä. Tapahtuman päättää artisti iben keikka klo 21–22. \nibe on suomalaisen musiikin uudistaja. Sukupolvensa ääneksi kutsuttu artisti on uransa aikana luonut laajan ja monipuolisen katalogin. Siitä löytyy jokaiselle jotakin\, mutta iben tapauksessa se ei tarkoita; ei mitään kellekään. Artisti kuvailee suhdetta musiikkiinsa\, kuin päiväkirjaan. Hän kertoo henkilökohtaisuuden ja avoimuuden olevan hänelle tärkeitä arvoja. ibe uskoo ihmisten olevan pohjimmiltaan yllättävän samanlaisia. Ehkä juuri siksi kuulijat löytävät jatkuvasti omia ajatuksiaan iben teksteistä\, iben sanoittamana. \nTapahtumaan on vapaa pääsyy mutta paikkoja on rajoitetusti. Jokaiselle tulijalle jaetaan tapahtumaranneke hänen saapuessaan paikalle. Tapahtuma on päihteetön nuorisotapahtuma. Ovet tapahtumaan avautuvat klo 17 Mikaelissa\, Sointukatu 1\, 50100 Mikkeli. \nYhteystiedot: \nMikkelin Mikaeli Oy\nJuha Heikkilä\nToimitusjohtaja\njuha.heikkila@mikaeli.fi\n040 163 5583 \nMikkelin nuorisopalvelut\nJani Lastuniemi\nvs. nuorisosihteeri\njani.lastuniemi@sivistys.mikkeli.fi\n044 794 2438
URL:https://mikaeli.fi/event/syysbreikki/
CATEGORIES:Lapset ja nuoret,Musiikki,Tapahtuma,Viihde
ATTACH;FMTTYPE=image/png:https://mikaeli.fi/wp-content/uploads/2022/08/kotisivu-kuva-plain.png
END:VEVENT
BEGIN:VEVENT
DTSTART;TZID=Europe/Helsinki:20221021T170000
DTEND;TZID=Europe/Helsinki:20221028T233000
DTSTAMP:20260424T125713
CREATED:20221012T103328Z
LAST-MODIFIED:20221012T104040Z
UID:2470-1666371600-1666999800@mikaeli.fi
SUMMARY:Valonlampi
DESCRIPTION:Kulttuurin unelmavuosi häikäisee syyslomaviikolla \n  \nValonlampi-valotapahtuma valaisee Mikaelin ja Pankalammen ympäristöä syyslomaviikolla 21.-28.10. Valonlampi käynnistyy perjantaina 21.10. nuorten Syysbreikki-tapahtuman yhteydessä. Mikaelin valot syttyvät klo 17 ja valoinstallaatiot syttyvät ympäri Pankalampea klo 18. \nMikaelin ulkopinnalla nähdään Jääluola-valoinstallaatio\, jonka keskeyttää puolen tunnin välein Vuodenajat-valoinstallaatio. Mikaelin seinässä nähdään myös osallistava Just Dance -videoteos\, jossa yhdistyy viimeisin projisointiteknologia\, 3D-hahmosuunnittelu\, tanssipelin koukuttavuus ja jo kivikaudelta suosittu varjoleikki. \nMikaelin lisäksi Pankalammen ympäristö herää eloon useamman valoinstallaation voimin. Perjantaina Mikaelin pihalla nähdään Yhteinen planeettamme -teos\, jossa massiivisten valokiilojen rengas heijastetaan suoraan avaruuteen. Erittäin voimakkaiden Beam -heittimien show näkyy oikeissa olosuhteissa kilometrien päähän ja kiilat piirtävät taivaalle valovoimaisen “viestin” yhteiseltä planeetaltamme. Tulen virta -teos toivottaa vaeltajat tervetulleeksi kaupungin suunnasta. Joen väreilevä pinta ja rannat muuttuu hehkuvaksi tulimereksi. Viidakko -teos luo taianomaisen\, vihreän\, oranssin ja punaisen sävyissä hehkuva sademetsän lammen puoleisen sillan kupeeseen. Pankalammen länsirannalla oleva silta valaistaan kaikissa sateenkaaren väreissä Sateenkaarisilta -teoksella. Teokset lukuun ottamatta Just dancea ja Yhteistä planeettaa ovat perjantain lisäksi ihasteltavissa myös lauantaina 22.10. \nSunnuntaista eteenpäin Mikaeli hehkuu joka ilta aina Museoiden yöhön 28.10. saakka. Silloin valon ilo leviää myös kaupunkiin\, valaisten Museoiden yön kohteita. Valaistuna ovat Suur-Savon museo\, Sodan ja rauhan keskus Muisti ja Päämajamuseo sekä Mikkelin valokuvakeskus. \n\nValotaideteoksilla haluamme korostaa kaupungissamme ainutlaatuisesti yhdistyvää luontoa ja urbaania kaupunkikuvaa. Nykyaikaisen teknologian avulla pystymme viemään elämyksiä aivan uusille tasoille\, joita ei voi sanoin selittää – ne on itse koettava! kertoo mikkeliläisen tapahtumatuotantoyhtiö Lumion valosuunnittelija Janne Pajarinen.\n\nValotapahtuman mahdollistaa Kulttuurin unelmavuosi 2022 –hanke. Suunnittelun ja tapahtuman teokset toteuttavat Lumio Events\, Gaia Music\, 3Dbase ja OiOi. \n  \npe 21.10. \nKlo 17-23 Mikaeli \nKlo 18-22 Yhteinen planeettamme \nKlo 18-23 Just Dance\, Tulenvirta\, Sateenkaarisilta\, Viidakko \n  \nla 22.10.  \nKlo 18-23 Tulenvirta\, Sateenkaarisilta\, Viidakko\, Mikaeli \n  \nsu-to 23.–27.10.  \nKlo 18-23  Mikaeli \n  \npe 28.10.  \nKlo 18-23.30 Mikaeli\, sodan ja rauhan keskus Muisti\, Suur-Savon museo\, Mikkelin Valokuvakeskus \n  \nKulttuurin unelmavuoden tavoitteina ovat kulttuurin saatavuuden ja saavutettavuuden lisääminen\, kulttuuri-\, taide- ja tapahtuma-alan tekijöiden työllistäminen sekä hyvinvoinnin lisääminen alueella. Hanke edistää kokonaisvaltaisesti sosiaalista\, kulttuurista ja taloudellista kestävyyttä. Hankkeen rahoittavat Etelä-Savon maakuntaliitto Euroopan aluekehitysrahastosta sekä Mikkelin kaupunki. \n  \nLue lisää: https://kulttuurinunelmavuosi.fi/valonlampi/ \nFacebook: https://fb.me/e/39O6bRvhS \n  \nLisätietoja \nJatta Juhola \nHankepäällikkö \njatta.juhola@sivistys.mikkeli.fi \n\n040 129 5157\n\n  \nNiko Väisänen \nLumio Events \nniko@lumio.fi \n\n044 535 1902
URL:https://mikaeli.fi/event/valonlampi/
CATEGORIES:Tapahtuma
END:VEVENT
BEGIN:VEVENT
DTSTART;TZID=Europe/Helsinki:20221022T190000
DTEND;TZID=Europe/Helsinki:20221022T190000
DTSTAMP:20260424T125713
CREATED:20210621T103323Z
LAST-MODIFIED:20210920T101033Z
UID:348-1666465200-1666465200@mikaeli.fi
SUMMARY:Ressu Redford
DESCRIPTION:Tapahtuma on siirtynyt\, edellinen ajankohta 15.10.2021. Jo ostetut liput käyvät uuteen ajankohtaan sellaisenaan. Mikäli uusi päivä ei kuitenkaan sovi\, voit hakea lippurahojen palautusta 17.10.2021 mennessä osoitteessa web.lippu.fi/palautus \n  \nRESSU REDFORD LÄHTEE SYKSYLLÄ KONSERTTISALIKIERTUEELLE \nViime vuoden Vain Elämää -kaudella yleisöä hurmannut Ressu Redford lähtee syksyllä konserttisalikiertueelle. Yhdentoista paikkakunnan kiertue alkaa 15. lokakuuta Mikkelistä ja päättyy marraskuun lopussa Turun Logomoon. Konserteissa yleisö pääsee nauttimaan Ressun tuotannosta vuosien varrelta sillä luvassa on sekä vanhoja klassikoita että uudempaa tuotantoa. \n– Salikiertueellani tullaan kuulemaan koko tuotantoani sieltä kasarin puolelta aina näihin päiviin asti. Luvassa on paljon suomenkielistä materiaalia mutta mukana on tietysti myös joitakin Bogart Co. ja Sound Of R.E.L.S. ajan kappaleita. Kattava kokonaisuus on siis tulossa: tuttuja klassikoita\, hittejä ja minulle oleellisia poimintoja matkan varrelta. Musiikki kulkee akustisesta tunnelmoinnista tämän päivän soundiin\, Ressu lupaa. \nRessu Redford teki paluun soolomusiikin pariin vuoden 2019 alussa. Artistin kaikkien aikojen tunnetuimpiin kappaleisiin lukeutuvat muun muassa klassikkohitit Älä mee\, Kuka on se oikea ja Kuusi kuuta & Saturnuksen renkaat. Yleisö on löytänyt myös uudet kappaleet: Viimeinen päivä -single on ylittänyt kuunteluillaan kultarajan ja samaa rajapyykkiä reilulla 1\,5 miljoonalla kuuntelukerralla lähenee myös viime keväänä julkaistu kesäbiisi Corolla. Edellisellä Vain Elämää -kaudella hurmannut Ressu Redford julkaisi helmikuussa uuden singlen Pieni askel. \nMartti Talvela -sali \nLipun hinta: \nRivit 1-8 : 39\,90€ (sis.palvelumaksu)\nLoput rivit: 35\,90 € (sis.palvelumaksu) \nJärj. Warner Music Live
URL:https://mikaeli.fi/event/ressu-redford/
CATEGORIES:Musiikki,Tapahtuma
END:VEVENT
BEGIN:VEVENT
DTSTART;TZID=Europe/Helsinki:20221025T180000
DTEND;TZID=Europe/Helsinki:20221025T180000
DTSTAMP:20260424T125713
CREATED:20220426T111414Z
LAST-MODIFIED:20220426T111603Z
UID:1653-1666720800-1666720800@mikaeli.fi
SUMMARY:Ti-Ti Nalle: Hirsimetsän juhlat! -konsertti
DESCRIPTION:Nalletalossa on aikamoinen hyörinä jo heti aamusta! Isoisänalle juoksee yöpuvussaan\, Ti-Ri Vauva tepsuttelee iso tutti suussaan ja yöpuku kainalossaan pitkin poikin taloa\, Trioli tekee kärrynpyöriä…\nMitä ihmettä tapahtuu Nallejen kodissa? \nHirsimetsässä on juhlat! Tätä päivää on koko Hirsimetsän väki odottanut jo pitkään ja tänään se tapahtuu! Mutta mitä? Arvatkaapa\, kuka nalleista tuhisee täydessä unessa omassa sängyssään\,\neikä ymmärrä\, että olisi jo kiire vaihtaa juhla-asu päälle! \nLähde mukaan Nalleperheen ikimuistoiseen juhlaan Hirsimetsässä! Mukana tuttuja metsän asukkaita mutta myös salaperäinen\, uusi asukas\, jota kukaan ei ole koskaan aiemmin tavannut. \nLiput:\nPeruslippu 23\,50€\nPerhelippu (2 aikuista ja 2 lasta) 86\,00€
URL:https://mikaeli.fi/event/ti-ti-nalle-hirsimetsan-juhlat-konsertti/
CATEGORIES:Lapset ja nuoret,Musiikki,Tapahtuma
END:VEVENT
BEGIN:VEVENT
DTSTART;TZID=Europe/Helsinki:20221030T140000
DTEND;TZID=Europe/Helsinki:20221030T170000
DTSTAMP:20260424T125713
CREATED:20220519T075842Z
LAST-MODIFIED:20220712T123252Z
UID:1788-1667138400-1667149200@mikaeli.fi
SUMMARY:Hevisaurus
DESCRIPTION:Viiden dinosauruksen muodostama lasten suosikkiyhtye Hevisaurus syntyi vuonna 2009 ajatuksesta tehdä laadukasta hevimusiikkia lapsille ja lapsenmielisille. Räyhäkäs lastenheviyhtye on julkaissut kotimaassa seitsemän studioalbumia\, joita on myyty 178 000. ”Mikä minusta tulee isona” –nimeä kantava albumi julkaistaan 1. syyskuuta. Hevisaurus on voittanut parhaan lastenmusiikin Emman kahdesti. \nLIPUT:\nPeruslippu 28\,00€\nPerhelippu 2 lasta + 2 aikuista 100€\nPerhelippu 3 lasta + 2 aikuista 122\,50€ \n 
URL:https://mikaeli.fi/event/hevisaurus/
CATEGORIES:Lapset ja nuoret,Musiikki,Tapahtuma
END:VEVENT
END:VCALENDAR