BEGIN:VCALENDAR
VERSION:2.0
PRODID:-//Konsertti- ja kongressitalo Mikaeli - Suomen kiinnostavin tapahtumatalo - ECPv6.10.1.1//NONSGML v1.0//EN
CALSCALE:GREGORIAN
METHOD:PUBLISH
X-ORIGINAL-URL:https://mikaeli.fi
X-WR-CALDESC:Events for Konsertti- ja kongressitalo Mikaeli - Suomen kiinnostavin tapahtumatalo
REFRESH-INTERVAL;VALUE=DURATION:PT1H
X-Robots-Tag:noindex
X-PUBLISHED-TTL:PT1H
BEGIN:VTIMEZONE
TZID:Europe/Helsinki
BEGIN:DAYLIGHT
TZOFFSETFROM:+0200
TZOFFSETTO:+0300
TZNAME:EEST
DTSTART:20230326T010000
END:DAYLIGHT
BEGIN:STANDARD
TZOFFSETFROM:+0300
TZOFFSETTO:+0200
TZNAME:EET
DTSTART:20231029T010000
END:STANDARD
END:VTIMEZONE
BEGIN:VEVENT
DTSTART;TZID=Europe/Helsinki:20230304T180000
DTEND;TZID=Europe/Helsinki:20230304T180000
DTSTAMP:20260420T010215
CREATED:20220907T082750Z
LAST-MODIFIED:20221026T073330Z
UID:2215-1677952800-1677952800@mikaeli.fi
SUMMARY:MIKKELIN KAUPUNGINORKESTERI: ELINAN SURMA - ENSI-ILTA
DESCRIPTION:ELINAN SURMA -OOPPERA \nla 4.3.2023 klo 18\, Mikaeli (ensi-ilta)\npe 10.3.2022 klo 19\, Mikaeli\nla 11.3.2022 klo 18\, Mikaeli \nErkki Lasonpalo\, kapellimestari\nMarkku Pölönen\, ohjaus\nAnu Ontronen\, altto\nHeikki Kilpeläinen\, baritoni\nMari Karjalainen\, sopraano \nJalmari Finnen librettoon sävelletty ooppera perustuu vanhaan kalevalamittaiseen balladiin\, joskin tarina muistuttaa Euroopassa yleisesti kiertänyttä kansanlegendaa. Elinan surmassa aatelismies Klaus Kurki päätyy rakastajattarensa Kirstin juonittelujen seurauksena murhaamaan mustasukkaisuudessaan nuoren ja nuhteettoman vaimonsa Elinan. \nElinan surma on Merikannon toinen ooppera\, joka on tyyliltään täysromanttista\, väkevää ja värikylläistä musiikkia. Sävellyskeinoissa nähdään myös aikanaan moderneja ratkaisuita\, kuten resitaatiota lauluilmaisun keinona ja Wagnerinkin suosimaa johtoaihetekniikkaa. Näin henkilöiden käymä dialogi on usein sävellyksen keskiössä\, ja jokaista henkilöä seuraa lavalla heidän sielunmaisemaansa heijasteleva musiikillinen teema. \nFinnen libretto pyrkii kuvaamaan ihmisten tunteita kaunistelemattomina ja heidän käyttäytymistään brutaalin rehellisesti. Tämän seurauksena tapahtumat etenevät dynaamisen rivakasti ja henkilöiden tunnereaktiot leimahtelevat ohjaaja Markku Pölösen sanoin “melodramaasta naurettavuuden rajalla taiteilevaan patetiaan”. Nykysilmin katsottuna karikatyyrimäinen camp ja äkkiväärät käännökset eivät tunnu ongelmallisilta\, vaan tarkoituksenmukaiselta estetiikalta\, joka luo sinänsä sysimustan tarinan seuraamiseen oman riemastuttavan elementtinsä. \nOopperan toteuttaa Etelä-Savon Musiikkiteatteri- ja Oopperayhdistys ESMO ry yhdessä Saimaa Sinfoniettan kanssa. Lavastuksesta vastaa Ammattiopisto Samiedu. \nLIPUT: 53 €\nS-ETUKORTILLA: 50 € (ei ensi-ilta)\nEi kausikortilla \nLipunmyynnistä vastaa Mikkelin Kaupunginorkesteri\nYhteystiedot: https://mikkelinkaupunginorkesteri.fi/yhteystiedot/
URL:https://mikaeli.fi/event/elinan-surma-ensi-ilta/
CATEGORIES:Tapahtuma,Viihde
END:VEVENT
BEGIN:VEVENT
DTSTART;TZID=Europe/Helsinki:20230310T190000
DTEND;TZID=Europe/Helsinki:20230310T190000
DTSTAMP:20260420T010215
CREATED:20220907T083013Z
LAST-MODIFIED:20230307T115730Z
UID:2218-1678474800-1678474800@mikaeli.fi
SUMMARY:MIKKELIN KAUPUNGINORKESTERI: ELINAN SURMA
DESCRIPTION:ELINAN SURMA -OOPPERA \nErkki Lasonpalo\, kapellimestari\nMarkku Pölönen\, ohjaus\nAnu Ontronen\, altto\nHeikki Kilpeläinen\, baritoni\nMari Karjalainen\, sopraano \nJalmari Finnen librettoon sävelletty ooppera perustuu vanhaan kalevalamittaiseen balladiin\, joskin tarina muistuttaa Euroopassa yleisesti kiertänyttä kansanlegendaa. Elinan surmassa aatelismies Klaus Kurki päätyy rakastajattarensa Kirstin juonittelujen seurauksena murhaamaan mustasukkaisuudessaan nuoren ja nuhteettoman vaimonsa Elinan. \nElinan surma on Merikannon toinen ooppera\, joka on tyyliltään täysromanttista\, väkevää ja värikylläistä musiikkia. Sävellyskeinoissa nähdään myös aikanaan moderneja ratkaisuita\, kuten resitaatiota lauluilmaisun keinona ja Wagnerinkin suosimaa johtoaihetekniikkaa. Näin henkilöiden käymä dialogi on usein sävellyksen keskiössä\, ja jokaista henkilöä seuraa lavalla heidän sielunmaisemaansa heijasteleva musiikillinen teema. \nFinnen libretto pyrkii kuvaamaan ihmisten tunteita kaunistelemattomina ja heidän käyttäytymistään brutaalin rehellisesti. Tämän seurauksena tapahtumat etenevät dynaamisen rivakasti ja henkilöiden tunnereaktiot leimahtelevat ohjaaja Markku Pölösen sanoin “melodramaasta naurettavuuden rajalla taiteilevaan patetiaan”. Nykysilmin katsottuna karikatyyrimäinen camp ja äkkiväärät käännökset eivät tunnu ongelmallisilta\, vaan tarkoituksenmukaiselta estetiikalta\, joka luo sinänsä sysimustan tarinan seuraamiseen oman riemastuttavan elementtinsä. \nOopperan toteuttaa Etelä-Savon Musiikkiteatteri- ja Oopperayhdistys ESMO ry yhdessä Saimaa Sinfoniettan kanssa. Lavastuksesta vastaa Ammattiopisto Samiedu. \nLIPUT: 53 €\nS-ETUKORTILLA: 50 € (ei ensi-ilta)\nEi kausikortilla \nNäytöksen kesto noin 2\,5h\, sis väliajan. \nTapahtumaa koskevat tiedustelut Mikkelin kaupunginorkesterille: https://mikkelinkaupunginorkesteri.fi/yhteystiedot/
URL:https://mikaeli.fi/event/elinan-surma-3/
CATEGORIES:Tapahtuma,Viihde
END:VEVENT
BEGIN:VEVENT
DTSTART;TZID=Europe/Helsinki:20230311T180000
DTEND;TZID=Europe/Helsinki:20230311T190000
DTSTAMP:20260420T010215
CREATED:20220907T083755Z
LAST-MODIFIED:20230307T115856Z
UID:2223-1678557600-1678561200@mikaeli.fi
SUMMARY:MIKKELIN KAUPUNGINORKESTERI: ELINAN SURMA
DESCRIPTION:ELINAN SURMA -OOPPERA \nErkki Lasonpalo\, kapellimestari\nMarkku Pölönen\, ohjaus\nAnu Ontronen\, altto\nHeikki Kilpeläinen\, baritoni\nMari Karjalainen\, sopraano \nJalmari Finnen librettoon sävelletty ooppera perustuu vanhaan kalevalamittaiseen balladiin\, joskin tarina muistuttaa Euroopassa yleisesti kiertänyttä kansanlegendaa. Elinan surmassa aatelismies Klaus Kurki päätyy rakastajattarensa Kirstin juonittelujen seurauksena murhaamaan mustasukkaisuudessaan nuoren ja nuhteettoman vaimonsa Elinan. \nElinan surma on Merikannon toinen ooppera\, joka on tyyliltään täysromanttista\, väkevää ja värikylläistä musiikkia. Sävellyskeinoissa nähdään myös aikanaan moderneja ratkaisuita\, kuten resitaatiota lauluilmaisun keinona ja Wagnerinkin suosimaa johtoaihetekniikkaa. Näin henkilöiden käymä dialogi on usein sävellyksen keskiössä\, ja jokaista henkilöä seuraa lavalla heidän sielunmaisemaansa heijasteleva musiikillinen teema. \nFinnen libretto pyrkii kuvaamaan ihmisten tunteita kaunistelemattomina ja heidän käyttäytymistään brutaalin rehellisesti. Tämän seurauksena tapahtumat etenevät dynaamisen rivakasti ja henkilöiden tunnereaktiot leimahtelevat ohjaaja Markku Pölösen sanoin “melodramaasta naurettavuuden rajalla taiteilevaan patetiaan”. Nykysilmin katsottuna karikatyyrimäinen camp ja äkkiväärät käännökset eivät tunnu ongelmallisilta\, vaan tarkoituksenmukaiselta estetiikalta\, joka luo sinänsä sysimustan tarinan seuraamiseen oman riemastuttavan elementtinsä. \nOopperan toteuttaa Etelä-Savon Musiikkiteatteri- ja Oopperayhdistys ESMO ry yhdessä Saimaa Sinfoniettan kanssa. Lavastuksesta vastaa Ammattiopisto Samiedu. \nLIPUT: 53 €\nS-ETUKORTILLA: 50 € (ei ensi-ilta)\nEi kausikortilla \nNäytöksen kesto noin 2\,5h\, sis väliajan. \nTapahtumaa koskevat tiedustelut Mikkelin kaupunginorkesterille: https://mikkelinkaupunginorkesteri.fi/yhteystiedot/
URL:https://mikaeli.fi/event/elinan-surma-4/
CATEGORIES:Tapahtuma,Viihde
END:VEVENT
BEGIN:VEVENT
DTSTART;TZID=Europe/Helsinki:20230316T190000
DTEND;TZID=Europe/Helsinki:20230316T190000
DTSTAMP:20260420T010215
CREATED:20221201T140304Z
LAST-MODIFIED:20230316T090637Z
UID:2721-1678993200-1678993200@mikaeli.fi
SUMMARY:JUHA TAPIO - ELÄVIEN MAASSA 2023 KONSERTTISALIKIERTUE / Loppuunmyyty
DESCRIPTION:JUHA TAPIO – ELÄVIEN MAASSA 2023 KONSERTTISALIKIERTUE \nSekä artistin itsensä että fanien hartaasti odottama ja toivoma konserttisalikiertue on nyt täällä! \nEnsi kevään kiertueella Juhan ja hänen jo käsitteeksi muodostuneen livebändinsä kiertäessä elävien maata yleisö pääsee kokemaan paitsi suurimmat hitit myös rakastetuimmat laulut koko uran varrelta. Elävien maassa-kiertue on myös uuden albumin levynjulkaisukonsertteja\, joten kiertueella alla ilmestyvän uuden albumin voimakkaat\, ennen kuulemattomat biisit ja tarinat kuullaan ensi kertaa näissä saleissa. \nMonelle kuulijalle juuri konserttisaleista on muodostunut se rakkain tapa kokea Juha Tapion keikat: pitkät\, kiireettömät illat joihin mahtuu paitsi isoa ääntä suvantoineen\, myös isoja kertomuksia\, tunteita ja oivalluksia. Uusien ja vanhojen tuttujen laulujen kautta eletään koko elämän kirjo kipuineen ja iloineen\, kaikki yhdessä täällä Elävien maassa. \nIloitaan ja liikututaan\, Ja varmasti jorataankin. Sääennuste lupaa hurmosta Elävien maahan! \nKonsertin kesto: n 2 t 30 min\, sis väliajan \nhttps://centralline.fi/keikkakalenterit/ \n 
URL:https://mikaeli.fi/event/juha-tapio-elavien-maassa-2023-konserttisalikiertue/
CATEGORIES:Musiikki,Tapahtuma
END:VEVENT
BEGIN:VEVENT
DTSTART;TZID=Europe/Helsinki:20230317T190000
DTEND;TZID=Europe/Helsinki:20230317T190000
DTSTAMP:20260420T010215
CREATED:20211011T084833Z
LAST-MODIFIED:20230224T134930Z
UID:1134-1679079600-1679079600@mikaeli.fi
SUMMARY:Ilkka Vainio - Koko Kansan Laulut
DESCRIPTION:Ilkka Vainion konsertti 22.4.2022 Mikaelissa siirtyi uuteen ajankohtaan. Uusi päivämäärä on 17.3.2023. Jo ostetut liput käyvät uuteen ajankohtaan sellaisenaan. \n  \nKANSANTAITEILJA ILKKA VAINIO SUUNTAA MITTAVALLE ”KOKO KANSAN LAULUT” -KONSERTTISALIKIERTUEELLE \nPitkän linjan musiikillinen monilahjakkuus Ilkka ”Ile” Vainio juhlii 61-vuotissyntymäpäiviään kattavalla konserttisalikiertueella\, jonka ohjelmisto rakentuu artistin oman tuotannon lisäksi myös Juha Vainion ikonisista lauluista. Uransa aikana yhteensä jopa 200 kulta- ja platinalevyä tuottanut sanoittaja-laulaja kiertää bändeineen ympäri Suomea 17 keikan verran. \nKoko Kansan Laulut -konsertit tiivistävät suomalaisen viihteen perustuksiin sementöidyn Vainion uran klassikoita ja yllätyksiä sisältäväksi kokemukseksi. Musiikillinen matka kuljettaa yleisön läpi rakastettujen Junnu Vainio -laulujen sekä Ilkan oman\, kotimaisen musiikkihistorian viihdehelmiä sisältävän tuotannon. Konserteissa kuullaan mm. ”Yksinäinen Saarnipuu”\, ”Ota löysin rantein” ja ”Satasen laina”. Juhlakiertueella mukana kulkeva taustabändi koostuu suomalaisten eturivin artistien kanssa soittaneista huippumuusikoista ja luvassa on artistivieraita Ilkan uran varrelta. \n”Koen olevani elämäni kovimmassa iskussa\, enkä malta odottaa pääseväni taas yleisön eteen. Konsertit tulevat olemaan täynnä herkkyyttä ja hauskuutta\, klassikoita ja yllätyksiä – uskomaton musiikin matka! Luvassa on koko kansan lauluja uniikilla tyylillä\, todellista viihteen ilosanomaa\, lauluja jokaiseen makuun ja sydämeen!”\, Ilkka pohjustaa kevään juhlakiertuettaan. \nIsänsä Junnu Vainion mittaamattoman arvokasta kulttuuriperintöä jatkava ja lukuisten kotimaisten artistien taustajoukoissa pitkään vaikuttanut Ilkka Vainio tunnetaan erityisesti oivaltavista\, suomalaisten elämiä jo vuosikymmenten ajan koskettaneista ja viihdyttäneistä sanoituksistaan.  Oman artistiuransa kypsässä 55-vuoden iässä aloittanut Vainio on työskennellyt mm. Kikan\, Nylon Beatin\, Kari Tapion ja Jope Ruonansuun kanssa ja julkaissut noin 10 000 teosta tuotantopäällikkönä. Vainion laajaan\, yli tuhannen laulun sanoittajarepertuaariin kuuluvat esimerkiksi Nylon Beatin jättihitit ”Anna mulle” ja ”Rakastuin mä looseriin”. \nKonsertin kesto n. 2 tuntia\, sisältäen väliajan. \nLiput 33\,50 €
URL:https://mikaeli.fi/event/ilkka-vainio-koko-kansan-laulut/
CATEGORIES:Musiikki,Tapahtuma
END:VEVENT
BEGIN:VEVENT
DTSTART;TZID=Europe/Helsinki:20230318T190000
DTEND;TZID=Europe/Helsinki:20230318T190000
DTSTAMP:20260420T010215
CREATED:20221215T141154Z
LAST-MODIFIED:20221221T103735Z
UID:2762-1679166000-1679166000@mikaeli.fi
SUMMARY:Pete Parkkonen - Loppuun asti
DESCRIPTION:Syksyllä 2022 Vain Elämää-ohjelmassa mukana ollut Pete Parkkonen tuo ainutkertaisesti omien hittibiisien lisäksi kaikki ohjelmassa esittämänsä kappaleet konserttisalien lavoille. Loppuun asti -kiertueeseen päättyy Peten tietty aikakausi. \nSuomalaisten rakastama Pete Parkkonen julkaisi vuonna 2020 radiohitiksi kasvaneen Voimaa ja valoa -singlen sekä herkän Portaat-singlen. Artisti valmistelee parhaillaan tulevaa viidettä albumiaan. Marraskuussa 2018 julkaistu neljäs studioalbumi PETE nivoo hienosti yhteen karismaattisen laulajan uran viime vuodet. Platinarajan ylittäneeltä albumilta löytyvät muun muassa kultaa ja platinaa striimanneet singlet Mitä mä teen feat. JVG\, Kohta sataa\, Ei nyt ja Myyty. Hänet tunnetaan monipuolisena ja energisenä esiintyjänä\, jolla on erityistaito villitä yleisönsä. \nKonsertin kesto n. 2 tuntia sisältäen väliajan. \nLiput 34\,50 € \nhttps://warnermusiclive.fi/medialle/pete-parkkonen
URL:https://mikaeli.fi/event/pete-parkkonen-loppuun-asti-kiertue/
CATEGORIES:Musiikki,Tapahtuma
END:VEVENT
BEGIN:VEVENT
DTSTART;TZID=Europe/Helsinki:20230319T190000
DTEND;TZID=Europe/Helsinki:20230319T190000
DTSTAMP:20260420T010215
CREATED:20221007T111245Z
LAST-MODIFIED:20230227T135708Z
UID:2444-1679252400-1679252400@mikaeli.fi
SUMMARY:KAKE RANDELIN – KAIKKI HITIT / Loppuunmyyty
DESCRIPTION:Kake Randelin uransa ensimmäiselle konserttisalikiertueelle keväällä! \nSuomalaisen kevyen musiikin suursuosikki Kake Randelin lähtee uransa ensimmäiselle konserttisalikiertueelle keväällä. Tämä koko kansan tuntema laulaja käynnistää 14 konsertin kiertueensa Hyvinkää-salista 1. maaliskuuta. \nKake Randelinin Kaikki Hitit -konserttikiertue päättyy Mikkelin Mikaeliin 19. maaliskuuta. Muut esiintymispaikat ovat Huittinen\, Hämeenlinna\, Turku\, Ylivieska\, Kajaani\, Kuusamo\, Kiuruvesi\, Jyväskylä\, Helsinki\, Tampere\, Lahti ja Lappeenranta. Konserttien liput ovat jo myynnissä lippukaupoissa. \n– Nimensä mukaisesti kiertueella kuullaan Kaikki Hitit. Olen lähdössä kohti konserttisaleja suurella innolla\, Randelin kertoo. \nRandelin on tähän mennessä julkaissut yli 20 albumia\, joihin sisältyvät muun muassa hitit Nasta pimu\, Tarja\, Avaa hakas\, Jannu huoleton\, Tilipäivä koittaa ja Kielletyt tunteet. Kake oli pop jo 1970-luvulla ja hän on pop yhäkin. \nKake Randelin on ahkera keikkailija\, ja hän on yksi maamme kysytyimmistä kevyen musiikin artisteista. Nyt hänen ihailijoilleen tarjoutuu mahdollisuus nähdä hänet myös harvinaisuutena konserttisaleissa. \n  \nKesto n.90min (ei väliaikaa) \n  \nLiput 35\,50 €
URL:https://mikaeli.fi/event/kake-randelin-kaikki-hitit-2/
CATEGORIES:Tapahtuma,Viihde
END:VEVENT
BEGIN:VEVENT
DTSTART;TZID=Europe/Helsinki:20230320T190000
DTEND;TZID=Europe/Helsinki:20230320T190000
DTSTAMP:20260420T010215
CREATED:20220914T131444Z
LAST-MODIFIED:20221228T090841Z
UID:2278-1679338800-1679338800@mikaeli.fi
SUMMARY:KULKUKOIRAT- laulunäytelmä Reijo Taipaleesta\, Kari Tapiosta ja Topi Sorsakoskesta / PERUTTU
DESCRIPTION:Kulkukoirat -näytös (edellinen ajankohta 17.11.2022) joudutaan valitettavasti perumaan tuotannollisten syiden takia. Pahoittelemme tapahtuman peruuntumisesta aiheutuvaa harmia. \nLippujen palautus onnistuu linkin kautta: https://web.lippu.fi/palautus/ \nPalautus on mahdollista 31.1.2023 saakka. \n  \n  \nKULKUKOIRAT: Tarinaa tien päältä  \nSuosittu laulunäytelmä Reijo Taipaleesta\, Kari Tapiosta ja Topi Sorsakoskesta jatkuu marraskuussa 2022 \nReijo Taipaleen\, Kari Tapion ja Topi Sorsakosken ystävyys avataan yleisölle KULKUKOIRAT -laulunäytelmässä.\nTarina kertoo näistä kolmesta rakastetusta suomalaisesta laulajasta – Reiskasta\, Klabbista ja Topista – tien päällä. \nKeikkamatkoilla laulajakaverukset pitävät yhteyttä toisiinsa\, kohtaavat ja tukevat toisiaan jaksamaan pitkät matkat ja valvotut yöt. Yhteiset tarinat ja huumori yhdistävät ja lähentävät heitä toisiinsa. Syntyy ikuinen ystävyys\, joka kestää elämän loppuun saakka. \nROOLEISSA: Tommi Soidinmäki\, Juse Venäläinen\, Jarkko Järvenpää\, Marita Taavitsainen ja Tiina Räsänen \nKÄSIKIRJOITUS: Juse Venäläinen\nOHJAUS: Jussi Myllymäki\nKOREOGRAFIA: Marjo Vartela\nMUSIIKKI: Onnentähti-orkesteri \nHuumorilla höystetty\, kyynelkanavatkin auki saava KULKUKOIRAT -laulunäytelmä nähdään 17. marraskuuta Mikkelin Mikaelissa. \nLipunmyynti alkaa maanantaina 19.9. klo 11:00\nLiput: 39€ \nNäytelmän kesto 2\,5 h\nsis. 30 min väliaika
URL:https://mikaeli.fi/event/kulkukoirat-laulunaytelma-reijo-taipaleesta-kari-tapiosta-ja-topi-sorsakoskesta/
CATEGORIES:Musiikki,Tapahtuma,Viihde
END:VEVENT
BEGIN:VEVENT
DTSTART;TZID=Europe/Helsinki:20230323T190000
DTEND;TZID=Europe/Helsinki:20230323T190000
DTSTAMP:20260420T010215
CREATED:20221104T163238Z
LAST-MODIFIED:20230321T122736Z
UID:2575-1679598000-1679598000@mikaeli.fi
SUMMARY:Michael Monroe
DESCRIPTION:Rocklegenda Michael Monroe on yksi historian menestyneimmistä suomalaismuusikoista\, jota mm. Wall Street Journal on kutsunut maailman kunnioitetuimmaksi rock-tähdeksi. Energisen ja omaa tietään kulkevan rocktähden ura alkoi vuonna 1979 perustetun Hanoi Rocksin solistina.  Monien maailmanmaineeseen nousseiden glamrcok-yhtyeiden esikuvana toimineen Hanoi Rocksin hajottua vuonna 1984 rumpali Razzlen tapaturmaisen kuoleman jälkeen siirtyi Monroe menestyksekkäälle soolouralle. \nViimeiset kymmenen vuotta Monroe on tehnyt yhteistyötä huippulahjakkaan bändin kanssa\, jossa ovat mukana Sami Yaffa (Hanoi Rocks\, New York Dolls)\, Karl Rockfist(Glenn Danzig\, Joan Osborne)\, Rich Jones (The Ginger Wildheart Band\, The Black Halos) ja Steve Conte (New York Dolls\, The Crazy Truth). \nKonsertin kesto noin 75min\, ei väliaikaa \nLipun hinta 34\,50€
URL:https://mikaeli.fi/event/michael-monroe/
CATEGORIES:Musiikki,Tapahtuma
END:VEVENT
BEGIN:VEVENT
DTSTART;TZID=Europe/Helsinki:20230325T190000
DTEND;TZID=Europe/Helsinki:20230325T190000
DTSTAMP:20260420T010215
CREATED:20230126T125136Z
LAST-MODIFIED:20230222T084843Z
UID:2855-1679770800-1679770800@mikaeli.fi
SUMMARY:Pientä laittoa- parisuhdekomedia / PERUTTU
DESCRIPTION:Tapahtuma on peruttu.\nLiput voi palauttaa osoitteessa web.lippu.fi/palautus 30.4.2023 mennessä. \n  \n  \nParisuhdekomedia Pientä laittoa\nMaarit Peltomaa ja Juha Veijonen\nKäsikirjoitus ja ohjaus: Heikki Lund \nMasa ja Lissu ovat olleet naimisissa 25 vuotta. Vieläkö on toivoa vai onko kaikki jo menetetty?\nLissu päättää tarttua härkää\, siis Masaa sarvesta… Siis sarvista. \nKatsomossa tämän pitkän parisuhteen ongelmat ja niiden purkaminen naurattaa. Luultavasti ilmassa on myös pientä huokailua ja hikoilua varsinkin\, jos kumppani sattuu istumaan vieressä. Tervetuloa rohkeasti testaamaan. \nMaarit Peltomaa ja Juha Veijonen eivät esittelyjä kaipaa. Heidät tunnetaan elokuva- ja TV- rooleistaan. \nKeväällä elämä herää\, vaan piristyykö suhde. Tarttisko tehdä jotain vai pysytäänkö näissä?\n”LISSU: Oot sä koskaan pettäny mua?\nMASA: Mitä\, mitä… En oo! Ja sun ois nyt paras lopettaa.\nLISSU: Me ollaan oltu kakskyt viis vuotta kimpassa. Tilastojen mukaan sä oot pettäny mua.\nMASA: Niiden samojen tilastojen mukaan sä oot pettäny mua!\nLISSU: En tietenkään oo.\nMASA: Miten sä voi olla niin varma\, että mä oon?\nLISSU: Sä oot mies…” \nNäyttelijät Maarit Peltomaa ja Juha Veijonen ovat kiertäneet parisuhdekomedialla ”Pientä laittoa” jo vuodesta 2019. Vastaanotto kaikkialla Suomessa sekä Espanjassa on ollut huikea ja yleisöpalaute ihanaa. Komedia 25-vuotisesta avioliitosta on hämmästyttänyt monia pariskuntia ja sinkkuja todenmukaisuudellaan. Tarina on komedia tutusta aiheesta; parisuhteen haasteista. Maarit ja Juha eivät esittelyjä kaipaa. Molemmat näyttelijät ovat tuttuja tv-sarjoista\, elokuvista\, mainoksista ja teattereista. Tervetuloa 1\,5 tunniksi nauttimaan\, nauramaan ja jakamaan tuttuja tilanteita. \n”Miten upeaa dialogia teidän välillä\, huh huh. Aivan kuin olisitte olleet 25 vuotta yhdessä. Niin hauska ja koskettava tarina. Moni kommentoi katsomossa\, että tämähän oli kuin meillä kotona. Ihana oli lähteä teatterilta hymy huulilla\, esityksestä jäi niin hyvä mieli” \nLiput 24\,50€
URL:https://mikaeli.fi/event/pienta-laittoa-parisuhdekomedia/
CATEGORIES:Tapahtuma,Viihde
END:VEVENT
BEGIN:VEVENT
DTSTART;TZID=Europe/Helsinki:20230326T180000
DTEND;TZID=Europe/Helsinki:20230326T190000
DTSTAMP:20260420T010215
CREATED:20230103T085459Z
LAST-MODIFIED:20230222T084932Z
UID:2790-1679853600-1679857200@mikaeli.fi
SUMMARY:Tommi Läntinen / PERUTTU
DESCRIPTION:Tapahtuma on valitettavasti peruttu.\nLiput voi palauttaa osoitteessa web.lippu.fi/palautus 30.4.2023 mennessä. \n  \nUpeaääninen ja karismaattinen Tommi Läntinen on kirjoittanut\, esittänyt ja levyttänyt musiikkiaan jo yli neljänkymmenen vuoden ajan. Lukuisten sooloalbumiensa lisäksi hän on vaikuttanut pitkän uransa aikana mm. Boycott-yhtyeessä ja tehnyt kappaleita myös muille artisteille. Läntisen suurimpiin hitteihin lukeutuvat esimerkiksi Via Dolorosa\, Kevät ja minä\, Rööperin kuu\, Syvälle sydämeen sattuu\, Satelliitti\, Villi ja vapaa\, Se on rock sekä monta muuta. \nLäntinen osallistui vuonna 2022 Uuden Musiikin Kilpailuun kappaleellaan ”Elämä kantaa mua”\, jonka lisäksi saman vuoden helmikuussa ilmestyi samanniminen albumi. Läntinen nähdään mukana myös tulevan syksyn Vain Elämää-ohjelman 13. tuotantokaudella. \nKonsertin kesto 1h \nLiput 29\,50 € \n 
URL:https://mikaeli.fi/event/tommi-lantinen/
CATEGORIES:Musiikki,Tapahtuma
END:VEVENT
BEGIN:VEVENT
DTSTART;TZID=Europe/Helsinki:20230329T180000
DTEND;TZID=Europe/Helsinki:20230329T190000
DTSTAMP:20260420T010215
CREATED:20221105T161749Z
LAST-MODIFIED:20230224T140834Z
UID:2580-1680112800-1680116400@mikaeli.fi
SUMMARY:Tanssien Tähtiin Show 2023
DESCRIPTION:Tanssien Tähtiin Show tuo lavalle tv:stä tutut ammattitanssijat” kertoo Elevent Group Oy:n toimitusjohtaja Helena Ahti-Hallberg. ”Olen hyvin innoissani päästessäni esittelemään tämän uuden tuotantomme” hän jatkaa. \nTanssien Tähtiin Show teki ensimmäisen kiertueen 2019\, jolloin esityksen näki yli 10000 katsojaa. Nyt kiertueelle lähtevä uusi esitys tuo lavalle uudistetun tanssijaryhmän\, lavalla nähdään Sami Helenius\, Saana Akiola\, Matti Puro\, Jutta Helenius\, Anssi Heikkilä\, Ansku Bergström\, Emil Hallberg\, Claudia Ketonen\, Jurijs Trosenko ja Kia Lehmuskoski. \nUuden esityksen voi tiivistää lauseeseen ”Uskon tanssin voimaan Toivon elementtinä tiellä Rakkauteen”. Esityksen tuotannosta vastaa Elevent Group Oy ja tuottajana toimii Tero Laakso. Esityksen ohjauksesta ja dramaturgiasta vastaa Sari Siikander ja Helena Ahti-Hallberg puvustuksesta. Esityksen koreografioista vastaavat tanssijat. Esityksen kesto on noin 65 minuuttia ja kiertueen ensi-ilta on 3.3.2023 Espoossa. Kiertue kattaa yhteensä 19 kaupunkia ja viimeinen esitys on 31.3.2023 Hämeenlinnassa. Lipunmyynti käynnistyy loppusyksyn aikana paikkakunnittain. \n\n\n\n\n\nKesto noin 65 minuuttia\, ei väliaikaa\n\n\n\n\n\nLipun hinta 38\,50€
URL:https://mikaeli.fi/event/tanssien-tahtiin-show-2023/
CATEGORIES:Tapahtuma,Viihde
END:VEVENT
BEGIN:VEVENT
DTSTART;TZID=Europe/Helsinki:20230331T200000
DTEND;TZID=Europe/Helsinki:20230331T200000
DTSTAMP:20260420T010215
CREATED:20221026T073848Z
LAST-MODIFIED:20230224T140639Z
UID:2538-1680292800-1680292800@mikaeli.fi
SUMMARY:Vesterinen Yhtyeineen: Hetken ikuinen -konsertti
DESCRIPTION:Vesterinen Yhtyeineen: Hetken ikuinen \nVesterinen Yhtyeineen julkaisee ensi keväänä 10. maaliskuuta uransa kahdeksannen albumin ja lähtee uuden levyn myötä laajalle levynjulkaisukiertueelle. Yhteensä 17 paikkakuntaa kattava Hetken ikuinen -kiertue on kymmenhenkisen yhtyeen uran suurin ja kaunein. Konsertit ovat parituntisia elämyksiä uuden levyn musiikkia\, intiimejä erikoisuuksia sekä tietenkin vanhoja suosikkeja. \nAntti Lehtisen (Scandinavian Music Group\, Ultra Bra) tuottama Hetken ikuinen -albumi on paluu vanhan liiton bänditouhuun\, jossa soitto ja soittajat ovat keskipisteessä. Viime aikoina yhteisöämme koettelevista kovista ajoista johtuen levylle on valikoitunut tavallista vakavampia ja kantaaottavampia kappaleita\, mutta niihinkin yhtye on tuonut pisaroita mustasta huumoristaan\, eikä rakkauslaulujakaan ole unohdettu. \n”Jälleen kerran tuntuu siltä\, että ollaan tekemässä tähän astisen uramme parasta levyä. Ja miksei oltais kun yhtyeen kesken yhä vain syvenevä ystävyys\, kunnioitus ja musiikin tekemisen riemu vain kasvaa. Ja se näkyy ja kuuluu keikoilla\, sitä tunnetta ei pysty purkittamaan muualle kuin sieluunsa\, hetkestä tulee ikuinen”\, Tero Vesterinen kommentoi tulevaa levyä ja kiertuetta. \nKokoonpano:\nTero Vesterinen – Laulu\nMikko Enqvist – Kitara\nPetri Kivimäki – Kitara\nTeemu Jokinen – Rummut\nJepa Lambert – Taustalaulu\nHeini Ikonen – Taustalaulu\nLeo Kylätasku – Puhaltimet\nMarkus Piha – Basso\nIikka Kotaja – Koskettimet\nJanne Riionheimo – Koskettimet \nKonsertin kesto noin 1h 40min\, ei väliaikaa \nLipun hinta 39\,90€ \nTapahtuman järjestää Rocktalo Booking & Management
URL:https://mikaeli.fi/event/vesterinen-yhtyeineen-hetken-ikuinen-konsertti/
CATEGORIES:Musiikki,Tapahtuma
END:VEVENT
END:VCALENDAR