BEGIN:VCALENDAR
VERSION:2.0
PRODID:-//Konsertti- ja kongressitalo Mikaeli - Suomen kiinnostavin tapahtumatalo - ECPv6.10.1.1//NONSGML v1.0//EN
CALSCALE:GREGORIAN
METHOD:PUBLISH
X-WR-CALNAME:Konsertti- ja kongressitalo Mikaeli - Suomen kiinnostavin tapahtumatalo
X-ORIGINAL-URL:https://mikaeli.fi
X-WR-CALDESC:Events for Konsertti- ja kongressitalo Mikaeli - Suomen kiinnostavin tapahtumatalo
REFRESH-INTERVAL;VALUE=DURATION:PT1H
X-Robots-Tag:noindex
X-PUBLISHED-TTL:PT1H
BEGIN:VTIMEZONE
TZID:Europe/Helsinki
BEGIN:DAYLIGHT
TZOFFSETFROM:+0200
TZOFFSETTO:+0300
TZNAME:EEST
DTSTART:20230326T010000
END:DAYLIGHT
BEGIN:STANDARD
TZOFFSETFROM:+0300
TZOFFSETTO:+0200
TZNAME:EET
DTSTART:20231029T010000
END:STANDARD
END:VTIMEZONE
BEGIN:VEVENT
DTSTART;TZID=Europe/Helsinki:20230504T190000
DTEND;TZID=Europe/Helsinki:20230504T190000
DTSTAMP:20260419T213603
CREATED:20230208T133359Z
LAST-MODIFIED:20230322T124820Z
UID:2908-1683226800-1683226800@mikaeli.fi
SUMMARY:Mikkelin kaupunginorkesteri: KLARINETIN LUMOISSA
DESCRIPTION:Erkki Lasonpalo\, kapellimestari\nOlli Leppäniemi\, klarinetti \nOsvaldo Golijov: The Dreams and Prayers of Isaac the Blind\nBéla Bartók: Divertimento jousiorkesterille \nKonsertissa kuultava argentiinalais-romanialaisen säveltäjän Osvaldo Golijovin teos Isaak sokean unia ja rukouksia klarinetille ja jousiorkesterille on saanut innoituksensa muinaisen rabbin elämästä. Rabbi oli vakuuttunut\, että maailmankaikkeuden salaisuus ja ihmisen kohtalo löytyvät heprean kielen aakkosten yhdistelmistä. Tässä vannoutuneessa kannassa Golijov näkee samaa kuin klezmer-muusikoiden omistautuneisuudessa musiikilleen. Golijov kasvoi kuunnellen kamarimusiikkia\, juutalaista liturgista musiikkia\, klezmeriä sekä argentiinalaista tangoa. Nämä vaikutteet kuuluvat myös tässä teoksessa. \nKlarinetisti Olli Leppäniemi on ensimmäinen suomalainen\, joka on voittanut ensimmäisen palkinnon arvostetussa kansainvälisessä Carl Nielsen -kilpailussa vuonna 2009. Leppäniemi tunnetaan paitsi monipuolisena solistina myös kamarimuusikkona. Hän toimii Tapiola Sinfonietan klarinetin äänenjohtajana. \nBéla Bartókin Divertimento jousiorkesterille haastaa intensiivisyydellään ja taidokkuudellaan sekä orkesterin että kuulijat. Vuonna 1939 valmistunut teos on samaan aikaan uusklassinen ja moderni\, haastava ja monivivahteinen\, mutta ennen kaikkea viihdyttävä kokonaisuus\, joka ei jätä ketään salissa kylmäksi. Konserttikokonaisuuden luotsaa pääkapellimestari Erkki Lasonpalo\, jonka osaaminen jousiorkesterin puikoissa pääsee todella oikeuksiinsa tämän ohjelman myötä. \nLIPUT: 27 € / 25 € / 10 €\nHINTA S-ETUKORTILLA: 24 € / 22 € / 8 € \nTapahtumasta ja sen lipunmyynnistä vastaa Mikkelin kaupunginorkesteri\, yhteystiedot täältä. \n\nJärj. Mikkelin kaupunginorkesteri
URL:https://mikaeli.fi/event/mikkelin-kaupunginorkesteri-klarinetin-lumoissa/
CATEGORIES:Musiikki,Tapahtuma
END:VEVENT
BEGIN:VEVENT
DTSTART;TZID=Europe/Helsinki:20230505T190000
DTEND;TZID=Europe/Helsinki:20230505T190000
DTSTAMP:20260419T213603
CREATED:20220914T090014Z
LAST-MODIFIED:20230131T123734Z
UID:2272-1683313200-1683313200@mikaeli.fi
SUMMARY:My Leonard Cohen Tribute / PERUTTU
DESCRIPTION:RH Entertainment Oy on asetettu konkurssiin 11.11.2022. Konkurssin johdosta My Leonard Cohen Tribute -kiertue on peruttu kokonaisuudessaan. Peruttu kiertue on käsittänyt seuraavat konsertit: 5.5.2023 Mikkeli (Mikaeli)\, 6.5.2023 Oulu (Madetojan Sali)\, 7.5.2023 Tampere (Tampere-Talo)\, 8.5.2023 Hyvinkää (Hyvinkääsali) ja 9.5.2023 Turku (Logomo). \nTapahtumien peruuntumisesta lipun ostaneille aiheutuva vahinko on lähtökohtaisesti konkurssissa valvottavaa velkaa. Mahdolliset saatavat pyydetään ilmoittamaan konkurssipesälle sähköpostitse osoitteeseen rh@krogerus.com. Saatavailmoituksessa pyydetään ilmoittamaan velkojan yhteystiedot\, saatavan määrä ja peruste sekä tieto siitä\, milloin lippu on ostettu. \n  \n  \n  \n”MY LEONARD COHEN” -TRIBUUTTIKONSERTTI \nArvostettu kanadalainen laulaja-lauluntekijä\, runoilija ja kirjailija Leonard Cohen muistetaan muun muassa sellaisista lauluista kuin ”Suzanne”\, ”Bird On The Wire”\, “Famous Blue Raincoat”\, “The Partisan”\, ”I’m Your Man”\, “First We Take Manhattan”\, “Dance Me To The End Of Love”\, “Tower Of Song” ja tietysti “Hallelujah”. \nVuonna 1984 ilmestyneeltä ”Various Positions” -albumilta löytyvän ”Hallelujah”-laulun ovat levyttäneet myös John Cale\, k.d.lang\, Jeff Buckley\, Rufus Wainwright\, Bono\, Sheryl Crowe ja Alexandra Burke sekä Suomessa Hector. \nToukokuussa 2023 neljällä eri paikkakunnalla Suomessa nähtävät “My Leonard Cohen” -esitykset ovat vaikuttavia tribuuttikonsertteja\, joissa australialaissyntyinen laulaja ja pianisti Stewart D’Arrietta yhtyeineen tulkitsee koskettavasti Leonard Cohenin tunnetuimpia lauluja. Cohen tunnettiin hyvin matalasta ja karheasta äänestään ja samaan\, helposti tunnistettavaan tyyliin laulaa D’Arriettakin. \nStewart D’Arrietta kehitti Leonard Cohenin musiikkiin perustuvan konserttiprojektin ”My Leonard Cohen” jo vuonna 2014 eli pari vuotta ennen Cohenin kuolemaa. Projekti oli aikoinaan huikea menestys Melbournen tunnetuimmassa elävän musiikin teatterissa Chapel Off Chapelssa\, josta se sitten lähti kiertämään maailmaa. On selvää\, että Cohenin herkät ja intiimit\, lyriikaltaan puhuttelevat laulut voi kuulla parhaimmillaan juuri sellaisissa musiikille omistetuissa ja akustisesti korkeatasoisissa paikoissa kuin Mikkelin Mikaeli\, Oulun Madetojan sali\, Tampere-talo\, Hyvinkääsali ja Teatro-sali Turussa. \nLeonard Cohen syntyi syyskuun 21. päivä vuonna 1934 Montrealissa\, Kanadassa ja kuoli 82-vuotiaana 7. päivä marraskuuta vuonna 2016 Los Angelesissa\, Yhdysvalloissa. \nCohen aloitti uransa 1950-luvulla lupaavana runoilijana ja kirjailijana\, mutta siirtyi ensisijaisesti laulaja-lauluntekijäksi 1960-luvun puolivälissä. Cohenin runot ja laulut käsittelevät tietenkin rakkautta\, mutta myös uskontoa\, luopumista\, seksiä ja masennusta ja viimeisinä aikoinaan myös kuolemaa. Hänen laulujaan on kutsuttu sävelletyksi runoudeksi ja erityisesti viime vuosina Cohenin ’spoken word’ -tyylistä laulutapaa kuvailtiin jopa runonlausunnaksi. \nVuonna 2008 Cohen nimettiin Rock and Roll Hall of Fameen ja vuonna 2010 Songwriters Hall of Fameen. Samana vuonna 2010 hänet palkittiin myös Grammylla elämäntyöstään. \nJoulukuussa 1967 Leonard Cohen julkaisi esikoisalbuminsa ”Songs of Leonard Cohen”. Hänen viimeiseksi albumikseen jäi lokakuussa 2016 ilmestynyt ”You Want It Darker”. \nSuomessa hän esiintyi seitsemän kertaa\, ensimmäisen kerran Helsingin Kulttuuritalossa helmikuussa 1985 ja viimeisen kerran Sonera Stadiumilla (nyk. Bolt Arena) syyskuussa 2012. \nLiput 44\,90 € ja 49\,90 € \nJärj. RH Entertainment Oy
URL:https://mikaeli.fi/event/my-leonard-cohen-tribute/
CATEGORIES:Musiikki,Tapahtuma
END:VEVENT
BEGIN:VEVENT
DTSTART;TZID=Europe/Helsinki:20230506T150000
DTEND;TZID=Europe/Helsinki:20230506T170000
DTSTAMP:20260419T213603
CREATED:20230105T125915Z
LAST-MODIFIED:20230421T112135Z
UID:2803-1683385200-1683392400@mikaeli.fi
SUMMARY:LISÄÄ SAIKKUA\, KIITOS!
DESCRIPTION:Lisää Saikkua\, kiitos! OSA 2. \nLisää Saikkua\, kiitos! on huippusuositun Saikkua\, kiitos!- trilogian toinen osa. Jatko-osassa meno vaan paranee ja vauhti kiihtyy. \nJälleen kilpaillaan lääkäreiden SM- mestaruudesta ja mitenköhän lääkäri liittyy 80-vuotta täyttävän anopin syntymäpäivälahjaan? Paljon on siis uutta ja tutkimatonta materiaalia. Miten muuten voisi ollakaan? Toki mukana on myös Ismo Leikolan jatko-osaan tekemät ratkiriemukkaat laulut\, joissa mm. ylistetään tiukoilla olevia sairaanhoitajia. \nLavalla sama kolmikko\, Mikko Kivinen\, Ville Keskilä ja Kalle Pylvänäinen\, jotka vastaavat myös käsikirjoituksesta. Tervetuloa! \nHUOM! MIKKO KIVISEN ROOLEISSA TOISTAISEKSI JUKKA RASILA. \nEsityksen kesto noin kaksi tuntia sisältäen väliajan. \nPeruslippu 24\,50 €\nRyhmälippu min 10hlöä 20\,00€ / lippu
URL:https://mikaeli.fi/event/lisaa-saikkua-kiitos/
CATEGORIES:Tapahtuma,Viihde
END:VEVENT
BEGIN:VEVENT
DTSTART;TZID=Europe/Helsinki:20230507T160000
DTEND;TZID=Europe/Helsinki:20230507T170000
DTSTAMP:20260419T213603
CREATED:20230411T105243Z
LAST-MODIFIED:20230413T113422Z
UID:3167-1683475200-1683478800@mikaeli.fi
SUMMARY:ESTOn raiteilla - On Tracks to the Future
DESCRIPTION:ESTOn matka loistavaan tulevaisuuteen! Raiteilla ovat mukana kaikki opiston tanssi- ja sirkusoppilaat. Luvassa on tanssin ja sirkuksen ilotulitusta tähtioppilaiden mukana\, joista jokaisella on oma persoonallinen tapa luoda elämys-kokemuksia itselle ja muille yhdessä ESTOn superopettajien kanssa. \nNäytöksen kesto 2\,5 tuntia. Sisältää väliajan.\nEi ikärajaa. \nLiput 15\,00 € \nJärj. Etelä-Savon Tanssiopisto\nwww.etelasavontanssiopisto.fi
URL:https://mikaeli.fi/event/eston-raiteilla-on-tracks-to-the-future/
CATEGORIES:Tapahtuma,Viihde
END:VEVENT
BEGIN:VEVENT
DTSTART;TZID=Europe/Helsinki:20230511T190000
DTEND;TZID=Europe/Helsinki:20230511T190000
DTSTAMP:20260419T213603
CREATED:20230208T112925Z
LAST-MODIFIED:20230511T065937Z
UID:2887-1683831600-1683831600@mikaeli.fi
SUMMARY:Rakuunasoittokunta - Ruusu äidille
DESCRIPTION:Johtaa musiikkimajuri Tomi Väisänen. Konsertin solisteina laulavat tangokuninkaat Jukka Hallikainen ja Marko Maunuksela\, sekä Elmo Holm. \nRakuunasoittokunta kiipeää lavalle ojentamaan ruusun kaikille äideille. Luvassa viihteellisiä säveliä ja tunteikkaita tangoja. \nLiput 20\,00 € \nKonsertin kesto 2\,5h\, sis. väliajan \nJärj. Rakuunasoittokunta
URL:https://mikaeli.fi/event/rakuunasoittokunta-ruusu-aidille-2/
CATEGORIES:Musiikki,Tapahtuma
END:VEVENT
BEGIN:VEVENT
DTSTART;TZID=Europe/Helsinki:20230513T140000
DTEND;TZID=Europe/Helsinki:20230513T170000
DTSTAMP:20260419T213603
CREATED:20230126T124517Z
LAST-MODIFIED:20230508T103400Z
UID:2852-1683986400-1683997200@mikaeli.fi
SUMMARY:Pikku Papun Orkesteri
DESCRIPTION:Pikku Papun Orkesteri on Jenny ja Antti Wihurin säätiön tunnustuspalkinnolla vuonna 2018 palkittu lastenmusiikkia säveltävä\, sovittava ja esittävä yhtye. Orkesterin papulaulut syntyvät yhteistyössä kirjailija-kuvittaja Liisa Kallion kanssa. \nOrkesteri on ollut ehdolla Emma-gaalassa vuoden lastenlevy-kategoriassa\, sekä voittanut vuonna 2018 Vuodenlastenmusiikkiyhtye-palkinnon lastenmusiikkipäivän Jellona-gaalassa. Orkesteri on aiemmin julkaissut kaksi levyä\, Pikku Papun laulut (Tammi\, 2012) ja Pikku Papun Orkesteri(Tammi\, 2016). \nOrkesterin energinen esiintyminen\, akustiset soittimet\, moniääninen laulu ja eri tyylilajeilla leikittelevät sovitukset ovat sulattaneet niin pienten kuin varttuneempienkin kuulijoidensydämet. Pikku Papun laulut ovat tulleet monille tutuiksi YleTV2:n Pikku Kakkosesta ja Musarullaa-konserttisarjasta. Papulaulujen lisäksi orkesteri on tulkinnut ja sovittanut muun muassa Yleisradiolle uusiksi perinteisiä lastenlauluja Mörri-Möykystä Lennä Lennä Leppäkerttuun. \nPikku Papun Orkesterin konsertissa perheen pienimmätkin pääsevät mukaan lauluihin ja leikkeihin. Myös riemunkiljahtelu ja tanssiminen on sallittua – jopa toivottavaa! \nPeruslippu 17\,50€\nSylilapsi (alle 2-vuotias) ei tarvitse omaa lippua. \nRyhmälippu min 10hlöä 15\,00€ / lippu \nKonsertin kesto noin 1h\, ei väliaikaa\nTapahtumassa on ilmainen narikka\nKahvio ei ole auki
URL:https://mikaeli.fi/event/pikku-papun-orkesteri/
CATEGORIES:Lapset ja nuoret,Musiikki,Tapahtuma
END:VEVENT
BEGIN:VEVENT
DTSTART;TZID=Europe/Helsinki:20230530T180000
DTEND;TZID=Europe/Helsinki:20230530T180000
DTSTAMP:20260419T213603
CREATED:20230308T114729Z
LAST-MODIFIED:20230313T130919Z
UID:3066-1685469600-1685469600@mikaeli.fi
SUMMARY:Voimisteluseura Sirius - Luonnon Taikaa
DESCRIPTION:Voimisteluseura Sirius esittää kevätnäytöksen Luonnon Taikaa. Tarina kertoo neljästä ystävästä ja siitä mitä kaikkea he voikaan yhdessä nähdä ja kokea yhteisellä matkallaan läpi neljän vuoden ajan. Tässä koko perheelle suunnatussa voimistelunäytöksessä esiintyy kaikki seuramme liki 170 voimistelijaa! \nPääset tutustumaan neljään eri lajiin! Akrobatiavoimisteluun\, jossa voimistelija tarvitsee uskomatonta kehonhallintaa ja luottamusta kaveriin vaativissa heitoissa ja pyramideissa.\nRytmiseen voimisteluun\, jossa voimistelijat käyttävät kauniisti ja taidokkaasti koko vartaloaan samalla heittäen ja ottaen kiinni mm. vanteita tai keiloja! Näet myös inspiroivia ja rytmiä täynnä olevia showtanssiesityksiä\, joissa mukana on myös aikuisten ryhmä. Koet myös ihastuttavia ja värikkäitä harrastevoimistelun esityksiä\, joissa seuramme pienimmät jopa 3-vuotiaatkin pääsevät esiintymään teille valloittavilla ohjelmillaan! \nTervetuloa mukaan matkalle läpi neljän vuodenajan! \nNäytöksen kesto 2h\, sis. 20min väliajan. \nLipun hinta 16\,00 € \nJärj. Voimisteluseura Sirius
URL:https://mikaeli.fi/event/voimisteluseura-sirius-luonnon-taikaa/
CATEGORIES:Lapset ja nuoret,Tapahtuma,Viihde
END:VEVENT
END:VCALENDAR