BEGIN:VCALENDAR
VERSION:2.0
PRODID:-//Konsertti- ja kongressitalo Mikaeli - Suomen kiinnostavin tapahtumatalo - ECPv6.10.1.1//NONSGML v1.0//EN
CALSCALE:GREGORIAN
METHOD:PUBLISH
X-WR-CALNAME:Konsertti- ja kongressitalo Mikaeli - Suomen kiinnostavin tapahtumatalo
X-ORIGINAL-URL:https://mikaeli.fi
X-WR-CALDESC:Events for Konsertti- ja kongressitalo Mikaeli - Suomen kiinnostavin tapahtumatalo
REFRESH-INTERVAL;VALUE=DURATION:PT1H
X-Robots-Tag:noindex
X-PUBLISHED-TTL:PT1H
BEGIN:VTIMEZONE
TZID:Europe/Helsinki
BEGIN:DAYLIGHT
TZOFFSETFROM:+0200
TZOFFSETTO:+0300
TZNAME:EEST
DTSTART:20230326T010000
END:DAYLIGHT
BEGIN:STANDARD
TZOFFSETFROM:+0300
TZOFFSETTO:+0200
TZNAME:EET
DTSTART:20231029T010000
END:STANDARD
END:VTIMEZONE
BEGIN:VEVENT
DTSTART;TZID=Europe/Helsinki:20230715T193000
DTEND;TZID=Europe/Helsinki:20230715T193000
DTSTAMP:20260419T180827
CREATED:20230530T110634Z
LAST-MODIFIED:20230714T111041Z
UID:3319-1689449400-1689449400@mikaeli.fi
SUMMARY:St Michel -raviviikonvaihde: Arja Saijonmaa Hopotiti Hummani Hei -konsertti
DESCRIPTION:St Michel -raviviikonvaihde: Arja Saijonmaa Hopotiti Hummani Hei -konsertti lauantai 15.7. klo 19:30 siirretään tuotannollisista syistä pidettäväksi Mikaelin ravintolassa. Konsertti toteutetaan numeroimattomilla paikoilla\, jo ostettuja lippuja ei tarvitse vaihtaa uusiin. Konsertin kesto noin 60min\, ei väliaikaa. Ovet auki tunti ennen konserttia. \n  \nMikkelin St Michelissä huippuhevoset ennätysvauhdeissa lauantaina sekä sunnuntaina ja nyt myös hieno konsertti Mikkelin Mikaelissa lauantai-illalle! \nKonsertin kesto 60min\, ei väliaikaa. \nLiput 29\,50 €
URL:https://mikaeli.fi/event/st-michel-raviviikonvaihde-arja-saijonmaa-hopotiti-hummani-hei-konsertti/
CATEGORIES:Musiikki,Tapahtuma
END:VEVENT
BEGIN:VEVENT
DTSTART;TZID=Europe/Helsinki:20230729T190000
DTEND;TZID=Europe/Helsinki:20230729T190000
DTSTAMP:20260419T180827
CREATED:20230224T112825Z
LAST-MODIFIED:20230525T090058Z
UID:2965-1690657200-1690657200@mikaeli.fi
SUMMARY:MIKKELIN MUSIIKKIJUHLAT: WORLDLY LOVE
DESCRIPTION:WORLDLY LOVE\nMaallinen rakkaus \nLiepajan Sinfoniaorkesteri ja Latvian Kansalliskuoro\nGennadii Chernov\, kapellimestari \nCarl Orff: Carmina Burana \nKukapa voisi uhmata kohtalon voimaa\, kun kuuluisa tunnusosa O Fortuna kajahtaa 120-henkisen esittäjistön voimalla. Carl Orffin suurteos Carmina Burana käsittelee maallisia aiheita: varallisuuden ja omaisuuden ailahtelevaisuutta\, elämän katoavuutta\, riemua kevään paluusta sekä juomisen\, ylensyömisen\, pelaamisen ja ylellisyyden iloja. \nLiput 59€ / lapset/opiskelijat 49€ \nJärj. Mikkelin Musiikkijuhlat\nLisätietoja: mikkelinmusiikkijuhlat.fi
URL:https://mikaeli.fi/event/mikkelin-musiikkijuhlat-worldly-love/
CATEGORIES:Musiikki,Tapahtuma
END:VEVENT
BEGIN:VEVENT
DTSTART;TZID=Europe/Helsinki:20230731T190000
DTEND;TZID=Europe/Helsinki:20230731T190000
DTSTAMP:20260419T180827
CREATED:20230224T114007Z
LAST-MODIFIED:20230530T075805Z
UID:2975-1690830000-1690830000@mikaeli.fi
SUMMARY:MIKKELIN MUSIIKKIJUHLAT: LICENCE TO LOVE
DESCRIPTION:LICENCE TO LOVE\nRakkautta James Bondin tapaan – musiikkia James Bond -elokuvista \nMari Palo\, sopraano ja Tomi Metsäketo\, tenori\nMaija Linkola\, viulu\nSaku Mattila\, kitara\nJukka Nykänen\, piano \nMusiikkijuhlien teemakonsertti antaa kaikille luvan rakastaa. James Bondin rakkaus voi olla rajua\, mutta hunajainen sopraano Mari Palo ja hempeä tenori Tomi Metsäketo tekevät kokemuksesta nautinnollisen. Pianovelho Jukka Nykänen on sovittanut tutut teemasävellykset juuri tätä konserttia varten\, joten luvassa on ainutlaatuinen ilta. \nJärj. Mikkelin Musiikkijuhlat\nLisätietoja: mikkelinmusiikkijuhlat.fi
URL:https://mikaeli.fi/event/mikkelin-musiikkijuhlat-licence-to-love/
CATEGORIES:Musiikki,Tapahtuma
END:VEVENT
END:VCALENDAR