BEGIN:VCALENDAR
VERSION:2.0
PRODID:-//Konsertti- ja kongressitalo Mikaeli - Suomen kiinnostavin tapahtumatalo - ECPv6.10.1.1//NONSGML v1.0//EN
CALSCALE:GREGORIAN
METHOD:PUBLISH
X-WR-CALNAME:Konsertti- ja kongressitalo Mikaeli - Suomen kiinnostavin tapahtumatalo
X-ORIGINAL-URL:https://mikaeli.fi
X-WR-CALDESC:Events for Konsertti- ja kongressitalo Mikaeli - Suomen kiinnostavin tapahtumatalo
REFRESH-INTERVAL;VALUE=DURATION:PT1H
X-Robots-Tag:noindex
X-PUBLISHED-TTL:PT1H
BEGIN:VTIMEZONE
TZID:Europe/Helsinki
BEGIN:DAYLIGHT
TZOFFSETFROM:+0200
TZOFFSETTO:+0300
TZNAME:EEST
DTSTART:20230326T010000
END:DAYLIGHT
BEGIN:STANDARD
TZOFFSETFROM:+0300
TZOFFSETTO:+0200
TZNAME:EET
DTSTART:20231029T010000
END:STANDARD
END:VTIMEZONE
BEGIN:VEVENT
DTSTART;TZID=Europe/Helsinki:20230901T190000
DTEND;TZID=Europe/Helsinki:20230901T190000
DTSTAMP:20260419T145957
CREATED:20230612T112524Z
LAST-MODIFIED:20230825T120104Z
UID:3395-1693594800-1693594800@mikaeli.fi
SUMMARY:Mikkelin kaupunginorkesteri: JUHLAKONSERTTI – 120 vuotta rakkaudesta musiikkiin
DESCRIPTION:Erkki Lasonpalo\, kapellimestari\nPetri Kumela\, kitara\nTimo Riihonen\, laulu \nOttorino Respighi: Antiikin aarioita ja tansseja\, sarja nro 3\nMauro Giuliani: Kitarakonsertto nro 1 A-duuri\, op.30\nKalervo Tuukkanen: Romanttisia tuokioita jousille op. 8\nJohannes Brahms: Neljä vakavaa laulua\, op. 121\nEduard Kolmanovski: Rakastan elämää\nRodolfo Falvo: Kertokaa se hänelle\nJean-Philippe Rameau: Les sauvages & Forêts paisibles oopperasta Les Indes galantes \nJuhlaluento klo 17.15\, Mikaeli.\nJuhlaluennolla Jutta Julkunen esittelee orkesterin historiaa 120 vuoden ajalta. Luennon alkajaisiksi kuullaan Mikkelin musiikkiopiston musiikillinen tervehdys. \nMikkelin kaupunginorkesterin syyskausi alkaa juhlallisesti\, kun Mikkelin musiikinystävät ry täyttää upeat 120 vuotta. Juhlan kunniaksi orkesterin vieraaksi saapuvat mikkeliläislähtöiset huippumuusikot\, kitaristi Petri Kumela ja basso Timo Riihonen. \nItalialainen säveltäjä ja kitaristi Mauro Giuliani oli 1800-luvun alun johtava kitaravirtuoosi\, joka sävelsi soittimelleen lukuisan määrän teoksia ja vakiinnutti kitaran asemaa klassisen musiikin kentällä. Tunnetuimpia Giulianin sävellyksistä ovat hänen kolme kitarakonserttoaan\, joista tässä konsertissa kuullaan konsertto nro 1 A-duurissa\, jossa Petri Kumelan virtuositeetti pääsee oikeuksiinsa. \nBasso Timo Riihonen tulkitsee osia Johannes Brahmsin viimeisestä laulusarjasta Neljä vakavaa laulua\, jonka melankolinen tunnelma toimii vastapainona Giulianin kitarakonserton hyväntuuliselle klassismille. Lisäksi Riihonen esittää ikivihreät laulut Rakastan elämää ja Kertokaa se hänelle. \nPaikallisväriä edustaa myös Mikkelistä kotoisin olleen säveltäjä Kalervo Tuukkasen jousiorkesterisävellys Romanttisia tuokioita\, joka nimensä mukaisesti henkii tyylikästä romantiikkaa. Loistokasta on myös Ottorino Respighin Antiikin aarioita ja tansseja -sarjan sävelmaalailu. \nJuhlakonsertti huipentuu Jean-Philippe Rameaun leikittelevään sävelkieleen\, jossa solistit\, orkesteri ja Etelä-Savon tanssiopisto järjestävät yhdessä riemastuttavan loppunäytöksen juhlan kunniaksi. \nJuhlakonserttiin voit valita itsellesi sopivan lipunhinnan \nLIPUT: 10 € / 25 € / 30 €\nTapahtumasta ja sen lipunmyynnistä vastaa Mikkelin kaupunginorkesteri\, yhteystiedot täältä. \nJärjestäjä: Mikkelin kaupunginorkesteri \n 
URL:https://mikaeli.fi/event/mikkelin-kaupunginorkesteri-juhlakonsertti-120-vuotta-rakkaudesta-musiikkiin/
CATEGORIES:Musiikki,Tapahtuma
END:VEVENT
BEGIN:VEVENT
DTSTART;TZID=Europe/Helsinki:20230908T180000
DTEND;TZID=Europe/Helsinki:20230908T180000
DTSTAMP:20260419T145957
CREATED:20230620T100023Z
LAST-MODIFIED:20230908T071016Z
UID:3374-1694196000-1694196000@mikaeli.fi
SUMMARY:Hedberg – On the Road Again
DESCRIPTION:HEDBERG ON THE ROAD AGAIN – STAND UP -KIERTUE 2023 \nKevään Hedberg On the Road kiertue saa jatkoa\, nimittäin HEDBERG is ON THE ROAD AGAIN\nSyksyn STAND UP kiertue alkaa perjantaina 1.9.2023 ja jatkuu 25.11.2023 asti. \nTervetuloa mukaan nauttimaan tästä komedian täyteisestä kokoillan showsta yksin\, kaksin tai isommallakin porukalla. \nKonserttisalikiertue kiertää 15 kaupunkia ympäri Suomen vieraillen Helsingissä\, Espoossa\, Mikkelissä\, Turussa\, Oulussa\, Kouvolassa\, Kaustisilla\, Jyväskylässä\, Hämeenlinnassa\, Lahdessa\, Lohjalla\, Kuusamossa\, Porissa\, Kajaanissa sekä Kuopiossa. \nEsityksen kesto n. 2 tuntia väliaikoineen. \nIkäraja: K-13 \nwww.samihedberg.com \nLiput:\nPeruslippu 35\,00€\nOpiskelija\, eläkeläinen 32\,00€ \nJärjestäjä: Hedberg Live Oy \n 
URL:https://mikaeli.fi/event/hedberg-on-the-road-again/
CATEGORIES:Tapahtuma,Viihde
END:VEVENT
BEGIN:VEVENT
DTSTART;TZID=Europe/Helsinki:20230910T150000
DTEND;TZID=Europe/Helsinki:20230910T170000
DTSTAMP:20260419T145957
CREATED:20230224T080026Z
LAST-MODIFIED:20230718T095607Z
UID:2959-1694358000-1694365200@mikaeli.fi
SUMMARY:PERUTTU: Jukka Kuoppamäki – neljä syyskuun sunnuntaita- konserttisarja
DESCRIPTION:Päivitetty 18.7.2023 \nJukka Kuoppamäki – neljä syyskuun sunnuntaita on PERUTTU. \nLippujen palautus onnistuu Lippupisteen palautuslomakkeen kautta: https://web.lippu.fi/palautus\nPalautuspyynnöt 30.9.2023 mennessä. \n  \nJUKKA KUOPPAMÄKI ON PÄÄTTÄNYT JÄTTÄÄ JÄÄHYVÄISET KONSERTTIYLEISÖLLE  \nJukka Kuoppamäki täyttää 81 vuotta 1. päivä syyskuuta 2023.  \nEnsi syksyksi oli sovittu keikkoja ja konsertteja muun muassa Tampereelle\, Hyvinkäälle\, Haminaan\, Mikkeliin ja Ikaalisiin. Nämä esiintymiset joudutaan nyt valitettavasti Jukan toiveesta peruuttamaan. \nKeikkamyyjälleen lähettämässään viestissä Jukka kertoo seuraavaa: \n”Sydän täynnä kiitollisuutta – ja myös ripaus haikeutta – on yli 60 keikkailuvuoden jälkeen koittanut hetki todeta\, että on aika ripustaa keikkakitara naulaan\, kiittää ja kumartaa\, ja jättää jäähyväiset konserttiyleisölle.  \n\nTeitä kaikkia kiittäen\,  \n\nJukka Kuoppamäki“ \n\n  \nSyyskuun 10. päivä sunnuntaina esiintyy Jukka Kuoppamäen neljän konsertin sarja Mikkelin Mikaelissa klo.15.00. Tällä kertaa lavalle nousee Jukan lisäksi hänen tyttärensä Inka Auhagen\, sekä Jukka Ruusumaan johtama orkesteri. \n”Syyskuun 4 sunnuntaita”-konserttisarja on sisällöltään ikivihreä ajatellen Jukan laajaa tuotantoa\, sekä hänen pitkää\, yli 60 vuotta kestänyttä uraansa.\nKonsertin saatiin mukaan Inka Auhagen\, jonka kaunis ääni tuo kuulijoille lisämausteen sangen miehisessä bändissä!\nJukka Ruusumaan pitkä kokemus ja yhteistyö Jukan kanssa on saumaton ja toimiva\, oli kyseessä sitten isompi bändi tai pienempi kokoonpano. \nKonsertin sisältö on yksinkertaisesti Suomalaista viihdemusiikin historiaa\, jota on turha kuvailla.\nTule viihtymään sunnuntaiseen iltapäivään! \nLiput:\nEnnakko 29\,50 €\nOvelta 34\,50 €
URL:https://mikaeli.fi/event/jukka-kuoppamaki-nelja-syyskuun-sunnuntaita-konserttisarja/
CATEGORIES:Musiikki,Tapahtuma
END:VEVENT
BEGIN:VEVENT
DTSTART;TZID=Europe/Helsinki:20230912T180000
DTEND;TZID=Europe/Helsinki:20230912T180000
DTSTAMP:20260419T145957
CREATED:20230516T125308Z
LAST-MODIFIED:20230912T081202Z
UID:3266-1694541600-1694541600@mikaeli.fi
SUMMARY:Korsuorkesteri & Kyösti Mäkimattila: Malja huomispäivälle -konsertti
DESCRIPTION:Kun Korsuorkesterin syntysanat lausuttiin ääneen 33 vuotta sitten – tuskin kukaan osasi arvata\, millainen menestystarina oli syntymässä. Ryhmä on vuosikymmenet pysynyt viihteen etulinjassa\, tyylilleen uskollisena. Musiikkimaailmaa seuraavat ihmiset osaavat yhdistää Korsuorkesterin sota-ajan laulujen tulkiksi. Ansiolistalla komeilee Suomen Mestari orkesteri 1994 -kilpailun voitto\, Syksyn Sävel -kisat sekä lukuisat konserttikiertueet ja levytykset. Orkesteri on saavuttanut urallaan paljon ja saanut lukuisia hienoja mahdollisuuksia toteuttaa unelmiaan. Vuonna 2012 Korsuorkesterin oli tarkoitus laittaa kokonaan pillit pussiin ja lopettaa keikkailu\, mutta yleisö kaipaa heitä yhä esiintymisareenoille! Jatkuvasti kuuluu toiveita toiveiden perään\, jotta ryhmä palaisi viihdyttämään. Aktiiviura on jäänyt\, mutta syyskuussa on sopiva hetki sinetöidä pitkä ura jäähyväiskonsertteihin. \n– ”Onpa kiva syyskuu tulossa! Saan pitkästä aikaa vetää arvokkaat vm. 1936 olevat sotilasvaatteet ylle ja ottaa naftaliinista rakkaan Korsukitarani. Voin lähteä tuttujen kavereiden kanssa nostamaan maljan huomispäivälle musiikin voimalla. Vielä kerran estradille. Kiitos kaikille osapuolille tästä ilon sanomasta”\, tunnelmoi Korsuorkesterin ensimmäinen ja viimeinen jäsen Pepe Kovanen. \nKiertueen vieraaksi on kutsuttu tänä vuonna 10 v. juhlavuottaan viettävä Tangokuningas 2013 Kyösti Mäkimattila. Kyöstin ja Korsuorkesterin yhteistyö on ollut saumatonta jo vuosia ja esiintyjistä on helposti aistittavissa hyvän ystävyyden lämmin side. Korsulaiset ovatkin siirtäneet viestikapulaa Kyöstin suuntaan. \nKorsuorkesterin kokoonpanossa ovat Pepe Kovanen\, Ami Varjotie\, Kalevi Hautamäki\, Jarmo Peippo ja Markku Juoksukangas. Kokoonpanoa täydentää Varjokuva-orkesterin riveistä tuttu kosketinsoittaja Juha Maunu. \n– ”Mun vyönsoljessa lukee ”Ole valmis”. Siksipä en epäröinyt sekuntiakaan\, kun Pepe kysyi mukaan. Aina on hyvä hetki tehdä pieni kierros Korsuorkesterin kanssa. Tämä on suuri ilo”\, Kyösti Mäkimattila kiteyttää kunnioitusta äänessään. \nMalja huomispäivälle – isänmaallinen jäähyväiskiertue \nKonsertit alkavat klo 18. Kesto n. 2\,5 h sisältäen väliajan. \nLiput:\nRivit 1-10\, 59\,00€\nLoput rivit 49\,00€ \nJärjestäjä: Gramofoni \n  \n 
URL:https://mikaeli.fi/event/korsuorkesteri-kyosti-makimattila-malja-huomispaivalle-konsertti/
CATEGORIES:Musiikki,Tapahtuma
END:VEVENT
BEGIN:VEVENT
DTSTART;TZID=Europe/Helsinki:20230922T190000
DTEND;TZID=Europe/Helsinki:20230922T190000
DTSTAMP:20260419T145957
CREATED:20230612T113701Z
LAST-MODIFIED:20230825T120250Z
UID:3398-1695409200-1695409200@mikaeli.fi
SUMMARY:Mikkelin kaupunginorkesteri: SAIMAA SINFONIETTA – REINILÄISITTÄIN
DESCRIPTION:Erkki Lasonpalo\, kapellimestari\nJózsef Balog\, piano \nAntonín Dvořák: Legendat op.59\, nro 1-4\nRichard Strauss: Burleski pianolle ja orkesterille\nRobert Schumann: Sinfonia nro 3 Es-duuri “Reiniläinen” \nSaimaa Sinfonietan syyskauden ensimmäinen konsertti on romantiikan klassikoita pullollaan. Kapellimestari Erkki Lasonpalon johdolla päästään nauttimaan 1800-luvun musiikista kukkeimmillaan. \nRichard Strauss kamppaili nuorena miehenä pianolle ja orkesterille säveltämänsä teoksen\, Scherzo d-mollissa\, kanssa. Teos todettiin teknisesti liian haastavaksi ja monimutkaiseksi\, ja Strauss ohjasi tarmonsa muualle. Esiteltyään teoksen pianovirtuoosi Eugen d’Albertille\, tämä ehdotti siihen muutoksia ja muokkauksen jälkeen teos sai myös uuden nimen\, Burleski. Ajan myötä sävellyksestä tuli Straussin suosituimpia sävellyksiä\, joka kuului myös hänen omiin suosikkeihinsa tuotannossaan. Unkarilaisen huippupianistin József Balogin taituruus pääsee loistamaan tämän teknisesti haastavan\, mutta hurmaavan teoksen parissa. \nRobert Schumannin Sinfonia nro. 3 ”Reiniläinen” sai innoituksensa säveltäjän Reininmaalle tekemän matkan jälkeen. Alueen luonto ja erityisesti Kölnin katedraali tekivät vaikutuksen romantikkosäveltäjään ja niinpä Schumann sävelsi varsin lyhyessä ajassa uuden sinfoniansa suuren inspiraation vallassa. Viisiosainen teos on romanttista orkesterisointia vaikuttavimmillaan ja värikkäimmillään\, jossa on myös Beethovenin vaikutus vahvasti kuultavissa. \nTunnelmallisen ohjelman täydentää Antonín Dvořákin Legendat -sarjan neljä ensimmäistä osaa\, joissa liikutaan syvällisen mietiskelevissä tunnelmissa rikkaan orkestroinnin sävyttämänä. \nLIPUT (Mikaelin konsertti): 30 € / 27 € / 12 €\nHINTA S-ETUKORTILLA: 27 € / 25 € / 10 € \nTapahtumasta ja sen lipunmyynnistä vastaa Mikkelin kaupunginorkesteri\, yhteystiedot täältä. \nJärjestäjä: Mikkelin kaupunginorkesteri \n 
URL:https://mikaeli.fi/event/mikkelin-kaupunginorkesteri-saimaa-sinfonietta-reinilaisittain/
CATEGORIES:Musiikki,Tapahtuma
END:VEVENT
BEGIN:VEVENT
DTSTART;TZID=Europe/Helsinki:20230923T140000
DTEND;TZID=Europe/Helsinki:20230923T170000
DTSTAMP:20260419T145957
CREATED:20230921T112009Z
LAST-MODIFIED:20230921T112009Z
UID:3657-1695477600-1695488400@mikaeli.fi
SUMMARY:Design Market Mikkeli 23.-24.9.2023
DESCRIPTION:Design Market Mikkeli 23.-24.9.2023 Mikaelissa\nSuosittu kotimaisen designin myyntitapahtuma Design Market Mikkeli järjestetään la-su 23-24.9.23. Tapahtumassa on esillä kotimaisen muotoilun vakiintuneita brändejä sekä joukko uusia tulokkaita. Myyntitapahtumaan yleisöllä on vapaa pääsy. \nOvet ovat avoinna la 14-21 ja su 10-16 \nLue lisää tapahtumasta täältä. \nKonsertti\, dinner ja brunssi osana tapahtumaa\nTänä vuonna meillä on hieno kokonaisuus yhteistyössä konsertti- ja tapahtumatalo Mikaelin ja Serviinin kanssa. Ovet aukeavat lauantaina klo 14.00 ja osana tapahtumaa Konserttitalo Mikaelissa esiintyy yksi Suomen tuoreista eturivin artisteista: Viivi! Konsertti on klo 18\, Mikaelin ravintola on avoinna koko tapahtuman ajan ja tortillabuffet on tarjolla la klo 16-20.30. Ovet sulkeutuvat klo 21.00. Sunnuntaina Design Market on avoinna klo 10-16. Mikaelin ravintolassa on tarjolla brunssi ja livemusiikkia. \nLauantai\nTortillabuffet\nklo 16-20.30 \nHerkullinen ja runsas tortillabufee\nSaatavilla myös gluteeniton ja kasvisversio.\nMenun sisältö saattaa vaihdella saatavuuden mukaan.\nHinta paikanpäällä ostettuna 24\,50 €. \nMenu\nVärikkäitä punajuuri- ja porkkanatortillalettuja\nVehnätortillalettuja\nGluteenitttomia tortillalettuja \nGuacamolea\nCreme fraichea\nSalsaa\nColeslawta\nRapeaa salaattia\nPikkelöityä punasipulia\nTomaattia\nJalapenoja\nKurkkua\nTacoja \nLämpimänä\nCajun paahdettua kanaa L\,G\nMustapapu- paprikapaistosta L\,G\nMausteista nyhtöpossua  L\,G \nSunnuntai\nBrunssi\nKlo 11-14 \nRunsas sunnuntaibrunssi nautittavaksi desing markettiin tutustumisen yhteydessä.\nHinta 16\,00 \nBrunssi\nRapeita salaatteja ja kurkkua M\, G\nCaesar- kastiketta L\, G\nTalon salaatinkastiketta M\, G\nPikkelöityä punasipulia M\, G\nMini luumutomatteja M\, G\nHedelmiä M\, G\nLeipäkrutonkeja M\nMarinoituja kauden kasviksia M\, G\nTalon loimulohta ja creme fraiche- kastiketta L\, G\nKotimaisia juustoja ja tyrni- omenahilloa L\nLeikkeleitä M\, G\nRanskalaista kinkkupiirasta – Quiche Lorraine L\nMarjasmoothie L\, G\nVihersmoothie M\, G \nLämpimät\nVuohenjuusto- perunamunakasta VL\, G\nMaalaismakkaroita L\, G \nTalon leipää L\nMaustettua tuorejuustoa L\, G \nJälkiruoka lajitelma
URL:https://mikaeli.fi/event/design-market-mikkeli-23-24-9-2023/
CATEGORIES:Tapahtuma,Viihde
END:VEVENT
BEGIN:VEVENT
DTSTART;TZID=Europe/Helsinki:20230923T180000
DTEND;TZID=Europe/Helsinki:20230923T180000
DTSTAMP:20260419T145957
CREATED:20230505T120115Z
LAST-MODIFIED:20230921T105926Z
UID:3224-1695492000-1695492000@mikaeli.fi
SUMMARY:VIIVI | myynnissä myös show&dinner -liput
DESCRIPTION:VIIVI on 2020 debytoinut artisti\, joka teki läpimurron vuonna 2021. Emma Gaalassa Vuoden tulokkaana palkittu tähti aloitti albumikiertueensa kesällä 2022 esiintyen valtaville yleisöille Suomen suurimmilla festivaaleilla. \nViime vuoden maaliskuussa julkaistu\, ennätyksiä rikkonut ja platinaa striimannut debyyttilevy Parisuhdehautausmaa nousi Suomen virallisen albumilistan ykköseksi ja toi artistille yhteensä viisi Emma-ehdokkuutta. Läpimurtoartistin kappaleet USA\, Lääke ja Hyväuskoinen ovat rikkoneet kulta- ja platinarajoja sekä viihtyneet lukuisia viikkoja radioiden soitetuimpien biisien joukossa. Viime lokakuussa VIIVI julkaisi dueton Robin Packalenin kanssa ja Ihana kipu teki suomalaista musiikkihistoriaa heti julkaisupäivänään rikkoen tämän vuosikymmenen päiväkohtaisen striimiennätyksen keräten yli 341 000 kuuntelukertaa Spotifyssa yhden vuorokauden aikana. \nKonsertin kesto arviolta noin 45-60min\, ei väliaikaa. \nSamaan aikaan Mikaelissa Design Market. Suositussa designin myyntitapahtumassa on esillä kotimaisen muotoilun vakiintuneita brändejä sekä joukko uusia tulokkaita. Myyntitapahtumaan  on yleisöllä vapaa pääsy ja se alkaa lauantaina 23.9. klo 14 ja kestää vielä konsertin jälkeenkin klo 21 saakka sekä seuraavana päivänä klo 10-16.\nLue lisää täältä! \nLIPUT\nPeruslippu 24\,50€\nShow&dinner 47\,50 € \nTortillabufee à la Mikaeli\nLauantaina klo 16-20.30\nHerkullinen ja runsas tortillabufee\nSaatavilla myös gluteeniton ja kasvisversio.\nMenun sisältö saattaa vaihdella saatavuuden mukaan. \nMenu\nVärikkäitä punajuuri- ja porkkanatortillalettuja\nVehnätortillalettuja\nGluteenitttomia tortillalettuja \nGuacamolea\nCreme fraichea\nSalsaa\nColeslawta\nRapeaa salaattia\nPikkelöityä punasipulia\nTomaattia\nJalapenoja\nKurkkua\nTacoja \nLämpimänä\nCajun paahdettua kanaa L\,G\nMustapapu- paprikapaistosta L\,G\nMausteista nyhtöpossua  L\,G \nShow&dinner -lippu sisältää noutopöytäbufeen\, joka on tarjolla La 23.9.2023 klo 16-20.30 välisenä aikana.\nLippu ei sisällä pöytävarausta ravintolaan.\nVoitte nauttia bufeen teille sopivaan aikaan klo 16-20.30 välillä.\nRavintola palvelee myös raikkaiden virvoikkeiden kera. \nRuokailun hinta (sisältyy Show&dinner -lippuun)\nPeruslipun kanssa 22\,00 € (myynnissä 16.6.-22.9.) \nShow&dinner liput ovat myynnissä ennakkoon perjantaihin 22.9. saakka.\nTapahtumapäivänä lauantaina 23.9. ruokailun voi ostaa paikan päällä ravintolasta hintaan 24\,50 €. \nPidätämme oikeudet muutoksiin.
URL:https://mikaeli.fi/event/viivi-myynnissa-myos-showdinner-liput/
CATEGORIES:Musiikki,Tapahtuma
END:VEVENT
BEGIN:VEVENT
DTSTART;TZID=Europe/Helsinki:20230924T100000
DTEND;TZID=Europe/Helsinki:20230924T170000
DTSTAMP:20260419T145957
CREATED:20230921T112440Z
LAST-MODIFIED:20230921T112440Z
UID:3666-1695549600-1695574800@mikaeli.fi
SUMMARY:Design Market Mikkeli 23.-24.9.2023
DESCRIPTION:Design Market Mikkeli 23.-24.9.2023 Mikaelissa\nSuosittu kotimaisen designin myyntitapahtuma Design Market Mikkeli järjestetään la-su 23-24.9.23. Tapahtumassa on esillä kotimaisen muotoilun vakiintuneita brändejä sekä joukko uusia tulokkaita. Myyntitapahtumaan yleisöllä on vapaa pääsy. \nOvet ovat avoinna la 14-21 ja su 10-16 \nLue lisää tapahtumasta täältä. \nKonsertti\, dinner ja brunssi osana tapahtumaa\nTänä vuonna meillä on hieno kokonaisuus yhteistyössä konsertti- ja tapahtumatalo Mikaelin ja Serviinin kanssa. Ovet aukeavat lauantaina klo 14.00 ja osana tapahtumaa Konserttitalo Mikaelissa esiintyy yksi Suomen tuoreista eturivin artisteista: Viivi! Konsertti on klo 18\, Mikaelin ravintola on avoinna koko tapahtuman ajan ja tortillabuffet on tarjolla la klo 16-20.30. Ovet sulkeutuvat klo 21.00. Sunnuntaina Design Market on avoinna klo 10-16. Mikaelin ravintolassa on tarjolla brunssi ja livemusiikkia. \nLauantai\nTortillabuffet\nklo 16-20.30 \nHerkullinen ja runsas tortillabufee\nSaatavilla myös gluteeniton ja kasvisversio.\nMenun sisältö saattaa vaihdella saatavuuden mukaan.\nHinta paikanpäällä ostettuna 24\,50 €. \nMenu\nVärikkäitä punajuuri- ja porkkanatortillalettuja\nVehnätortillalettuja\nGluteenitttomia tortillalettuja \nGuacamolea\nCreme fraichea\nSalsaa\nColeslawta\nRapeaa salaattia\nPikkelöityä punasipulia\nTomaattia\nJalapenoja\nKurkkua\nTacoja \nLämpimänä\nCajun paahdettua kanaa L\,G\nMustapapu- paprikapaistosta L\,G\nMausteista nyhtöpossua  L\,G \nSunnuntai\nBrunssi\nKlo 11-14 \nRunsas sunnuntaibrunssi nautittavaksi desing markettiin tutustumisen yhteydessä.\nHinta 16\,00 \nBrunssi\nRapeita salaatteja ja kurkkua M\, G\nCaesar- kastiketta L\, G\nTalon salaatinkastiketta M\, G\nPikkelöityä punasipulia M\, G\nMini luumutomatteja M\, G\nHedelmiä M\, G\nLeipäkrutonkeja M\nMarinoituja kauden kasviksia M\, G\nTalon loimulohta ja creme fraiche- kastiketta L\, G\nKotimaisia juustoja ja tyrni- omenahilloa L\nLeikkeleitä M\, G\nRanskalaista kinkkupiirasta – Quiche Lorraine L\nMarjasmoothie L\, G\nVihersmoothie M\, G \nLämpimät\nVuohenjuusto- perunamunakasta VL\, G\nMaalaismakkaroita L\, G \nTalon leipää L\nMaustettua tuorejuustoa L\, G \nJälkiruoka lajitelma
URL:https://mikaeli.fi/event/design-market-mikkeli-23-24-9-2023-2/
CATEGORIES:Tapahtuma,Viihde
END:VEVENT
BEGIN:VEVENT
DTSTART;TZID=Europe/Helsinki:20230928T180000
DTEND;TZID=Europe/Helsinki:20230928T180000
DTSTAMP:20260419T145957
CREATED:20230612T114454Z
LAST-MODIFIED:20230825T120537Z
UID:3402-1695924000-1695924000@mikaeli.fi
SUMMARY:Mikkelin kaupunginorkesteri: PEER GYNT
DESCRIPTION:Erkki Lasonpalo\, kapellimestari\nLilja Haatainen\, viulu \nGiuseppe Verdi: La forza del destino -alkusoitto\nMax Bruch: Skottilainen fantasia viululle ja orkesterille op. 46\nEdvard Grieg: Peer Gynt sarjat nro 1 & 2 \nSyksyn keskellä Mikkelissä on tarjolla upea spektaakkeli\, kun kaupunginorkesteri yhdistää voimansa Sinfoniaorkesteri Vivon kanssa päätä huimaavan ohjelman parissa. \nVuonna 1874 norjalainen näytelmäkirjailija Henrik Ibsen tilasi maanmieheltään\, säveltäjä Edvard Griegiltä musiikin Peer Gynt -näytelmäänsä. Loppu on historiaa: sävellys sisältää tunnetuimpia melodioita klassisen musiikin maailmassa. Säveltäjä muokkasi myöhemmin näyttämömusiikin pohjalta kaksi orkesterisarjaa\, jotka ovat saaneet sittemmin huiman suosion. Tarjolla on hurjaa dramatiikkaa\, mutta myös elegistä lyyrisyyttä\, siis kansallisromantiikkaa parhaimmillaan. \nViulisti Lilja Haatainen on hämmästyttänyt musiikkimaailmaa viime vuosina. Vasta 12-vuotiaalla viulun huippulahjakkuudella on jo useampi viulukilpailuvoitto ja esiintymisiä ammattiorkesterien solistina niin kotimaassa kuin ulkomaillakin. Nyt Haatainen tarttuu Max Bruchin skotlantilaisista kansanlauluista ammentavaan Skottilaiseen fantasiaan viululle ja orkesterille. \nLisätään alkupalaksi vielä Giuseppe Verdin alkusoitto La forza del destino -oopperasta\, niin luvassa on takuulla ikimuistoinen konsertti-ilta. Vivon taiteellinen johtaja ja Mikkelin kaupunginorkesterin pääkapellimestari Erkki Lasonpalo luotsaa joukkojaan tässä dramaattisessa ohjelmassa. \nLIPUT: 30 € / 27 € / 12 €\nTapahtumasta ja sen lipunmyynnistä vastaa Mikkelin kaupunginorkesteri\, yhteystiedot täältä. \nJärjestäjä: Mikkelin kaupunginorkesteri yhteistyössä Sinfoniaorkesteri Vivon kanssa \n 
URL:https://mikaeli.fi/event/mikkelin-kaupunginorkesteri-peer-gynt/
CATEGORIES:Musiikki,Tapahtuma
END:VEVENT
BEGIN:VEVENT
DTSTART;TZID=Europe/Helsinki:20230930T190000
DTEND;TZID=Europe/Helsinki:20230930T190000
DTSTAMP:20260419T145957
CREATED:20230428T090529Z
LAST-MODIFIED:20230428T093055Z
UID:3211-1696100400-1696100400@mikaeli.fi
SUMMARY:Suvi Teräsniska – Särkyneiden sydänten tie
DESCRIPTION:SUVI TERÄSNISKA LÄHTEE SYKSYLLÄKATTAVALLE KONSERTTISALIKIERTUEELLE \nViime syksynä loppuunmyydyllä Ihmisen poika -kiertueellaan hurmannut\, upea SuviTeräsniska lähtee syksyllä kattavalle konserttisalikiertueelle. Särkyneiden sydänten tie nimellä kulkeva kiertue alkaa 29. syyskuuta Varkaudesta ja päättyy 5. Marraskuuta Säkylään. Liput kiertueen konsertteihin ovat nyt myynnissä. Katso tarkemmat paikkakuntakohtaiset konsertti- ja lipunmyyntitiedot osoitteesta: warnermusiclive.fi/suviterasniska \n-Olen laulanut rakkaudesta ja ihmissuhteista läpi urani. Nyt halusin tehdä illan\, jonka aikana hoidetaan särkyneitä sydämiä ja lauletaan tarinoita rakastamisen vaikeudesta. Esitän konsertissa omia tuttuja biisejä vuosien varrelta. Lisäksi kuullaan julkaisemattomia lauluja tulevalta albumilta. Mausteena pari minulle tärkeää lainabiisiä oman elämäni soundtrackilta. Lämpimästi tervetuloa konserttiin\, Suvi kuvailee tulevaa kiertuetta. \nLiput alk. 39\,50€ \nKesto noin 2h sisältäen väliajan \nKatso tarkemmat paikkakuntakohtaiset konsertti- ja lipunmyyntitiedot osoitteesta:\nwww.warnermusiclive.fi/suviterasniska \nJärj. Warner Music Live
URL:https://mikaeli.fi/event/suvi-terasniska-sarkyneiden-sydanten-tie/
CATEGORIES:Musiikki,Tapahtuma
END:VEVENT
END:VCALENDAR